Workbook

Sheet Diver 1 Name
A1: OFFICIAL ENTRY FORM
A2: Order of Diving | C2: Name | J2: WOMEN | L2: MEN
A3: School/Team | E3: vs. | J3: =IF($H$5="Women","X","") | L3: =IF($H$5="Men","X","")
A4: Meet Location | F4: Event | G4: 1 Meter
A5: Meet Date | D5: Judges | G5: Men's Event or Women's Event
H6: =IF(E5="2 Judges","","")
E8: JUDGES' SCORES
A9: Order | B9: Dive | D9: Degree of Difficulty | E9: 1 | F9: 2 | G9: 3 | H9: 4 | I9: 5 | J9: 6 | K9: 7 | L9: Judges' Total | M9: AWARD
A10: 1 | D10: =IFERROR(IF(B12="3 Meter",_xlfn.XLOOKUP(B10,'DD Table'!$A$3:$A$115,'DD Table'!$C$3:$C$115),IF(A12="Vol",IF(_xlfn.XLOOKUP(B10,'DD Table'!$A$3:$A$115,'DD Table'!$B$3:$B$115)>=1.8,1.8,_xlfn.XLOOKUP(B10,'DD Table'!$A$3:$A$115,'DD Table'!$B$3:$B$115)),_xlfn.XLOOKUP(B10,'DD Table'!$A$3:$A$115,'DD Table'!$B$3:$B$115))),"") | L10: =IF(D10="","",IF(E10="","",SUM(E10:G11))) | M10: =IF(D10="","",IF(L10="","",SUM(L10*D10)))
B11: =IFERROR(IF(B10="","",_xlfn.XLOOKUP(B10,'DD Table'!$A$3:$A$115,'DD Table'!$D$3:$D$115)),"Dive not found")
A12: Opt | B12: =$G$4 -> 1 Meter
A13: 2 | D13: =IFERROR(IF(B15="3 Meter",_xlfn.XLOOKUP(B13,'DD Table'!$A$3:$A$115,'DD Table'!$C$3:$C$115),IF(A15="Vol",IF(_xlfn.XLOOKUP(B13,'DD Table'!$A$3:$A$115,'DD Table'!$B$3:$B$115)>=1.8,1.8,_xlfn.XLOOKUP(B13,'DD Table'!$A$3:$A$115,'DD Table'!$B$3:$B$115)),_xlfn.XLOOKUP(B13,'DD Table'!$A$3:$A$115,'DD Table'!$B$3:$B$115))),"") | L13: =IF(D13="","",IF(E13="","",SUM(E13:G14))) | M13: =IF(D13="","",IF(L13="","",IF(L13=0,"0.0",SUM(L13*D13))))
B14: =IFERROR(IF(B13="","",_xlfn.XLOOKUP(B13,'DD Table'!$A$3:$A$115,'DD Table'!$D$3:$D$115)),"Dive not found") | M14: =IF(M13="","",SUM(M13+M10))
A15: Opt | B15: =$G$4 -> 1 Meter
A16: 3 | D16: =IFERROR(IF(B18="3 Meter",_xlfn.XLOOKUP(B16,'DD Table'!$A$3:$A$115,'DD Table'!$C$3:$C$115),IF(A18="Vol",IF(_xlfn.XLOOKUP(B16,'DD Table'!$A$3:$A$115,'DD Table'!$B$3:$B$115)>=1.8,1.8,_xlfn.XLOOKUP(B16,'DD Table'!$A$3:$A$115,'DD Table'!$B$3:$B$115)),_xlfn.XLOOKUP(B16,'DD Table'!$A$3:$A$115,'DD Table'!$B$3:$B$115))),"") | L16: =IF(D16="","",IF(E16="","",SUM(E16:G17))) | M16: =IF(D16="","",IF(L16="","",IF(L16=0,"0.0",SUM(L16*D16))))
B17: =IFERROR(IF(B16="","",_xlfn.XLOOKUP(B16,'DD Table'!$A$3:$A$115,'DD Table'!$D$3:$D$115)),"Dive not found") | M17: =IF(M16="","",SUM(M16+M14))
A18: Opt | B18: =$G$4 -> 1 Meter
A19: 4 | D19: =IFERROR(IF(B21="3 Meter",_xlfn.XLOOKUP(B19,'DD Table'!$A$3:$A$115,'DD Table'!$C$3:$C$115),IF(A21="Vol",IF(_xlfn.XLOOKUP(B19,'DD Table'!$A$3:$A$115,'DD Table'!$B$3:$B$115)>=1.8,1.8,_xlfn.XLOOKUP(B19,'DD Table'!$A$3:$A$115,'DD Table'!$B$3:$B$115)),_xlfn.XLOOKUP(B19,'DD Table'!$A$3:$A$115,'DD Table'!$B$3:$B$115))),"") | L19: =IF(D19="","",IF(E19="","",SUM(E19:G20))) | M19: =IF(D19="","",IF(L19="","",IF(L19=0,"0.0",SUM(L19*D19))))
B20: =IFERROR(IF(B19="","",_xlfn.XLOOKUP(B19,'DD Table'!$A$3:$A$115,'DD Table'!$D$3:$D$115)),"Dive not found") | M20: =IF(M19="","",SUM(M19+M17))
A21: Opt | B21: =$G$4 -> 1 Meter
A22: 5 | D22: =IFERROR(IF(B24="3 Meter",_xlfn.XLOOKUP(B22,'DD Table'!$A$3:$A$115,'DD Table'!$C$3:$C$115),IF(A24="Vol",IF(_xlfn.XLOOKUP(B22,'DD Table'!$A$3:$A$115,'DD Table'!$B$3:$B$115)>=1.8,1.8,_xlfn.XLOOKUP(B22,'DD Table'!$A$3:$A$115,'DD Table'!$B$3:$B$115)),_xlfn.XLOOKUP(B22,'DD Table'!$A$3:$A$115,'DD Table'!$B$3:$B$115))),"") | L22: =IF(D22="","",IF(E22="","",SUM(E22:G23))) | M22: =IF(D22="","",IF(L22="","",IF(L22=0,"0.0",SUM(L22*D22))))
B23: =IFERROR(IF(B22="","",_xlfn.XLOOKUP(B22,'DD Table'!$A$3:$A$115,'DD Table'!$D$3:$D$115)),"Dive not found") | M23: =IF(M22="","",SUM(M22+M20))
A24: Opt | B24: =$G$4 -> 1 Meter
A25: 6 | D25: =IFERROR(IF(B27="3 Meter",_xlfn.XLOOKUP(B25,'DD Table'!$A$3:$A$115,'DD Table'!$C$3:$C$115),IF(A27="Vol",IF(_xlfn.XLOOKUP(B25,'DD Table'!$A$3:$A$115,'DD Table'!$B$3:$B$115)>=1.8,1.8,_xlfn.XLOOKUP(B25,'DD Table'!$A$3:$A$115,'DD Table'!$B$3:$B$115)),_xlfn.XLOOKUP(B25,'DD Table'!$A$3:$A$115,'DD Table'!$B$3:$B$115))),"") | L25: =IF(D25="","",IF(E25="","",SUM(E25:G26))) | M25: =IF(D25="","",IF(L25="","",IF(L25=0,"0.0",SUM(L25*D25))))
B26: =IFERROR(IF(B25="","",_xlfn.XLOOKUP(B25,'DD Table'!$A$3:$A$115,'DD Table'!$D$3:$D$115)),"Dive not found") | M26: =IF(M25="","",SUM(M25+M23))
A27: Opt | B27: =$G$4 -> 1 Meter
C28: Total DD: | D28: =IF(SUM(D10:D27)=0,"",(SUM(D10:D27))) | E28: Enter '0' for failed dives - do not leave blank | M28: Total Points
M29: =IFERROR(IF(E5="2 Judges",M26*1.5,M26),"")
M30: Place
B32: Diver Signature | F32: Coach Signature | J32: Diving Referee Signature

Sheet Blank for Printing - 3mt
A1: OFFICIAL ENTRY FORM
A2: Order of Diving | C2: Name | J2: WOMEN | L2: MEN
A3: School/Team | E3: vs. | J3: =IF($H$5="Women","X","") | L3: =IF($H$5="Men","X","")
A4: Meet Location | F4: Event | G4: 3 Meter
A5: Meet Date | D5: Judges | G5: Men's Event or Women's Event
H6: =IF(E5="2 Judges","","")
E8: JUDGES' SCORES
A9: Order | B9: Dive | D9: Degree of Difficulty | E9: 1 | F9: 2 | G9: 3 | H9: 4 | I9: 5 | J9: 6 | K9: 7 | L9: Judges' Total | M9: AWARD
A10: 1 | D10: =IFERROR(IF(B12="3 Meter",_xlfn.XLOOKUP(B10,'DD Table'!$A$3:$A$115,'DD Table'!$C$3:$C$115),IF(A12="Vol",IF(_xlfn.XLOOKUP(B10,'DD Table'!$A$3:$A$115,'DD Table'!$B$3:$B$115)>=1.8,1.8,_xlfn.XLOOKUP(B10,'DD Table'!$A$3:$A$115,'DD Table'!$B$3:$B$115)),_xlfn.XLOOKUP(B10,'DD Table'!$A$3:$A$115,'DD Table'!$B$3:$B$115))),"") | L10: =IF(D10="","",IF(E10="","",SUM(E10:G11))) | M10: =IF(D10="","",IF(L10="","",SUM(L10*D10)))
B11: =IFERROR(IF(B10="","",_xlfn.XLOOKUP(B10,'DD Table'!$A$3:$A$115,'DD Table'!$D$3:$D$115)),"Dive not found")
A12: Opt | B12: =$G$4 -> 3 Meter
A13: 2 | D13: =IFERROR(IF(B15="3 Meter",_xlfn.XLOOKUP(B13,'DD Table'!$A$3:$A$115,'DD Table'!$C$3:$C$115),IF(A15="Vol",IF(_xlfn.XLOOKUP(B13,'DD Table'!$A$3:$A$115,'DD Table'!$B$3:$B$115)>=1.8,1.8,_xlfn.XLOOKUP(B13,'DD Table'!$A$3:$A$115,'DD Table'!$B$3:$B$115)),_xlfn.XLOOKUP(B13,'DD Table'!$A$3:$A$115,'DD Table'!$B$3:$B$115))),"") | L13: =IF(D13="","",IF(E13="","",SUM(E13:G14))) | M13: =IF(D13="","",IF(L13="","",IF(L13=0,"0.0",SUM(L13*D13))))
B14: =IFERROR(IF(B13="","",_xlfn.XLOOKUP(B13,'DD Table'!$A$3:$A$115,'DD Table'!$D$3:$D$115)),"Dive not found") | M14: =IF(M13="","",SUM(M13+M10))
A15: Opt | B15: =$G$4 -> 3 Meter
A16: 3 | D16: =IFERROR(IF(B18="3 Meter",_xlfn.XLOOKUP(B16,'DD Table'!$A$3:$A$115,'DD Table'!$C$3:$C$115),IF(A18="Vol",IF(_xlfn.XLOOKUP(B16,'DD Table'!$A$3:$A$115,'DD Table'!$B$3:$B$115)>=1.8,1.8,_xlfn.XLOOKUP(B16,'DD Table'!$A$3:$A$115,'DD Table'!$B$3:$B$115)),_xlfn.XLOOKUP(B16,'DD Table'!$A$3:$A$115,'DD Table'!$B$3:$B$115))),"") | L16: =IF(D16="","",IF(E16="","",SUM(E16:G17))) | M16: =IF(D16="","",IF(L16="","",IF(L16=0,"0.0",SUM(L16*D16))))
B17: =IFERROR(IF(B16="","",_xlfn.XLOOKUP(B16,'DD Table'!$A$3:$A$115,'DD Table'!$D$3:$D$115)),"Dive not found") | M17: =IF(M16="","",SUM(M16+M14))
A18: Opt | B18: =$G$4 -> 3 Meter
A19: 4 | D19: =IFERROR(IF(B21="3 Meter",_xlfn.XLOOKUP(B19,'DD Table'!$A$3:$A$115,'DD Table'!$C$3:$C$115),IF(A21="Vol",IF(_xlfn.XLOOKUP(B19,'DD Table'!$A$3:$A$115,'DD Table'!$B$3:$B$115)>=1.8,1.8,_xlfn.XLOOKUP(B19,'DD Table'!$A$3:$A$115,'DD Table'!$B$3:$B$115)),_xlfn.XLOOKUP(B19,'DD Table'!$A$3:$A$115,'DD Table'!$B$3:$B$115))),"") | L19: =IF(D19="","",IF(E19="","",SUM(E19:G20))) | M19: =IF(D19="","",IF(L19="","",IF(L19=0,"0.0",SUM(L19*D19))))
B20: =IFERROR(IF(B19="","",_xlfn.XLOOKUP(B19,'DD Table'!$A$3:$A$115,'DD Table'!$D$3:$D$115)),"Dive not found") | M20: =IF(M19="","",SUM(M19+M17))
A21: Opt | B21: =$G$4 -> 3 Meter
A22: 5 | D22: =IFERROR(IF(B24="3 Meter",_xlfn.XLOOKUP(B22,'DD Table'!$A$3:$A$115,'DD Table'!$C$3:$C$115),IF(A24="Vol",IF(_xlfn.XLOOKUP(B22,'DD Table'!$A$3:$A$115,'DD Table'!$B$3:$B$115)>=1.8,1.8,_xlfn.XLOOKUP(B22,'DD Table'!$A$3:$A$115,'DD Table'!$B$3:$B$115)),_xlfn.XLOOKUP(B22,'DD Table'!$A$3:$A$115,'DD Table'!$B$3:$B$115))),"") | L22: =IF(D22="","",IF(E22="","",SUM(E22:G23))) | M22: =IF(D22="","",IF(L22="","",IF(L22=0,"0.0",SUM(L22*D22))))
B23: =IFERROR(IF(B22="","",_xlfn.XLOOKUP(B22,'DD Table'!$A$3:$A$115,'DD Table'!$D$3:$D$115)),"Dive not found") | M23: =IF(M22="","",SUM(M22+M20))
A24: Opt | B24: =$G$4 -> 3 Meter
A25: 6 | D25: =IFERROR(IF(B27="3 Meter",_xlfn.XLOOKUP(B25,'DD Table'!$A$3:$A$115,'DD Table'!$C$3:$C$115),IF(A27="Vol",IF(_xlfn.XLOOKUP(B25,'DD Table'!$A$3:$A$115,'DD Table'!$B$3:$B$115)>=1.8,1.8,_xlfn.XLOOKUP(B25,'DD Table'!$A$3:$A$115,'DD Table'!$B$3:$B$115)),_xlfn.XLOOKUP(B25,'DD Table'!$A$3:$A$115,'DD Table'!$B$3:$B$115))),"") | L25: =IF(D25="","",IF(E25="","",SUM(E25:G26))) | M25: =IF(D25="","",IF(L25="","",IF(L25=0,"0.0",SUM(L25*D25))))
B26: =IFERROR(IF(B25="","",_xlfn.XLOOKUP(B25,'DD Table'!$A$3:$A$115,'DD Table'!$D$3:$D$115)),"Dive not found") | M26: =IF(M25="","",SUM(M25+M23))
A27: Opt | B27: =$G$4 -> 3 Meter
C28: Total DD: | D28: =SUM(D10:D27) -> 0 | E28: Enter '0' for failed dives - do not leave blank | M28: Total Points
M29: =IFERROR(IF(E5="2 Judges",M26*1.5,M26),"")
M30: Place
B32: Diver Signature | F32: Coach Signature | J32: Diving Referee Signature

Sheet DD Table
A1: High School Diving Tables - Degree of Difficulties
A2: Dive | B2: 1M | C2: 3M | D2: Description
A3: 101A | B3: 1.4 | C3: 1.6 | D3: Forward Dive Straight
A4: 101B | B4: 1.3 | C4: 1.5 | D4: Forward Dive Pike
A5: 101C | B5: 1.2 | C5: 1.4 | D5: Forward Dive Tuck
A6: 102A | B6: 1.6 | C6: 1.7 | D6: Forward Somersault Straight
A7: 102B | B7: 1.5 | C7: 1.6 | D7: Forward Somersault Pike
A8: 102C | B8: 1.4 | C8: 1.5 | D8: Forward Somersault Tuck
A9: 103A | B9: 2 | C9: 1.9 | D9: Forward 1-1/2 Somersault Straight
A10: 103B | B10: 1.7 | C10: 1.6 | D10: Forward 1-1/2 Somersault Pike
A11: 103C | B11: 1.6 | C11: 1.5 | D11: Forward 1-1/2 Somersault Tuck
A12: 104A | B12: 2.6 | C12: 2.4 | D12: Forward Double Somersault Straight
A13: 104B | B13: 2.3 | C13: 2.1 | D13: Forward Double Somersault Pike
A14: 104C | B14: 2.2 | C14: 2 | D14: Forward Double Somersault Tuck
... A115: 5434D | B115: 3.1 | C115: 2.8 | D115: Inward 1-1/2 Som. 2 Twists Free

Sheet Validation
A1: Vol | C1: 0
A2: Opt | C2: 0.5
C3: 1
C4: 1.5
C5: 2
C6: 2.5
C7: 3
C8: 3.5
C9: 4
C10: 4.5
C11: 5
C12: 5.5
C13: 6
C14: 6.5
... C21: 10
