{"text_format":"1","workbook":"xlsx","n_sheets":7,"sheets":["Scratch Sheet","MiteGamesMatrix","SquirtGamesMatrix","PeeWeeGamesMatrix","BantamGamesMatrix","Combined V3","Teams"],"not_rendered":{"charts":0,"images":20,"macros":1,"external_links":1,"defined_names":35,"comments":0,"pivot_tables":0},"unopened":[],"bounds":{"document_bytes":16777216,"sheet_cells":100000,"rows_first":2000,"rows_last":500,"rows_between":2000,"halvings":0,"cell_chars":16384,"cell_head_chars":4096},"cells_cut":0,"cells_raw":0,"read":"whole","date_system":"1900"}

{"sheet":"Scratch Sheet","index":0,"n_rows":615,"n_cols":13,"rows_kept":615,"cut":false,"hidden":true,"merged":[[4,1,7,1],[9,1,10,1],[12,1,13,1]]}
[]
["SumKrach","KRACH Matrix",{"$f":"C3","v":0.73677581863979857},null,null,{"$f":"C2*F3","v":2.0188002524790734},{"$f":"F2*G3","v":0.7382253482980522},null,null,{"$f":"G2*J3","v":0.11387094682987078}]
[null,0,0.73677581863979857,0,0,2.7400468384074941,0.36567528035104829,0,0,0.15424957581366652]
[null,null,"6:4",null,null,"6:0","2:2",null,null,"5:9"]
[null,"Method 1 Additive",1.5,null,null,6,1,null,null,{"$f":"5/9","v":0.55555555555555558}]
[null,null,1.9945937865236809,null,null,{"$f":"$C$6","v":1.9945937865236809},{"$f":"$C$6","v":1.9945937865236809},null,null,{"$f":"$C$6","v":1.9945937865236809}]
[null,null,0.76923076923076927,{"$f":"C6/C7","v":2.592971922480785},{"$f":"F6/F7","v":2.1608099354006542},0.92307692307692313,1.468,{"$f":"G6/G7","v":1.35871511343575},null,2.335,{"$f":"J6/J7","v":0.85421575439986341}]
[null,null,{"$f":"C5/(C6+C7)","v":0.54272620050245557},null,null,{"$f":"F5/(F6+F7)","v":2.0564349432089721},{"$f":"G5/(G6+G7)","v":0.28880084169617942},null,null,{"$f":"J5/(J6+J7)","v":0.1283158612442537}]
[]
[null,"Divide"]
[null,null,{"$f":"C5/(C6/C7)","v":0.57848678845889645},null,null,{"$f":"F5/(F6/F7)","v":2.7767365846027032},{"$f":"G5/(G6/G7)","v":0.73598945806330529},null,null,{"$f":"J5/(J6/J7)","v":0.65036912828406668}]
[]
[null,"Divide Non multiplicatively",null,null,null,null,null,null,null,{"$f":"SUM(C14:J14)/4","v":1.185395489852243},{"$f":"J13/J6","v":0.5943042126478465}]
[null,null,{"$f":"C11","v":0.57848678845889645},null,null,{"$f":"F11","v":2.7767365846027032},{"$f":"G11","v":0.73598945806330529},null,null,{"$f":"J11","v":0.65036912828406668}]
[]
[]
[null,null,"Iteration 1"]
[null,null,1.5,null,null,6,1,null,null,0.55555555555555558]
[null,null,1.2666666666666666,null,null,1.2666666666666666,1.2666666666666666,null,null,1.2666666666666666]
[null,null,0.76923076923076927,null,null,0.92307692307692313,1.468,null,null,2.335]
[null,null,0.73677581863979857,null,null,2.7400468384074941,0.36567528035104829,null,null,0.15424957581366652]
[]
[null,null,0.91093117408906887,null,null,3.9830188988509896,4.6161092711946736,null,null,4.7274627843155983,{"$f":"J19/J23","v":0.26793794567121987}]
[null,null,0.91093117408906887,null,null,4.3724696356275308,1.1589473684210527,null,null,1.0241228070175439]
[]
["#202","4:6",null,null,null,null,null,"1:3","4:4","1:0"]
[1.4767498048306407,1.0977777777777775,0,0,0,0,0,0.59190325972660351,1.1818181818181817,3.0354999999999999,0]
[null,{"$f":"4/6","v":0.66666666666666663},null,null,null,null,null,{"$f":"1/3","v":0.33333333333333331},1,1]
[null,0.76923076923076927,null,null,null,null,null,0.76923076923076927,0.76923076923076927,0.76923076923076927]
[null,1.9230769230769229,null,null,null,null,null,1.3659305993690851,0.90909090909090906,2.335]
[null,{"$f":"B28/(B29/B30)","v":1.6666666666666663},null,null,null,null,null,{"$f":"H28/(H29/H30)","v":0.59190325972660351},{"$f":"I28/(I29/I30)","v":1.1818181818181817},{"$f":"J28/(J29/J30)","v":3.0354999999999999}]
[null,null,null,null,null,null,null,null,null,{"$f":"SUM(B31:J31)/4","v":1.6189720270528629},{"$f":"J32/J29","v":2.1046636351687216}]
[null,"A","B","C","D",null,"GF","GA","W","L","T","GF/GA"]
["A",null,4,2,0,{"$f":"SUM(B34:E34)","v":6},{"$f":"F34/3","v":2},{"$f":"B39","v":5},1,2,0,{"$f":"G34/H34","v":0.4},{"$f":"A222","v":4.5652220767955169}]
["B",3,null,1,4,{"$f":"SUM(B35:E35)","v":8},{"$f":"F35/3","v":2.6666666666666665},{"$f":"C39","v":2.3333333333333335},1,1,1,{"$f":"G35/H35","v":1.1428571428571428},{"$f":"A223","v":8.031986627597691}]
["C",3,1,null,6,{"$f":"SUM(B36:E36)","v":10},{"$f":"F36/3","v":3.3333333333333335},{"$f":"D39","v":2},2,0,1,{"$f":"G36/H36","v":1.6666666666666667},{"$f":"A224","v":8.7602686576953737}]
["D",9,2,3,null,{"$f":"SUM(B37:E37)","v":14},{"$f":"F37/3","v":4.666666666666667},{"$f":"E39","v":3.3333333333333335},1,2,null,{"$f":"G37/H37","v":1.4000000000000001},{"$f":"A225","v":8.5070251616427282}]
[null,{"$f":"SUM(B34:B37)","v":15},{"$f":"SUM(C34:C37)","v":7},{"$f":"SUM(D34:D37)","v":6},{"$f":"SUM(E34:E37)","v":10},{"$f":"SUM(F34:F37)","v":38}]
[null,{"$f":"B38/3","v":5},{"$f":"C38/3","v":2.3333333333333335},{"$f":"D38/3","v":2},{"$f":"E38/3","v":3.3333333333333335}]
[]
["GF/GA",{"$f":"L34","v":0.4},{"$f":"L35","v":1.1428571428571428},{"$f":"L36","v":1.6666666666666667},{"$f":"L37","v":1.4000000000000001},"Iteration",1,null,"What to do about shutouts?"]
[{"$f":"L34","v":0.4},null,{"$f":"$A42/C$41","v":0.35000000000000003},{"$f":"$A42/D$41","v":0.24},{"$f":"$A42/E$41","v":0.2857142857142857},null,null,null,"See cell B51"]
[{"$f":"L35","v":1.1428571428571428},{"$f":"$A43/B$41","v":2.8571428571428568},null,{"$f":"$A43/D$41","v":0.68571428571428561},{"$f":"$A43/E$41","v":0.81632653061224481},null,null,null,"Should it be shutout score divided by 2 with a minimum of 1?"]
[{"$f":"L36","v":1.6666666666666667},{"$f":"$A44/B$41","v":4.166666666666667},{"$f":"$A44/C$41","v":1.4583333333333335},null,{"$f":"$A44/E$41","v":1.1904761904761905},null,null,null,"Should it be equal to shutout score -1?  Subject to a cap of 7or 6?"]
[{"$f":"L37","v":1.4000000000000001},{"$f":"$A45/B$41","v":3.5},{"$f":"$A45/C$41","v":1.2250000000000001},{"$f":"$A45/D$41","v":0.84000000000000008},null,null,null,null,"If you play with the value in B37, the rankings change dramatically"]
[]
[null,"Game Differential"]
[null,null,{"$f":"$C$34/$B$35","v":1.3333333333333333},{"$f":"$D$34/$B$36","v":0.66666666666666663},{"$f":"$E$34/$B$37","v":0}]
[null,{"$f":"$B$35/$C$34","v":0.75},null,{"$f":"$D$35/$C$36","v":1},{"$f":"$E$35/$C$37","v":2}]
[null,{"$f":"$B$36/$D$34","v":1.5},{"$f":"$C$36/$D$35","v":1},null,{"$f":"$E$36/$D$37","v":2}]
[null,{"$f":"MIN(5,IF($E$34=0,$B$37-1,$B$37/$E$34))","v":5},{"$f":"$C$37/$E$35","v":0.5},{"$f":"$D$37/$E$36","v":0.5}]
[]
[]
[null,null,{"$f":"C48/C42","v":3.8095238095238089},{"$f":"D48/D42","v":2.7777777777777777},{"$f":"E48/E42","v":0},{"$f":"SUM(B54:E54)","v":6.587301587301587},{"$f":"(F54/3)","v":2.1957671957671958}]
[null,{"$f":"B49/B43","v":0.26250000000000001},null,{"$f":"D49/D43","v":1.4583333333333335},{"$f":"E49/E43","v":2.4500000000000002},{"$f":"SUM(B55:E55)","v":4.1708333333333334},{"$f":"(F55/3)","v":1.3902777777777777}]
[null,{"$f":"B50/B44","v":0.36},{"$f":"C50/C44","v":0.68571428571428561},null,{"$f":"E50/E44","v":1.68},{"$f":"SUM(B56:E56)","v":2.7257142857142855},{"$f":"(F56/3)","v":0.90857142857142847}]
[null,{"$f":"B51/B45","v":1.4285714285714286},{"$f":"C51/C45","v":0.4081632653061224},{"$f":"D51/D45","v":0.59523809523809523},null,{"$f":"SUM(B57:E57)","v":2.4319727891156462},{"$f":"(F57/3)","v":0.81065759637188206}]
[]
["GF/GA",{"$f":"G54*A42","v":0.87830687830687837},{"$f":"G55*A43","v":1.5888888888888888},{"$f":"G56*A44","v":1.5142857142857142},{"$f":"G57*A45","v":1.1349206349206349},"Iteration",{"$f":"G41+1","v":2}]
[{"$f":"G54*A42","v":0.87830687830687837},null,{"$f":"$A60/C59","v":0.55278055278055283},{"$f":"$A60/D59","v":0.58001397624039142},{"$f":"$A60/E59","v":0.773892773892774}]
[{"$f":"G55*A43","v":1.5888888888888888},{"$f":"$A61/B59","v":1.809036144578313},null,{"$f":"$A61/D59","v":1.049266247379455},{"$f":"$A61/E59","v":1.4}]
[{"$f":"G56*A44","v":1.5142857142857142},{"$f":"$A62/B59","v":1.7240963855421685},{"$f":"$A62/C59","v":0.95304695304695308},null,{"$f":"$A62/E59","v":1.3342657342657342}]
[{"$f":"G57*A45","v":1.1349206349206349},{"$f":"$A63/B59","v":1.292168674698795},{"$f":"$A63/C59","v":0.7142857142857143},{"$f":"$A63/D59","v":0.74947589098532497}]
[]
[null,"Game Differential"]
[null,null,{"$f":"$C$34/$B$35","v":1.3333333333333333},{"$f":"$D$34/$B$36","v":0.66666666666666663},{"$f":"$E$34/$B$37","v":0}]
[null,{"$f":"$B$35/$C$34","v":0.75},null,{"$f":"$D$35/$C$36","v":1},{"$f":"$E$35/$C$37","v":2}]
[null,{"$f":"$B$36/$D$34","v":1.5},{"$f":"$C$36/$D$35","v":1},null,{"$f":"$E$36/$D$37","v":2}]
[null,{"$f":"B51","v":5},{"$f":"$C$37/$E$35","v":0.5},{"$f":"$D$37/$E$36","v":0.5}]
[]
[]
[null,null,{"$f":"C66/C60","v":2.412048192771084},{"$f":"D66/D60","v":1.1493975903614455},{"$f":"E66/E60","v":0},{"$f":"SUM(B72:E72)","v":3.5614457831325295},{"$f":"(F72/3)","v":1.1871485943775097},{"$f":"ABS(G72-G54)","v":1.0086186013896861},{"$f":"SUM(H72:H75)","v":2.6325446655920306}]
[null,{"$f":"B67/B61","v":0.41458541458541465},null,{"$f":"D67/D61","v":0.95304695304695297},{"$f":"E67/E61","v":1.4285714285714286},{"$f":"SUM(B73:E73)","v":2.7962037962037964},{"$f":"(F73/3)","v":0.93206793206793215},{"$f":"ABS(G73-G55)","v":0.45820984570984558}]
[null,{"$f":"B68/B62","v":0.87002096436058707},{"$f":"C68/C62","v":1.049266247379455},null,{"$f":"E68/E62","v":1.4989517819706499},{"$f":"SUM(B74:E74)","v":3.4182389937106921},{"$f":"(F74/3)","v":1.1394129979035641},{"$f":"ABS(G74-G56)","v":0.23084156933213562}]
[null,{"$f":"B69/B63","v":3.8694638694638699},{"$f":"C69/C63","v":0.7},{"$f":"D69/D63","v":0.66713286713286712},null,{"$f":"SUM(B75:E75)","v":5.236596736596737},{"$f":"(F75/3)","v":1.7455322455322457},{"$f":"ABS(G75-G57)","v":0.93487464916036367}]
[]
["GF/GA",{"$f":"G72*A60","v":1.0426807760141092},{"$f":"G73*A61","v":1.480952380952381},{"$f":"G74*A62","v":1.7253968253968255},{"$f":"G75*A63","v":1.981040564373898},"Iteration",{"$f":"G59+1","v":3}]
[{"$f":"G72*A60","v":1.0426807760141092},null,{"$f":"$A78/C77","v":0.70406097415743707},{"$f":"$A78/D77","v":0.60431360523356836},{"$f":"$A78/E77","v":0.52632984642777647}]
[{"$f":"G73*A61","v":1.480952380952381},{"$f":"$A79/B77","v":1.4203315290933696},null,{"$f":"$A79/D77","v":0.85832566697332102},{"$f":"$A79/E77","v":0.74756287558424206}]
[{"$f":"G74*A62","v":1.7253968253968255},{"$f":"$A80/B77","v":1.654769959404601},{"$f":"$A80/C77","v":1.165058949624866},null,{"$f":"$A80/E77","v":0.87095481860672153}]
[{"$f":"G75*A63","v":1.981040564373898},{"$f":"$A81/B77","v":1.8999492557510154},{"$f":"$A81/C77","v":1.3376801238537575},{"$f":"$A81/D77","v":1.1481651845037311}]
[]
[null,"Game Differential"]
[null,null,{"$f":"$C$34/$B$35","v":1.3333333333333333},{"$f":"$D$34/$B$36","v":0.66666666666666663},{"$f":"$E$34/$B$37","v":0}]
[null,{"$f":"$B$35/$C$34","v":0.75},null,{"$f":"$D$35/$C$36","v":1},{"$f":"$E$35/$C$37","v":2}]
[null,{"$f":"$B$36/$D$34","v":1.5},{"$f":"$C$36/$D$35","v":1},null,{"$f":"$E$36/$D$37","v":2}]
[null,{"$f":"B69","v":5},{"$f":"$C$37/$E$35","v":0.5},{"$f":"$D$37/$E$36","v":0.5}]
[]
[]
[null,null,{"$f":"C84/C78","v":1.8937753721244928},{"$f":"D84/D78","v":1.1031799729364007},{"$f":"E84/E78","v":0},{"$f":"SUM(B90:E90)","v":2.9969553450608934},{"$f":"(F90/3)","v":0.99898511502029785},{"$f":"ABS(G90-G72)","v":0.18816347935721189},{"$f":"SUM(H90:H93)","v":1.5251092257670384}]
[null,{"$f":"B85/B79","v":0.5280457306180778},null,{"$f":"D85/D79","v":1.165058949624866},{"$f":"E85/E79","v":2.6753602477075149},{"$f":"SUM(B91:E91)","v":4.368464927950459},{"$f":"(F91/3)","v":1.4561549759834864},{"$f":"ABS(G91-G73)","v":0.52408704391555427}]
[null,{"$f":"B86/B80","v":0.90647040785035249},{"$f":"C86/C80","v":0.85832566697332113},null,{"$f":"E86/E80","v":2.2963303690074621},{"$f":"SUM(B92:E92)","v":4.0611264438311352},{"$f":"(F92/3)","v":1.3537088146103784},{"$f":"ABS(G92-G74)","v":0.2142958167068143}]
[null,{"$f":"B87/B81","v":2.6316492321388822},{"$f":"C87/C81","v":0.37378143779212103},{"$f":"D87/D81","v":0.43547740930336076},null,{"$f":"SUM(B93:E93)","v":3.4409080792343638},{"$f":"(F93/3)","v":1.1469693597447879},{"$f":"ABS(G93-G75)","v":0.59856288578745787}]
[]
["GF/GA",{"$f":"G90*A78","v":1.0416225749559083},{"$f":"G91*A79","v":2.1564961787184016},{"$f":"G92*A80","v":2.3356848912404469},{"$f":"G93*A81","v":2.2721928277483832},"Iteration",{"$f":"G77+1","v":4}]
[{"$f":"G90*A78","v":1.0416225749559083},null,{"$f":"$A96/C95","v":0.48301619322828621},{"$f":"$A96/D95","v":0.44596023156305059},{"$f":"$A96/E95","v":0.45842173350582149}]
[{"$f":"G91*A79","v":2.1564961787184016},{"$f":"$A97/B95","v":2.0703239643300604},null,{"$f":"$A97/D95","v":0.92328215454316664},{"$f":"$A97/E95","v":0.94908150064683083}]
[{"$f":"G92*A80","v":2.3356848912404469},{"$f":"$A98/B95","v":2.2423524099785532},{"$f":"$A98/C95","v":1.0830925249441139},null,{"$f":"$A98/E95","v":1.0279430789133248}]
[{"$f":"G93*A81","v":2.2721928277483832},{"$f":"$A99/B95","v":2.181397448922},{"$f":"$A99/C95","v":1.0536502916961994},{"$f":"$A99/D95","v":0.97281651145230297}]
[]
[null,"Game Differential"]
[null,null,{"$f":"$C$34/$B$35","v":1.3333333333333333},{"$f":"$D$34/$B$36","v":0.66666666666666663},{"$f":"$E$34/$B$37","v":0}]
[null,{"$f":"$B$35/$C$34","v":0.75},null,{"$f":"$D$35/$C$36","v":1},{"$f":"$E$35/$C$37","v":2}]
[null,{"$f":"$B$36/$D$34","v":1.5},{"$f":"$C$36/$D$35","v":1},null,{"$f":"$E$36/$D$37","v":2}]
[null,{"$f":"B87","v":5},{"$f":"$C$37/$E$35","v":0.5},{"$f":"$D$37/$E$36","v":0.5}]
[]
[]
[null,null,{"$f":"C102/C96","v":2.7604319524400807},{"$f":"D102/D96","v":1.4949016066523686},{"$f":"E102/E96","v":0},{"$f":"SUM(B108:E108)","v":4.255333559092449},{"$f":"(F108/3)","v":1.4184445196974831},{"$f":"ABS(G108-G90)","v":0.41945940467718523},{"$f":"SUM(H108:H111)","v":0.91924864322941724}]
[null,{"$f":"B103/B97","v":0.36226214492121467},null,{"$f":"D103/D97","v":1.0830925249441139},{"$f":"E103/E97","v":2.1073005833923988},{"$f":"SUM(B109:E109)","v":3.5526552532577274},{"$f":"(F109/3)","v":1.1842184177525759},{"$f":"ABS(G109-G91)","v":0.27193655823091056}]
[null,{"$f":"B104/B98","v":0.66894034734457575},{"$f":"C104/C98","v":0.92328215454316664},null,{"$f":"E104/E98","v":1.9456330229046059},{"$f":"SUM(B110:E110)","v":3.5378555247923487},{"$f":"(F110/3)","v":1.1792851749307829},{"$f":"ABS(G110-G92)","v":0.17442363967959551}]
[null,{"$f":"B105/B99","v":2.2921086675291074},{"$f":"C105/C99","v":0.47454075032341542},{"$f":"D105/D99","v":0.51397153945666241},null,{"$f":"SUM(B111:E111)","v":3.2806209573091856},{"$f":"(F111/3)","v":1.0935403191030619},{"$f":"ABS(G111-G93)","v":5.3429040641725933E-2}]
[]
["GF/GA",{"$f":"G108*A96","v":1.4774838330393889},{"$f":"G109*A97","v":2.5537624926513818},{"$f":"G110*A98","v":2.7544385655496768},{"$f":"G111*A99","v":2.4847344699196556},"Iteration",{"$f":"G95+1","v":5}]
[{"$f":"G108*A96","v":1.4774838330393889},null,{"$f":"$A114/C113","v":0.57855177891089915},{"$f":"$A114/D113","v":0.53640108424220445},{"$f":"$A114/E113","v":0.59462443610208526}]
[{"$f":"G109*A97","v":2.5537624926513818},{"$f":"$A115/B113","v":1.7284537641254176},null,{"$f":"$A115/D113","v":0.92714447313939341},{"$f":"$A115/E113","v":1.027780844821603}]
[{"$f":"G110*A98","v":2.7544385655496768},{"$f":"$A116/B113","v":1.8642766194493074},{"$f":"$A116/C113","v":1.0785805545643941},null,{"$f":"$A116/E113","v":1.1085444335783461}]
[{"$f":"G111*A99","v":2.4847344699196556},{"$f":"$A117/B113","v":1.6817337789803173},{"$f":"$A117/C113","v":0.97297006948361142},{"$f":"$A117/D113","v":0.90208382245178198}]
[]
[null,"Game Differential"]
[null,null,{"$f":"$C$34/$B$35","v":1.3333333333333333},{"$f":"$D$34/$B$36","v":0.66666666666666663},{"$f":"$E$34/$B$37","v":0}]
[null,{"$f":"$B$35/$C$34","v":0.75},null,{"$f":"$D$35/$C$36","v":1},{"$f":"$E$35/$C$37","v":2}]
[null,{"$f":"$B$36/$D$34","v":1.5},{"$f":"$C$36/$D$35","v":1},null,{"$f":"$E$36/$D$37","v":2}]
[null,{"$f":"B105","v":5},{"$f":"$C$37/$E$35","v":0.5},{"$f":"$D$37/$E$36","v":0.5}]
[]
[]
[null,null,{"$f":"C120/C114","v":2.30460501883389},{"$f":"D120/D114","v":1.2428510796328713},{"$f":"E120/E114","v":0},{"$f":"SUM(B126:E126)","v":3.5474560984667614},{"$f":"(F126/3)","v":1.1824853661555872},{"$f":"ABS(G126-G108)","v":0.23595915354189589},{"$f":"SUM(H126:H129)","v":0.52156794298530795}]
[null,{"$f":"B121/B115","v":0.43391383418317436},null,{"$f":"D121/D115","v":1.0785805545643943},{"$f":"E121/E115","v":1.9459401389672228},{"$f":"SUM(B127:E127)","v":3.4584345277147914},{"$f":"(F127/3)","v":1.1528115092382638},{"$f":"ABS(G127-G109)","v":3.1406908514312049E-2}]
[null,{"$f":"B122/B116","v":0.80460162636330657},{"$f":"C122/C116","v":0.92714447313939352},null,{"$f":"E122/E116","v":1.804167644903564},{"$f":"SUM(B128:E128)","v":3.535913744406264},{"$f":"(F128/3)","v":1.178637914802088},{"$f":"ABS(G128-G110)","v":6.4726012869487093E-4}]
[null,{"$f":"B123/B117","v":2.9731221805104262},{"$f":"C123/C117","v":0.51389042241080152},{"$f":"D123/D117","v":0.55427221678917304},null,{"$f":"SUM(B129:E129)","v":4.041284819710401},{"$f":"(F129/3)","v":1.3470949399034671},{"$f":"ABS(G129-G111)","v":0.25355462080040514}]
[]
["GF/GA",{"$f":"G126*A114","v":1.7471030113005424},{"$f":"G127*A115","v":2.94400679338951},{"$f":"G128*A116","v":3.2464857273499255},{"$f":"G129*A117","v":3.3471732314324916},"Iteration",{"$f":"G113+1","v":6}]
[{"$f":"G126*A114","v":1.7471030113005424},null,{"$f":"$A132/C131","v":0.59344394694451708},{"$f":"$A132/D131","v":0.53815206904565249},{"$f":"$A132/E131","v":0.52196372595655405}]
[{"$f":"G127*A115","v":2.94400679338951},{"$f":"$A133/B131","v":1.6850791134507823},null,{"$f":"$A133/D131","v":0.90682881140915228},{"$f":"$A133/E131","v":0.87955017258833712}]
[{"$f":"G128*A116","v":3.2464857273499255},{"$f":"$A134/B131","v":1.8582108246343434},{"$f":"$A134/C131","v":1.1027439660260308},null,{"$f":"$A134/E131","v":0.9699186456389427}]
[{"$f":"G129*A117","v":3.3471732314324916},{"$f":"$A135/B131","v":1.9158419450841986},{"$f":"$A135/C131","v":1.1369448056126277},{"$f":"$A135/D131","v":1.0310143067115087}]
[]
[null,"Game Differential"]
[null,null,{"$f":"$C$34/$B$35","v":1.3333333333333333},{"$f":"$D$34/$B$36","v":0.66666666666666663},{"$f":"$E$34/$B$37","v":0}]
[null,{"$f":"$B$35/$C$34","v":0.75},null,{"$f":"$D$35/$C$36","v":1},{"$f":"$E$35/$C$37","v":2}]
[null,{"$f":"$B$36/$D$34","v":1.5},{"$f":"$C$36/$D$35","v":1},null,{"$f":"$E$36/$D$37","v":2}]
[null,{"$f":"B123","v":5},{"$f":"$C$37/$E$35","v":0.5},{"$f":"$D$37/$E$36","v":0.5}]
[]
[]
[null,null,{"$f":"C138/C132","v":2.2467721512677099},{"$f":"D138/D132","v":1.2388072164228956},{"$f":"E138/E132","v":0},{"$f":"SUM(B144:E144)","v":3.4855793676906055},{"$f":"(F144/3)","v":1.1618597892302018},{"$f":"ABS(G144-G126)","v":2.0625576925385358E-2},{"$f":"SUM(H144:H147)","v":0.39068743510980442}]
[null,{"$f":"B139/B133","v":0.44508296020838783},null,{"$f":"D139/D133","v":1.1027439660260308},{"$f":"E139/E133","v":2.2738896112252553},{"$f":"SUM(B145:E145)","v":3.821716537459674},{"$f":"(F145/3)","v":1.2739055124865579},{"$f":"ABS(G145-G127)","v":0.12109400324829411}]
[null,{"$f":"B140/B134","v":0.80722810356847874},{"$f":"C140/C134","v":0.90682881140915217},null,{"$f":"E140/E134","v":2.0620286134230175},{"$f":"SUM(B146:E146)","v":3.7760855284006483},{"$f":"(F146/3)","v":1.2586951761335494},{"$f":"ABS(G146-G128)","v":8.0057261331461405E-2}]
[null,{"$f":"B141/B135","v":2.6098186297827701},{"$f":"C141/C135","v":0.4397750862941685},{"$f":"D141/D135","v":0.48495932281947135},null,{"$f":"SUM(B147:E147)","v":3.5345530388964104},{"$f":"(F147/3)","v":1.1781843462988035},{"$f":"ABS(G147-G129)","v":0.16891059360466354}]
[]
["GF/GA",{"$f":"G144*A132","v":2.0298887364730991},{"$f":"G145*A133","v":3.7503864828967717},{"$f":"G146*A134","v":4.0863359244017685},{"$f":"G147*A135","v":3.9435871056241441},"Iteration",{"$f":"G131+1","v":7}]
[{"$f":"G144*A132","v":2.0298887364730991},null,{"$f":"$A150/C149","v":0.54124788091312326},{"$f":"$A150/D149","v":0.49675033429129317},{"$f":"$A150/E149","v":0.51473155837693418}]
[{"$f":"G145*A133","v":3.7503864828967717},{"$f":"$A151/B149","v":1.8475822913392836},null,{"$f":"$A151/D149","v":0.91778712085346259},{"$f":"$A151/E149","v":0.95100891205069638}]
[{"$f":"G146*A134","v":4.0863359244017685},{"$f":"$A152/B149","v":2.0130836981251079},{"$f":"$A152/C149","v":1.089577285710968},null,{"$f":"$A152/E149","v":1.0361977090791386}]
[{"$f":"G147*A135","v":3.9435871056241441},{"$f":"$A153/B149","v":1.9427602285611314},{"$f":"$A153/C149","v":1.0515148568310073},{"$f":"$A153/D149","v":0.96506679298557119}]
[]
[null,"Game Differential"]
[null,null,{"$f":"$C$34/$B$35","v":1.3333333333333333},{"$f":"$D$34/$B$36","v":0.66666666666666663},{"$f":"$E$34/$B$37","v":0}]
[null,{"$f":"$B$35/$C$34","v":0.75},null,{"$f":"$D$35/$C$36","v":1},{"$f":"$E$35/$C$37","v":2}]
[null,{"$f":"$B$36/$D$34","v":1.5},{"$f":"$C$36/$D$35","v":1},null,{"$f":"$E$36/$D$37","v":2}]
[null,{"$f":"B141","v":5},{"$f":"$C$37/$E$35","v":0.5},{"$f":"$D$37/$E$36","v":0.5}]
[]
[]
[null,null,{"$f":"C156/C150","v":2.4634430551190447},{"$f":"D156/D150","v":1.3420557987500719},{"$f":"E156/E150","v":0},{"$f":"SUM(B162:E162)","v":3.8054988538691168},{"$f":"(F162/3)","v":1.2684996179563723},{"$f":"ABS(G162-G144)","v":0.1066398287261705},{"$f":"SUM(H162:H165)","v":0.2529468324242139}]
[null,{"$f":"B157/B151","v":0.40593591068484247},null,{"$f":"D157/D151","v":1.089577285710968},{"$f":"E157/E151","v":2.1030297136620146},{"$f":"SUM(B163:E163)","v":3.5985429100578252},{"$f":"(F163/3)","v":1.1995143033526083},{"$f":"ABS(G163-G145)","v":7.4391209133949587E-2}]
[null,{"$f":"B158/B152","v":0.74512550143693967},{"$f":"C158/C152","v":0.9177871208534627},null,{"$f":"E158/E152","v":1.9301335859711422},{"$f":"SUM(B164:E164)","v":3.5930462082615442},{"$f":"(F164/3)","v":1.1976820694205148},{"$f":"ABS(G164-G146)","v":6.1013106713034615E-2}]
[null,{"$f":"B159/B153","v":2.573657791884671},{"$f":"C159/C153","v":0.47550445602534819},{"$f":"D159/D153","v":0.51809885453956916},null,{"$f":"SUM(B165:E165)","v":3.5672611024495882},{"$f":"(F165/3)","v":1.1890870341498627},{"$f":"ABS(G165-G147)","v":1.090268785105919E-2}]
[]
["GF/GA",{"$f":"G162*A150","v":2.5749130867100694},{"$f":"G163*A151","v":4.4986422293349602},{"$f":"G164*A152","v":4.8941312662849024},{"$f":"G165*A153","v":4.6892682953382545},"Iteration",{"$f":"G149+1","v":8}]
[{"$f":"G162*A150","v":2.5749130867100694},null,{"$f":"$A168/C167","v":0.57237560922703601},{"$f":"$A168/D167","v":0.5261226041173731},{"$f":"$A168/E167","v":0.54910764847254945}]
[{"$f":"G163*A151","v":4.4986422293349602},{"$f":"$A169/B167","v":1.7471044955085504},null,{"$f":"$A169/D167","v":0.91919116684212787},{"$f":"$A169/E167","v":0.95934844116451989}]
[{"$f":"G164*A152","v":4.8941312662849024},{"$f":"$A170/B167","v":1.9006976552121477},{"$f":"$A170/C167","v":1.0879129783584518},null,{"$f":"$A170/E167","v":1.0436876199108309}]
[{"$f":"G165*A153","v":4.6892682953382545},{"$f":"$A171/B167","v":1.8211365344877204},{"$f":"$A171/C167","v":1.0423741334130221},{"$f":"$A171/D167","v":0.95814109597796759}]
[]
[null,"Game Differential"]
[null,null,{"$f":"$C$34/$B$35","v":1.3333333333333333},{"$f":"$D$34/$B$36","v":0.66666666666666663},{"$f":"$E$34/$B$37","v":0}]
[null,{"$f":"$B$35/$C$34","v":0.75},null,{"$f":"$D$35/$C$36","v":1},{"$f":"$E$35/$C$37","v":2}]
[null,{"$f":"$B$36/$D$34","v":1.5},{"$f":"$C$36/$D$35","v":1},null,{"$f":"$E$36/$D$37","v":2}]
[null,{"$f":"B159","v":5},{"$f":"$C$37/$E$35","v":0.5},{"$f":"$D$37/$E$36","v":0.5}]
[]
[]
[null,null,{"$f":"C174/C168","v":2.3294726606780674},{"$f":"D174/D168","v":1.2671317701414315},{"$f":"E174/E168","v":0},{"$f":"SUM(B180:E180)","v":3.5966044308194989},{"$f":"(F180/3)","v":1.1988681436064996},{"$f":"ABS(G180-G162)","v":6.9631474349872713E-2},{"$f":"SUM(H180:H183)","v":0.14123356408665932}]
[null,{"$f":"B175/B169","v":0.42928170692027706},null,{"$f":"D175/D169","v":1.0879129783584518},{"$f":"E175/E169","v":2.0847482668260442},{"$f":"SUM(B181:E181)","v":3.601942952104773},{"$f":"(F181/3)","v":1.2006476507015911},{"$f":"ABS(G181-G163)","v":1.1333473489827384E-3}]
[null,{"$f":"B176/B170","v":0.7891839061760596},{"$f":"C176/C170","v":0.91919116684212798},null,{"$f":"E176/E170","v":1.9162821919559352},{"$f":"SUM(B182:E182)","v":3.6246572649741227},{"$f":"(F182/3)","v":1.2082190883247075},{"$f":"ABS(G182-G164)","v":1.0537018904192674E-2}]
[null,{"$f":"B177/B171","v":2.745538242362747},{"$f":"C177/C171","v":0.47967422058225995},{"$f":"D177/D171","v":0.52184380995541546},null,{"$f":"SUM(B183:E183)","v":3.747056272900422},{"$f":"(F183/3)","v":1.2490187576334739},{"$f":"ABS(G183-G165)","v":5.9931723483611199E-2}]
[]
["GF/GA",{"$f":"G180*A168","v":3.0869812722121828},{"$f":"G181*A169","v":5.4012842239979886},{"$f":"G182*A170","v":5.9131828166921911},{"$f":"G183*A171","v":5.8569840604534251},"Iteration",{"$f":"G167+1","v":9}]
[{"$f":"G180*A168","v":3.0869812722121828},null,{"$f":"$A186/C185","v":0.57152727836403749},{"$f":"$A186/D185","v":0.52205070736152659},{"$f":"$A186/E185","v":0.52705987251281683}]
[{"$f":"G181*A169","v":5.4012842239979886},{"$f":"$A187/B185","v":1.7496977622178242},null,{"$f":"$A187/D185","v":0.91343095443469535},{"$f":"$A187/E185","v":0.92219547949048741}]
[{"$f":"G182*A170","v":5.9131828166921911},{"$f":"$A188/B185","v":1.9155227373487449},{"$f":"$A188/C185","v":1.0947734967213592},null,{"$f":"$A188/E185","v":1.0095951697424315}]
[{"$f":"G183*A171","v":5.8569840604534251},{"$f":"$A189/B185","v":1.8973176524184781},{"$f":"$A189/C185","v":1.0843687940787776},{"$f":"$A189/D185","v":0.99049602253457747}]
[]
[null,"Game Differential"]
[null,null,{"$f":"$C$34/$B$35","v":1.3333333333333333},{"$f":"$D$34/$B$36","v":0.66666666666666663},{"$f":"$E$34/$B$37","v":0}]
[null,{"$f":"$B$35/$C$34","v":0.75},null,{"$f":"$D$35/$C$36","v":1},{"$f":"$E$35/$C$37","v":2}]
[null,{"$f":"$B$36/$D$34","v":1.5},{"$f":"$C$36/$D$35","v":1},null,{"$f":"$E$36/$D$37","v":2}]
[null,{"$f":"B177","v":5},{"$f":"$C$37/$E$35","v":0.5},{"$f":"$D$37/$E$36","v":0.5}]
[]
[]
[null,null,{"$f":"C192/C186","v":2.3329303496237657},{"$f":"D192/D186","v":1.2770151582324965},{"$f":"E192/E186","v":0},{"$f":"SUM(B198:E198)","v":3.6099455078562621},{"$f":"(F198/3)","v":1.2033151692854207},{"$f":"ABS(G198-G180)","v":4.4470256789210794E-3},{"$f":"SUM(H198:H201)","v":0.10075268329194298}]
[null,{"$f":"B193/B187","v":0.42864545877302818},null,{"$f":"D193/D187","v":1.0947734967213592},{"$f":"E193/E187","v":2.1687375881575552},{"$f":"SUM(B199:E199)","v":3.6921565436519428},{"$f":"(F199/3)","v":1.230718847883981},{"$f":"ABS(G199-G181)","v":3.007119718238993E-2}]
[null,{"$f":"B194/B188","v":0.78307606104228988},{"$f":"C194/C188","v":0.91343095443469546},null,{"$f":"E194/E188","v":1.9809920450691549},{"$f":"SUM(B200:E200)","v":3.6774990605461406},{"$f":"(F200/3)","v":1.2258330201820469},{"$f":"ABS(G200-G182)","v":1.7613931857339393E-2}]
[null,{"$f":"B195/B189","v":2.6352993625640844},{"$f":"C195/C189","v":0.46109773974524376},{"$f":"D195/D189","v":0.50479758487121573},null,{"$f":"SUM(B201:E201)","v":3.601194687180544},{"$f":"(F201/3)","v":1.2003982290601813},{"$f":"ABS(G201-G183)","v":4.8620528573292576E-2}]
[]
["GF/GA",{"$f":"G198*A186","v":3.7146113921529262},{"$f":"G199*A187","v":6.6474622972527273},{"$f":"G200*A188","v":7.2485747510743712},{"$f":"G201*A189","v":7.0307132938020018},"Iteration",{"$f":"G185+1","v":10}]
[{"$f":"G198*A186","v":3.7146113921529262},null,{"$f":"$A204/C203","v":0.55880142316686865},{"$f":"$A204/D203","v":0.51246093469648679},{"$f":"$A204/E203","v":0.52834061594114223}]
[{"$f":"G199*A187","v":6.6474622972527273},{"$f":"$A205/B203","v":1.7895444759835215},null,{"$f":"$A205/D203","v":0.91707163484345},{"$f":"$A205/E203","v":0.94548903069520218}]
[{"$f":"G200*A188","v":7.2485747510743712},{"$f":"$A206/B203","v":1.9513682552061575},{"$f":"$A206/C203","v":1.0904273581318502},null,{"$f":"$A206/E203","v":1.0309871058836131}]
[{"$f":"G201*A189","v":7.0307132938020018},{"$f":"$A207/B203","v":1.8927183900459419},{"$f":"$A207/C203","v":1.0576537300117768},{"$f":"$A207/D203","v":0.96994423528017304}]
[]
[null,"Game Differential"]
[null,null,{"$f":"$C$34/$B$35","v":1.3333333333333333},{"$f":"$D$34/$B$36","v":0.66666666666666663},{"$f":"$E$34/$B$37","v":0}]
[null,{"$f":"$B$35/$C$34","v":0.75},null,{"$f":"$D$35/$C$36","v":1},{"$f":"$E$35/$C$37","v":2}]
[null,{"$f":"$B$36/$D$34","v":1.5},{"$f":"$C$36/$D$35","v":1},null,{"$f":"$E$36/$D$37","v":2}]
[null,{"$f":"B195","v":5},{"$f":"$C$37/$E$35","v":0.5},{"$f":"$D$37/$E$36","v":0.5}]
[]
[]
[null,null,{"$f":"C210/C204","v":2.386059301311362},{"$f":"D210/D204","v":1.3009121701374382},{"$f":"E210/E204","v":0},{"$f":"SUM(B216:E216)","v":3.6869714714488002},{"$f":"(F216/3)","v":1.2289904904829334},{"$f":"ABS(G216-G198)","v":2.5675321197512702E-2},{"$f":"SUM(H216:H219)","v":7.4980211875371738E-2}]
[null,{"$f":"B211/B205","v":0.41910106737515146},null,{"$f":"D211/D205","v":1.0904273581318502},{"$f":"E211/E205","v":2.115307460023554},{"$f":"SUM(B217:E217)","v":3.6248358855305556},{"$f":"(F217/3)","v":1.2082786285101852},{"$f":"ABS(G217-G199)","v":2.2440219373795811E-2}]
[null,{"$f":"B212/B206","v":0.76869140204473019},{"$f":"C212/C206","v":0.91707163484345},null,{"$f":"E212/E206","v":1.9398884705603463},{"$f":"SUM(B218:E218)","v":3.6256515074485263},{"$f":"(F218/3)","v":1.208550502482842},{"$f":"ABS(G218-G200)","v":1.7282517699204858E-2}]
[null,{"$f":"B213/B207","v":2.6417030797057111},{"$f":"C213/C207","v":0.47274451534760115},{"$f":"D213/D207","v":0.51549355294180665},null,{"$f":"SUM(B219:E219)","v":3.6299411479951189},{"$f":"(F219/3)","v":1.2099803826650397},{"$f":"ABS(G219-G201)","v":9.5821536048583678E-3}]
[]
["GF/GA",{"$f":"G216*A204","v":4.5652220767955169},{"$f":"G217*A205","v":8.031986627597691},{"$f":"G218*A206","v":8.7602686576953737},{"$f":"G219*A207","v":8.5070251616427282},"Iteration",{"$f":"G203+1","v":11}]
[{"$f":"G216*A204","v":4.5652220767955169},null,{"$f":"$A222/C221","v":0.56838018891982911},{"$f":"$A222/D221","v":0.52112809037942476},{"$f":"$A222/E221","v":0.53664142165461293}]
[{"$f":"G217*A205","v":8.031986627597691},{"$f":"$A223/B221","v":1.7593857412596263},null,{"$f":"$A223/D221","v":0.91686533158341776},{"$f":"$A223/E221","v":0.94415926542842077}]
[{"$f":"G218*A206","v":8.7602686576953737},{"$f":"$A224/B221","v":1.9189140222165273},{"$f":"$A224/C221","v":1.090672714468339},null,{"$f":"$A224/E221","v":1.0297687489152487}]
[{"$f":"G219*A207","v":8.5070251616427282},{"$f":"$A225/B221","v":1.8634416943006846},{"$f":"$A225/C221","v":1.0591433422477097},{"$f":"$A225/D221","v":0.97109181168431558}]
[]
[null,"Game Differential"]
[null,null,{"$f":"$C$34/$B$35","v":1.3333333333333333},{"$f":"$D$34/$B$36","v":0.66666666666666663},{"$f":"$E$34/$B$37","v":0}]
[null,{"$f":"$B$35/$C$34","v":0.75},null,{"$f":"$D$35/$C$36","v":1},{"$f":"$E$35/$C$37","v":2}]
[null,{"$f":"$B$36/$D$34","v":1.5},{"$f":"$C$36/$D$35","v":1},null,{"$f":"$E$36/$D$37","v":2}]
[null,{"$f":"B213","v":5},{"$f":"$C$37/$E$35","v":0.5},{"$f":"$D$37/$E$36","v":0.5}]
[]
[]
[null,null,{"$f":"C228/C222","v":2.3458476550128351},{"$f":"D228/D222","v":1.2792760148110183},{"$f":"E228/E222","v":0},{"$f":"SUM(B234:E234)","v":3.6251236698238536},{"$f":"(F234/3)","v":1.2083745566079511},{"$f":"ABS(G234-G216)","v":2.0615933874982284E-2},{"$f":"SUM(H234:H237)","v":4.2525335756820715E-2}]
[null,{"$f":"B229/B223","v":0.42628514168987186},null,{"$f":"D229/D223","v":1.090672714468339},{"$f":"E229/E223","v":2.1182866844954193},{"$f":"SUM(B235:E235)","v":3.6352445406536305},{"$f":"(F235/3)","v":1.2117481802178769},{"$f":"ABS(G235-G217)","v":3.4695517076916982E-3}]
[null,{"$f":"B230/B224","v":0.78169213556913719},{"$f":"C230/C224","v":0.91686533158341776},null,{"$f":"E230/E224","v":1.9421836233686312},{"$f":"SUM(B236:E236)","v":3.6407410905211863},{"$f":"(F236/3)","v":1.2135803635070621},{"$f":"ABS(G236-G218)","v":5.0298610242200947E-3}]
[null,{"$f":"B231/B225","v":2.6832071082730646},{"$f":"C231/C225","v":0.47207963271421038},{"$f":"D231/D225","v":0.51488437445762436},null,{"$f":"SUM(B237:E237)","v":3.6701711154448993},{"$f":"(F237/3)","v":1.2233903718149663},{"$f":"ABS(G237-G219)","v":1.3409989149926638E-2}]
[]
["GF/GA",{"$f":"G234*A222","v":5.5164982028646126},{"$f":"G235*A223","v":9.7327451795258249},{"$f":"G236*A224","v":10.631290022025475},{"$f":"G237*A225","v":10.407412675541371},"Iteration",{"$f":"G221+1","v":12}]
[{"$f":"G234*A222","v":5.5164982028646126},null,{"$f":"$A240/C239","v":0.56679776374597057},{"$f":"$A240/D239","v":0.51889264533614976},{"$f":"$A240/E239","v":0.53005471915503299}]
[{"$f":"G235*A223","v":9.7327451795258249},{"$f":"$A241/B239","v":1.7642977159807276},null,{"$f":"$A241/D239","v":0.91548110900576685},{"$f":"$A241/E239","v":0.93517433035003084}]
[{"$f":"G236*A224","v":10.631290022025475},{"$f":"$A242/B239","v":1.9271809091689449},{"$f":"$A242/C239","v":1.0923218296508845},null,{"$f":"$A242/E239","v":1.0215113355704863}]
[{"$f":"G237*A225","v":10.407412675541371},{"$f":"$A243/B239","v":1.8865976735272023},{"$f":"$A243/C239","v":1.069319342443569},{"$f":"$A243/D239","v":0.97894165750155593}]
[]
[null,"Game Differential"]
[null,null,{"$f":"$C$34/$B$35","v":1.3333333333333333},{"$f":"$D$34/$B$36","v":0.66666666666666663},{"$f":"$E$34/$B$37","v":0}]
[null,{"$f":"$B$35/$C$34","v":0.75},null,{"$f":"$D$35/$C$36","v":1},{"$f":"$E$35/$C$37","v":2}]
[null,{"$f":"$B$36/$D$34","v":1.5},{"$f":"$C$36/$D$35","v":1},null,{"$f":"$E$36/$D$37","v":2}]
[null,{"$f":"B231","v":5},{"$f":"$C$37/$E$35","v":0.5},{"$f":"$D$37/$E$36","v":0.5}]
[]
[]
[null,null,{"$f":"C246/C240","v":2.35239695464097},{"$f":"D246/D240","v":1.2847872727792966},{"$f":"E246/E240","v":0},{"$f":"SUM(B252:E252)","v":3.6371842274202666},{"$f":"(F252/3)","v":1.2123947424734223},{"$f":"ABS(G252-G234)","v":4.0201858654711486E-3},{"$f":"SUM(H252:H255)","v":2.8463947497225028E-2}]
[null,{"$f":"B247/B241","v":0.42509832280947796},null,{"$f":"D247/D241","v":1.0923218296508843},{"$f":"E247/E241","v":2.1386386848871379},{"$f":"SUM(B253:E253)","v":3.6560588373475005},{"$f":"(F253/3)","v":1.2186862791158335},{"$f":"ABS(G253-G235)","v":6.9380988979566016E-3}]
[null,{"$f":"B248/B242","v":0.77833896800422464},{"$f":"C248/C242","v":0.91548110900576674},null,{"$f":"E248/E242","v":1.9578833150031119},{"$f":"SUM(B254:E254)","v":3.6517033920131032},{"$f":"(F254/3)","v":1.2172344640043677},{"$f":"ABS(G254-G236)","v":3.6541004973056346E-3}]
[null,{"$f":"B249/B243","v":2.6502735957751655},{"$f":"C249/C243","v":0.46758716517501547},{"$f":"D249/D243","v":0.51075566778524317},null,{"$f":"SUM(B255:E255)","v":3.6286164287354241},{"$f":"(F255/3)","v":1.2095388095784747},{"$f":"ABS(G255-G237)","v":1.3851562236491644E-2}]
[]
["GF/GA",{"$f":"G252*A240","v":6.688173418017139},{"$f":"G253*A241","v":11.861163008418892},{"$f":"G254*A242","v":12.940772611635161},{"$f":"G255*A243","v":12.588169538366239},"Iteration",{"$f":"G239+1","v":13}]
[{"$f":"G252*A240","v":6.688173418017139},null,{"$f":"$A258/C257","v":0.56387163832669396},{"$f":"$A258/D257","v":0.51682952932839143},{"$f":"$A258/E257","v":0.53130627114870954}]
[{"$f":"G253*A241","v":11.861163008418892},{"$f":"$A259/B257","v":1.7734532684912652},null,{"$f":"$A259/D257","v":0.91657301804023794},{"$f":"$A259/E257","v":0.94224684313858531}]
[{"$f":"G254*A242","v":12.940772611635161},{"$f":"$A260/B257","v":1.9348739637603098},{"$f":"$A260/C257","v":1.0910205519011902},null,{"$f":"$A260/E257","v":1.0280106708282135}]
[{"$f":"G255*A243","v":12.588169538366239},{"$f":"$A261/B257","v":1.8821535793996036},{"$f":"$A261/C257","v":1.0612930223985058},{"$f":"$A261/D257","v":0.97275254856484428}]
[]
[null,"Game Differential"]
[null,null,{"$f":"$C$34/$B$35","v":1.3333333333333333},{"$f":"$D$34/$B$36","v":0.66666666666666663},{"$f":"$E$34/$B$37","v":0}]
[null,{"$f":"$B$35/$C$34","v":0.75},null,{"$f":"$D$35/$C$36","v":1},{"$f":"$E$35/$C$37","v":2}]
[null,{"$f":"$B$36/$D$34","v":1.5},{"$f":"$C$36/$D$35","v":1},null,{"$f":"$E$36/$D$37","v":2}]
[null,{"$f":"B249","v":5},{"$f":"$C$37/$E$35","v":0.5},{"$f":"$D$37/$E$36","v":0.5}]
[]
[]
[null,null,{"$f":"C264/C258","v":2.3646043579883536},{"$f":"D264/D258","v":1.2899159758402063},{"$f":"E264/E258","v":0},{"$f":"SUM(B270:E270)","v":3.6545203338285601},{"$f":"(F270/3)","v":1.21817344460952},{"$f":"ABS(G270-G252)","v":5.7787021360977686E-3},{"$f":"SUM(H270:H273)","v":2.1436428384894679E-2}]
[null,{"$f":"B265/B259","v":0.42290372874502047},null,{"$f":"D265/D259","v":1.0910205519011902},{"$f":"E265/E259","v":2.1225860447970115},{"$f":"SUM(B271:E271)","v":3.6365103254432221},{"$f":"(F271/3)","v":1.2121701084810741},{"$f":"ABS(G271-G253)","v":6.5161706347593995E-3}]
[null,{"$f":"B266/B260","v":0.7752442939925871},{"$f":"C266/C260","v":0.91657301804023794},null,{"$f":"E266/E260","v":1.9455050971296888},{"$f":"SUM(B272:E272)","v":3.6373224091625138},{"$f":"(F272/3)","v":1.2124408030541713},{"$f":"ABS(G272-G254)","v":4.7936609501963989E-3}]
[null,{"$f":"B267/B261","v":2.6565313557435477},{"$f":"C267/C261","v":0.47112342156929266},{"$f":"D267/D261","v":0.51400533541410676},null,{"$f":"SUM(B273:E273)","v":3.6416601127269472},{"$f":"(F273/3)","v":1.2138867042423158},{"$f":"ABS(G273-G255)","v":4.347894663841112E-3}]
[]
["GF/GA",{"$f":"G270*A258","v":8.1473552507717653},{"$f":"G271*A259","v":14.377747250626831},{"$f":"G272*A260","v":15.689920737392361},{"$f":"G273*A261","v":15.280611633370908},"Iteration",{"$f":"G257+1","v":14}]
[{"$f":"G270*A258","v":8.1473552507717653},null,{"$f":"$A276/C275","v":0.56666424223144995},{"$f":"$A276/D275","v":0.51927319373608527},{"$f":"$A276/E275","v":0.5331825352447922}]
[{"$f":"G271*A259","v":14.377747250626831},{"$f":"$A277/B275","v":1.7647134325295175},null,{"$f":"$A277/D275","v":0.91636838013857225},{"$f":"$A277/E275","v":0.94091438193662769}]
[{"$f":"G272*A260","v":15.689920737392361},{"$f":"$A278/B275","v":1.9257685782028615},{"$f":"$A278/C275","v":1.0912641920804613},null,{"$f":"$A278/E275","v":1.0267861728209606}]
[{"$f":"G273*A261","v":15.280611633370908},{"$f":"$A279/B275","v":1.8755302994703023},{"$f":"$A279/C275","v":1.062795955931463},{"$f":"$A279/D275","v":0.97391260855474027}]
[]
[null,"Game Differential"]
[null,null,{"$f":"$C$34/$B$35","v":1.3333333333333333},{"$f":"$D$34/$B$36","v":0.66666666666666663},{"$f":"$E$34/$B$37","v":0}]
[null,{"$f":"$B$35/$C$34","v":0.75},null,{"$f":"$D$35/$C$36","v":1},{"$f":"$E$35/$C$37","v":2}]
[null,{"$f":"$B$36/$D$34","v":1.5},{"$f":"$C$36/$D$35","v":1},null,{"$f":"$E$36/$D$37","v":2}]
[null,{"$f":"B267","v":5},{"$f":"$C$37/$E$35","v":0.5},{"$f":"$D$37/$E$36","v":0.5}]
[]
[]
[null,null,{"$f":"C282/C276","v":2.35295124337269},{"$f":"D282/D276","v":1.2838457188019077},{"$f":"E282/E276","v":0},{"$f":"SUM(B288:E288)","v":3.6367969621745977},{"$f":"(F288/3)","v":1.2122656540581993},{"$f":"ABS(G288-G270)","v":5.9077905513207352E-3},{"$f":"SUM(H288:H291)","v":1.2317050464396351E-2}]
[null,{"$f":"B283/B277","v":0.42499818167358744},null,{"$f":"D283/D277","v":1.0912641920804611},{"$f":"E283/E277","v":2.1255919118629261},{"$f":"SUM(B289:E289)","v":3.6418542856169749},{"$f":"(F289/3)","v":1.2139514285389916},{"$f":"ABS(G289-G271)","v":1.7813200579175348E-3}]
[null,{"$f":"B284/B278","v":0.77890979060412791},{"$f":"C284/C278","v":0.91636838013857214},null,{"$f":"E284/E278","v":1.9478252171094803},{"$f":"SUM(B290:E290)","v":3.6431033878521806},{"$f":"(F290/3)","v":1.2143677959507269},{"$f":"ABS(G290-G272)","v":1.9269928965555128E-3}]
[null,{"$f":"B285/B279","v":2.6659126762239609},{"$f":"C285/C279","v":0.4704571909683139},{"$f":"D285/D279","v":0.5133930864104802},null,{"$f":"SUM(B291:E291)","v":3.6497629536027549},{"$f":"(F291/3)","v":1.2165876512009184},{"$f":"ABS(G291-G273)","v":2.7009469586025681E-3}]
[]
["GF/GA",{"$f":"G288*A276","v":9.876758941921338},{"$f":"G289*A277","v":17.453886814071002},{"$f":"G290*A278","v":19.053334464508765},{"$f":"G291*A279","v":18.590203415956143},"Iteration",{"$f":"G275+1","v":15}]
[{"$f":"G288*A276","v":9.876758941921338},null,{"$f":"$A294/C293","v":0.5658773342083826},{"$f":"$A294/D293","v":0.51837430137591312},{"$f":"$A294/E293","v":0.53128837382403382}]
[{"$f":"G289*A277","v":17.453886814071002},{"$f":"$A295/B293","v":1.7671674399168515},null,{"$f":"$A295/D293","v":0.91605418708115871},{"$f":"$A295/E293","v":0.93887551542820502}]
[{"$f":"G290*A278","v":19.053334464508765},{"$f":"$A296/B293","v":1.9291079772776449},{"$f":"$A296/C293","v":1.0916384795819989},null,{"$f":"$A296/E293","v":1.0249126401788111}]
[{"$f":"G291*A279","v":18.590203415956143},{"$f":"$A297/B293","v":1.8822169828455657},{"$f":"$A297/C293","v":1.0651039286543937},{"$f":"$A297/D293","v":0.97569291352044907}]
[]
[null,"Game Differential"]
[null,null,{"$f":"$C$34/$B$35","v":1.3333333333333333},{"$f":"$D$34/$B$36","v":0.66666666666666663},{"$f":"$E$34/$B$37","v":0}]
[null,{"$f":"$B$35/$C$34","v":0.75},null,{"$f":"$D$35/$C$36","v":1},{"$f":"$E$35/$C$37","v":2}]
[null,{"$f":"$B$36/$D$34","v":1.5},{"$f":"$C$36/$D$35","v":1},null,{"$f":"$E$36/$D$37","v":2}]
[null,{"$f":"B285","v":5},{"$f":"$C$37/$E$35","v":0.5},{"$f":"$D$37/$E$36","v":0.5}]
[]
[]
[null,null,{"$f":"C300/C294","v":2.3562232532224683},{"$f":"D300/D294","v":1.2860719848517632},{"$f":"E300/E294","v":0},{"$f":"SUM(B306:E306)","v":3.6422952380742313},{"$f":"(F306/3)","v":1.2140984126914105},{"$f":"ABS(G306-G288)","v":1.8327586332111956E-3},{"$f":"SUM(H306:H309)","v":7.7411376141851562E-3}]
[null,{"$f":"B301/B295","v":0.42440800065628692},null,{"$f":"D301/D295","v":1.0916384795819989},{"$f":"E301/E295","v":2.1302078573087875},{"$f":"SUM(B307:E307)","v":3.6462543375470733},{"$f":"(F307/3)","v":1.2154181125156911},{"$f":"ABS(G307-G289)","v":1.4666839766994677E-3}]
[null,{"$f":"B302/B296","v":0.77756145206386962},{"$f":"C302/C296","v":0.9160541870811586},null,{"$f":"E302/E296","v":1.9513858270408984},{"$f":"SUM(B308:E308)","v":3.6450014661859269},{"$f":"(F308/3)","v":1.2150004887286423},{"$f":"ABS(G308-G290)","v":6.3269277791544454E-4}]
[null,{"$f":"B303/B297","v":2.6564418691201692},{"$f":"C303/C297","v":0.46943775771410251},{"$f":"D303/D297","v":0.51245632008940567},null,{"$f":"SUM(B309:E309)","v":3.6383359469236778},{"$f":"(F309/3)","v":1.2127786489745593},{"$f":"ABS(G309-G291)","v":3.8090022263590484E-3}]
[]
["GF/GA",{"$f":"G306*A294","v":11.991357353922391},{"$f":"G307*A295","v":21.213770167620687},{"$f":"G308*A296","v":23.149810686288433},{"$f":"G309*A297","v":22.54580178296553},"Iteration",{"$f":"G293+1","v":16}]
[{"$f":"G306*A294","v":11.991357353922391},null,{"$f":"$A312/C311","v":0.56526290514004041},{"$f":"$A312/D311","v":0.51798943483476678},{"$f":"$A312/E311","v":0.53186652971385806}]
[{"$f":"G307*A295","v":21.213770167620687},{"$f":"$A313/B311","v":1.7690883143167802},null,{"$f":"$A313/D311","v":0.91636905610573927},{"$f":"$A313/E311","v":0.94091886249300483}]
[{"$f":"G308*A296","v":23.149810686288433},{"$f":"$A314/B311","v":1.9305413059611718},{"$f":"$A314/C311","v":1.0912633871004596},null,{"$f":"$A314/E311","v":1.026790304870828}]
[{"$f":"G309*A297","v":22.54580178296553},{"$f":"$A315/B311","v":1.880170952923087},{"$f":"$A315/C311","v":1.0627908950092222},{"$f":"$A315/D311","v":0.97390868929737484}]
[]
[null,"Game Differential"]
[null,null,{"$f":"$C$34/$B$35","v":1.3333333333333333},{"$f":"$D$34/$B$36","v":0.66666666666666663},{"$f":"$E$34/$B$37","v":0}]
[null,{"$f":"$B$35/$C$34","v":0.75},null,{"$f":"$D$35/$C$36","v":1},{"$f":"$E$35/$C$37","v":2}]
[null,{"$f":"$B$36/$D$34","v":1.5},{"$f":"$C$36/$D$35","v":1},null,{"$f":"$E$36/$D$37","v":2}]
[null,{"$f":"B303","v":5},{"$f":"$C$37/$E$35","v":0.5},{"$f":"$D$37/$E$36","v":0.5}]
[]
[]
[null,null,{"$f":"C318/C312","v":2.3587844190890399},{"$f":"D318/D312","v":1.2870275373074478},{"$f":"E318/E312","v":0},{"$f":"SUM(B324:E324)","v":3.6458119563964875},{"$f":"(F324/3)","v":1.2152706521321626},{"$f":"ABS(G324-G306)","v":1.1722394407520653E-3},{"$f":"SUM(H324:H327)","v":5.8869548187374665E-3}]
[null,{"$f":"B319/B313","v":0.42394717885503025},null,{"$f":"D319/D313","v":1.0912633871004596},{"$f":"E319/E313","v":2.1255817900184448},{"$f":"SUM(B325:E325)","v":3.6407923559739346},{"$f":"(F325/3)","v":1.2135974519913115},{"$f":"ABS(G325-G307)","v":1.8206605243795693E-3}]
[null,{"$f":"B320/B314","v":0.77698415225215023},{"$f":"C320/C314","v":0.91636905610573915},null,{"$f":"E320/E314","v":1.9478173785947497},{"$f":"SUM(B326:E326)","v":3.6411705869526392},{"$f":"(F326/3)","v":1.213723528984213},{"$f":"ABS(G326-G308)","v":1.2769597444293179E-3}]
[null,{"$f":"B321/B315","v":2.6593326485692907},{"$f":"C321/C315","v":0.47045943124650247},{"$f":"D321/D315","v":0.513395152435414},null,{"$f":"SUM(B327:E327)","v":3.6431872322512073},{"$f":"(F327/3)","v":1.2143957440837359},{"$f":"ABS(G327-G309)","v":1.617095109176514E-3}]
[]
["GF/GA",{"$f":"G324*A312","v":14.572744671451067},{"$f":"G325*A313","v":25.744977422553763},{"$f":"G326*A314","v":28.097469921478442},{"$f":"G327*A315","v":27.379525732188842},"Iteration",{"$f":"G311+1","v":17}]
[{"$f":"G324*A312","v":14.572744671451067},null,{"$f":"$A330/C329","v":0.56604223931789832},{"$f":"$A330/D329","v":0.518649711599523},{"$f":"$A330/E329","v":0.53224971148125355}]
[{"$f":"G325*A313","v":25.744977422553763},{"$f":"$A331/B329","v":1.7666526109518552},null,{"$f":"$A331/D329","v":0.9162738671667241},{"$f":"$A331/E329","v":0.94030034246672811}]
[{"$f":"G326*A314","v":28.097469921478442},{"$f":"$A332/B329","v":1.9280835940619456},{"$f":"$A332/C329","v":1.0913767551749254},null,{"$f":"$A332/E329","v":1.0262219366512089}]
[{"$f":"G327*A315","v":27.379525732188842},{"$f":"$A333/B329","v":1.8788173641597572},{"$f":"$A333/C329","v":1.0634899880783404},{"$f":"$A333/D329","v":0.97444808406963412}]
[]
[null,"Game Differential"]
[null,null,{"$f":"$C$34/$B$35","v":1.3333333333333333},{"$f":"$D$34/$B$36","v":0.66666666666666663},{"$f":"$E$34/$B$37","v":0}]
[null,{"$f":"$B$35/$C$34","v":0.75},null,{"$f":"$D$35/$C$36","v":1},{"$f":"$E$35/$C$37","v":2}]
[null,{"$f":"$B$36/$D$34","v":1.5},{"$f":"$C$36/$D$35","v":1},null,{"$f":"$E$36/$D$37","v":2}]
[null,{"$f":"B321","v":5},{"$f":"$C$37/$E$35","v":0.5},{"$f":"$D$37/$E$36","v":0.5}]
[]
[]
[null,null,{"$f":"C336/C330","v":2.3555368146024738},{"$f":"D336/D330","v":1.2853890627079638},{"$f":"E336/E330","v":0},{"$f":"SUM(B342:E342)","v":3.6409258773104378},{"$f":"(F342/3)","v":1.2136419591034793},{"$f":"ABS(G342-G324)","v":1.6286930286832924E-3},{"$f":"SUM(H342:H345)","v":3.4262047996036493E-3}]
[null,{"$f":"B337/B331","v":0.42453167948842374},null,{"$f":"D337/D331","v":1.0913767551749254},{"$f":"E337/E331","v":2.1269799761566808},{"$f":"SUM(B343:E343)","v":3.6428884108200297},{"$f":"(F343/3)","v":1.2142961369400098},{"$f":"ABS(G343-G325)","v":6.9868494869829156E-4}]
[null,{"$f":"B338/B332","v":0.77797456739928461},{"$f":"C338/C332","v":0.9162738671667241},null,{"$f":"E338/E332","v":1.9488961681392685},{"$f":"SUM(B344:E344)","v":3.6431446027052772},{"$f":"(F344/3)","v":1.2143815342350923},{"$f":"ABS(G344-G326)","v":6.5800525087933437E-4}]
[null,{"$f":"B339/B333","v":2.6612485574062674},{"$f":"C339/C333","v":0.470150171233364},{"$f":"D339/D333","v":0.51311096832560443},null,{"$f":"SUM(B345:E345)","v":3.6445096969652355},{"$f":"(F345/3)","v":1.2148365656550786},{"$f":"ABS(G345-G327)","v":4.4082157134273103E-4}]
[]
["GF/GA",{"$f":"G342*A330","v":17.686094392574663},{"$f":"G343*A331","v":31.262026629814805},{"$f":"G344*A332","v":34.121048631369348},{"$f":"G345*A333","v":33.261649009757143},"Iteration",{"$f":"G329+1","v":18}]
[{"$f":"G342*A330","v":17.686094392574663},null,{"$f":"$A348/C347","v":0.56573729534563555},{"$f":"$A348/D347","v":0.51833384675976424},{"$f":"$A348/E347","v":0.53172632503537431}]
[{"$f":"G343*A331","v":31.262026629814805},{"$f":"$A349/B347","v":1.7676048728395268},null,{"$f":"$A349/D347","v":0.91620943329021587},{"$f":"$A349/E347","v":0.93988204314958168}]
[{"$f":"G344*A332","v":34.121048631369348},{"$f":"$A350/B347","v":1.9292585391659305},{"$f":"$A350/C347","v":1.0914535079702055},null,{"$f":"$A350/E347","v":1.0258375530738149}]
[{"$f":"G345*A333","v":33.261649009757143},{"$f":"$A351/B347","v":1.8806667131507411},{"$f":"$A351/C347","v":1.0639632997444666},{"$f":"$A351/D347","v":0.97481321190046566}]
[]
[null,"Game Differential"]
[null,null,{"$f":"$C$34/$B$35","v":1.3333333333333333},{"$f":"$D$34/$B$36","v":0.66666666666666663},{"$f":"$E$34/$B$37","v":0}]
[null,{"$f":"$B$35/$C$34","v":0.75},null,{"$f":"$D$35/$C$36","v":1},{"$f":"$E$35/$C$37","v":2}]
[null,{"$f":"$B$36/$D$34","v":1.5},{"$f":"$C$36/$D$35","v":1},null,{"$f":"$E$36/$D$37","v":2}]
[null,{"$f":"B339","v":5},{"$f":"$C$37/$E$35","v":0.5},{"$f":"$D$37/$E$36","v":0.5}]
[]
[]
[null,null,{"$f":"C354/C348","v":2.356806497119369},{"$f":"D354/D348","v":1.2861723594439536},{"$f":"E354/E348","v":0},{"$f":"SUM(B360:E360)","v":3.6429788565633228},{"$f":"(F360/3)","v":1.2143262855211077},{"$f":"ABS(G360-G342)","v":6.8432641762838919E-4},{"$f":"SUM(H360:H363)","v":2.0193152011345195E-3}]
[null,{"$f":"B355/B349","v":0.42430297150922669},null,{"$f":"D355/D349","v":1.0914535079702055},{"$f":"E355/E349","v":2.1279265994889331},{"$f":"SUM(B361:E361)","v":3.6436830789683654},{"$f":"(F361/3)","v":1.2145610263227884},{"$f":"ABS(G361-G343)","v":2.6488938277857699E-4}]
[null,{"$f":"B356/B350","v":0.77750077013964636},{"$f":"C356/C350","v":0.91620943329021587},null,{"$f":"E356/E350","v":1.9496264238009315},{"$f":"SUM(B362:E362)","v":3.6433366272307937},{"$f":"(F362/3)","v":1.2144455424102645},{"$f":"ABS(G362-G344)","v":6.4008175172158843E-5}]
[null,{"$f":"B357/B351","v":2.6586316251768713},{"$f":"C357/C351","v":0.46994102157479084},{"$f":"D357/D351","v":0.51291877653690754},null,{"$f":"SUM(B363:E363)","v":3.6414914232885698},{"$f":"(F363/3)","v":1.2138304744295232},{"$f":"ABS(G363-G345)","v":1.0060912255553944E-3}]
[]
["GF/GA",{"$f":"G360*A348","v":21.476689309110881},{"$f":"G361*A349","v":37.969639148438212},{"$f":"G362*A350","v":41.43815541273036},{"$f":"G363*A351","v":40.374003197821793},"Iteration",{"$f":"G347+1","v":19}]
[{"$f":"G360*A348","v":21.476689309110881},null,{"$f":"$A366/C365","v":0.56562795409116429},{"$f":"$A366/D365","v":0.51828294708583844},{"$f":"$A366/E365","v":0.53194351830510489}]
[{"$f":"G361*A349","v":37.969639148438212},{"$f":"$A367/B365","v":1.7679465676458177},null,{"$f":"$A367/D365","v":0.91629655736976712},{"$f":"$A367/E365","v":0.9404477173689505}]
[{"$f":"G362*A350","v":41.43815541273036},{"$f":"$A368/B365","v":1.9294480083180878},{"$f":"$A368/C365","v":1.0913497294702317},null,{"$f":"$A368/E365","v":1.026357361931501}]
[{"$f":"G363*A351","v":40.374003197821793},{"$f":"$A369/B365","v":1.8798988343466074},{"$f":"$A369/C365","v":1.063323331569836},{"$f":"$A369/D365","v":0.97431950808839229}]
[]
[null,"Game Differential"]
[null,null,{"$f":"$C$34/$B$35","v":1.3333333333333333},{"$f":"$D$34/$B$36","v":0.66666666666666663},{"$f":"$E$34/$B$37","v":0}]
[null,{"$f":"$B$35/$C$34","v":0.75},null,{"$f":"$D$35/$C$36","v":1},{"$f":"$E$35/$C$37","v":2}]
[null,{"$f":"$B$36/$D$34","v":1.5},{"$f":"$C$36/$D$35","v":1},null,{"$f":"$E$36/$D$37","v":2}]
[null,{"$f":"B357","v":5},{"$f":"$C$37/$E$35","v":0.5},{"$f":"$D$37/$E$36","v":0.5}]
[]
[]
[null,null,{"$f":"C372/C366","v":2.3572620901944235},{"$f":"D372/D366","v":1.2862986722120586},{"$f":"E372/E366","v":0},{"$f":"SUM(B378:E378)","v":3.6435607624064819},{"$f":"(F378/3)","v":1.214520254135494},{"$f":"ABS(G378-G360)","v":1.9396861438636392E-4},{"$f":"SUM(H378:H381)","v":1.5509891919709418E-3}]
[null,{"$f":"B373/B367","v":0.42422096556837319},null,{"$f":"D373/D367","v":1.0913497294702317},{"$f":"E373/E367","v":2.1266466631396721},{"$f":"SUM(B379:E379)","v":3.6422173581782769},{"$f":"(F379/3)","v":1.2140724527260922},{"$f":"ABS(G379-G361)","v":4.8857359669618461E-4}]
[null,{"$f":"B374/B368","v":0.77742442062875772},{"$f":"C374/C368","v":0.91629655736976712},null,{"$f":"E374/E368","v":1.9486390161767846},{"$f":"SUM(B380:E380)","v":3.6423599941753091},{"$f":"(F380/3)","v":1.2141199980584363},{"$f":"ABS(G380-G362)","v":3.2554435182818864E-4}]
[null,{"$f":"B375/B369","v":2.6597175915255247},{"$f":"C375/C369","v":0.47022385868447525},{"$f":"D375/D369","v":0.51317868096575048},null,{"$f":"SUM(B381:E381)","v":3.6431201311757504},{"$f":"(F381/3)","v":1.2143733770585834},{"$f":"ABS(G381-G363)","v":5.4290262906020459E-4}]
[]
["GF/GA",{"$f":"G378*A366","v":26.083874157690396},{"$f":"G379*A367","v":46.09789293006903},{"$f":"G380*A368","v":50.310893169249368},{"$f":"G381*A369","v":49.029114608712895},"Iteration",{"$f":"G365+1","v":20}]
[{"$f":"G378*A366","v":26.083874157690396},null,{"$f":"$A384/C383","v":0.5658365816689257},{"$f":"$A384/D383","v":0.51845380820297537},{"$f":"$A384/E383","v":0.53200785626781577}]
[{"$f":"G379*A367","v":46.09789293006903},{"$f":"$A385/B383","v":1.767294714404142},null,{"$f":"$A385/D383","v":0.91626067489981722},{"$f":"$A385/E383","v":0.94021467240358936}]
[{"$f":"G380*A368","v":50.310893169249368},{"$f":"$A386/B383","v":1.9288121413672761},{"$f":"$A386/C383","v":1.0913924687527801},null,{"$f":"$A386/E383","v":1.0261432124721397}]
[{"$f":"G381*A369","v":49.029114608712895},{"$f":"$A387/B383","v":1.8796714902206151},{"$f":"$A387/C383","v":1.0635868906869683},{"$f":"$A387/D383","v":0.97452284227543962}]
[]
[null,"Game Differential"]
[null,null,{"$f":"$C$34/$B$35","v":1.3333333333333333},{"$f":"$D$34/$B$36","v":0.66666666666666663},{"$f":"$E$34/$B$37","v":0}]
[null,{"$f":"$B$35/$C$34","v":0.75},null,{"$f":"$D$35/$C$36","v":1},{"$f":"$E$35/$C$37","v":2}]
[null,{"$f":"$B$36/$D$34","v":1.5},{"$f":"$C$36/$D$35","v":1},null,{"$f":"$E$36/$D$37","v":2}]
[null,{"$f":"B375","v":5},{"$f":"$C$37/$E$35","v":0.5},{"$f":"$D$37/$E$36","v":0.5}]
[]
[]
[null,null,{"$f":"C390/C384","v":2.3563929525388558},{"$f":"D390/D384","v":1.2858747609115173},{"$f":"E390/E384","v":0},{"$f":"SUM(B396:E396)","v":3.6422677134503729},{"$f":"(F396/3)","v":1.2140892378167909},{"$f":"ABS(G396-G378)","v":4.3101631870312573E-4},{"$f":"SUM(H396:H399)","v":9.1484911242889488E-4}]
[null,{"$f":"B391/B385","v":0.42437743625169427},null,{"$f":"D391/D385","v":1.0913924687527801},{"$f":"E391/E385","v":2.1271737813739362},{"$f":"SUM(B397:E397)","v":3.6429436863784108},{"$f":"(F397/3)","v":1.2143145621261369},{"$f":"ABS(G397-G379)","v":2.4210940004465442E-4}]
[null,{"$f":"B392/B386","v":0.77768071230446312},{"$f":"C392/C386","v":0.91626067489981733},null,{"$f":"E392/E386","v":1.9490456845508795},{"$f":"SUM(B398:E398)","v":3.6429870717551598},{"$f":"(F398/3)","v":1.2143290239183866},{"$f":"ABS(G398-G380)","v":2.0902585995030698E-4}]
[null,{"$f":"B393/B387","v":2.6600392813390785},{"$f":"C393/C387","v":0.47010733620179462},{"$f":"D393/D387","v":0.51307160623606984},null,{"$f":"SUM(B399:E399)","v":3.6432182237769428},{"$f":"(F399/3)","v":1.2144060745923142},{"$f":"ABS(G399-G381)","v":3.2697533730807748E-5}]
[]
["GF/GA",{"$f":"G396*A384","v":31.668150895419423},{"$f":"G397*A385","v":55.977342668314314},{"$f":"G398*A386","v":61.09397779467681},{"$f":"G399*A387","v":59.54125461270371},"Iteration",{"$f":"G383+1","v":21}]
[{"$f":"G396*A384","v":31.668150895419423},null,{"$f":"$A402/C401","v":0.56573158685049574},{"$f":"$A402/D401","v":0.51835143231054615},{"$f":"$A402/E401","v":0.53186905619322833}]
[{"$f":"G397*A385","v":55.977342668314314},{"$f":"$A403/B401","v":1.767622708795765},null,{"$f":"$A403/D401","v":0.91624976288893212},{"$f":"$A403/E401","v":0.94014382183292122}]
[{"$f":"G398*A386","v":61.09397779467681},{"$f":"$A404/B401","v":1.9291930872892749},{"$f":"$A404/C401","v":1.0914054666131685},null,{"$f":"$A404/E401","v":1.0260781065510469}]
[{"$f":"G399*A387","v":59.54125461270371},{"$f":"$A405/B401","v":1.8801620217527744},{"$f":"$A405/C401","v":1.0636670441022333},{"$f":"$A405/D401","v":0.97458467695144269}]
[]
[null,"Game Differential"]
[null,null,{"$f":"$C$34/$B$35","v":1.3333333333333333},{"$f":"$D$34/$B$36","v":0.66666666666666663},{"$f":"$E$34/$B$37","v":0}]
[null,{"$f":"$B$35/$C$34","v":0.75},null,{"$f":"$D$35/$C$36","v":1},{"$f":"$E$35/$C$37","v":2}]
[null,{"$f":"$B$36/$D$34","v":1.5},{"$f":"$C$36/$D$35","v":1},null,{"$f":"$E$36/$D$37","v":2}]
[null,{"$f":"B393","v":5},{"$f":"$C$37/$E$35","v":0.5},{"$f":"$D$37/$E$36","v":0.5}]
[]
[]
[null,null,{"$f":"C408/C402","v":2.3568302783943533},{"$f":"D408/D402","v":1.2861287248595163},{"$f":"E408/E402","v":0},{"$f":"SUM(B414:E414)","v":3.6429590032538695},{"$f":"(F414/3)","v":1.2143196677512897},{"$f":"ABS(G414-G396)","v":2.3042993449884364E-4},{"$f":"SUM(H414:H417)","v":5.2954449897790745E-4}]
[null,{"$f":"B409/B403","v":0.42429869013787186},null,{"$f":"D409/D403","v":1.0914054666131685},{"$f":"E409/E403","v":2.1273340882044667},{"$f":"SUM(B415:E415)","v":3.6430382449555072},{"$f":"(F415/3)","v":1.2143460816518357},{"$f":"ABS(G415-G397)","v":3.1519525698797679E-5}]
[null,{"$f":"B410/B404","v":0.77752714846581916},{"$f":"C410/C404","v":0.91624976288893212},null,{"$f":"E410/E404","v":1.9491693539028854},{"$f":"SUM(B416:E416)","v":3.6429462652576365},{"$f":"(F416/3)","v":1.2143154217525456},{"$f":"ABS(G416-G398)","v":1.360216584100904E-5}]
[null,{"$f":"B411/B405","v":2.6593452809661411},{"$f":"C411/C405","v":0.47007191091646061},{"$f":"D411/D405","v":0.51303905327552346},null,{"$f":"SUM(B417:E417)","v":3.642456245158125},{"$f":"(F417/3)","v":1.2141520817193749},{"$f":"ABS(G417-G399)","v":2.539928729392571E-4}]
[]
["GF/GA",{"$f":"G414*A402","v":38.455258473623424},{"$f":"G415*A403","v":67.975866730549598},{"$f":"G416*A404","v":74.187359412283627},{"$f":"G417*A405","v":72.292138236197545},"Iteration",{"$f":"G401+1","v":22}]
[{"$f":"G414*A402","v":38.455258473623424},null,{"$f":"$A420/C419","v":0.56571928131577509},{"$f":"$A420/D419","v":0.51835324478817024},{"$f":"$A420/E419","v":0.5319424685984514}]
[{"$f":"G415*A403","v":67.975866730549598},{"$f":"$A421/B419","v":1.7676611581527777},null,{"$f":"$A421/D419","v":0.91627289701450731},{"$f":"$A421/E419","v":0.94029404011338624}]
[{"$f":"G416*A404","v":74.187359412283627},{"$f":"$A422/B419","v":1.9291863416590727},{"$f":"$A422/C419","v":1.0913779107275798},null,{"$f":"$A422/E419","v":1.0262161449685427}]
[{"$f":"G417*A405","v":72.292138236197545},{"$f":"$A423/B419","v":1.8799025440378443},{"$f":"$A423/C419","v":1.0634971161567865},{"$f":"$A423/D419","v":0.97445358358755274}]
[]
[null,"Game Differential"]
[null,null,{"$f":"$C$34/$B$35","v":1.3333333333333333},{"$f":"$D$34/$B$36","v":0.66666666666666663},{"$f":"$E$34/$B$37","v":0}]
[null,{"$f":"$B$35/$C$34","v":0.75},null,{"$f":"$D$35/$C$36","v":1},{"$f":"$E$35/$C$37","v":2}]
[null,{"$f":"$B$36/$D$34","v":1.5},{"$f":"$C$36/$D$35","v":1},null,{"$f":"$E$36/$D$37","v":2}]
[null,{"$f":"B411","v":5},{"$f":"$C$37/$E$35","v":0.5},{"$f":"$D$37/$E$36","v":0.5}]
[]
[]
[null,null,{"$f":"C426/C420","v":2.3568815442037034},{"$f":"D426/D420","v":1.2861242277727152},{"$f":"E426/E420","v":0},{"$f":"SUM(B432:E432)","v":3.6430057719764184},{"$f":"(F432/3)","v":1.2143352573254729},{"$f":"ABS(G432-G414)","v":1.5589574183128008E-5},{"$f":"SUM(H432:H435)","v":3.9031130364541866E-4}]
[null,{"$f":"B427/B421","v":0.42428946098683129},null,{"$f":"D427/D421","v":1.0913779107275798},{"$f":"E427/E421","v":2.1269942323135731},{"$f":"SUM(B433:E433)","v":3.6426616040279844},{"$f":"(F433/3)","v":1.2142205346759949},{"$f":"ABS(G433-G415)","v":1.2554697584077346E-4}]
[null,{"$f":"B428/B422","v":0.77752986718225547},{"$f":"C428/C422","v":0.91627289701450743},null,{"$f":"E428/E422","v":1.9489071671751055},{"$f":"SUM(B434:E434)","v":3.6427099313718685},{"$f":"(F434/3)","v":1.2142366437906229},{"$f":"ABS(G434-G416)","v":7.8777961922682493E-5}]
[null,{"$f":"B429/B423","v":2.6597123429922571},{"$f":"C429/C423","v":0.47014702005669312},{"$f":"D429/D423","v":0.51310807248427137},null,{"$f":"SUM(B435:E435)","v":3.6429674355332216},{"$f":"(F435/3)","v":1.2143224785110738},{"$f":"ABS(G435-G417)","v":1.703967916988347E-4}]
[]
["GF/GA",{"$f":"G432*A420","v":46.697576194085073},{"$f":"G433*A421","v":82.537693246632102},{"$f":"G434*A422","v":90.081010304459951},{"$f":"G435*A423","v":87.78596847984457},"Iteration",{"$f":"G419+1","v":23}]
[{"$f":"G432*A420","v":46.697576194085073},null,{"$f":"$A438/C437","v":0.56577273191470656},{"$f":"$A438/D437","v":0.51839534255060471},{"$f":"$A438/E437","v":0.53194806644762049}]
[{"$f":"G433*A421","v":82.537693246632102},{"$f":"$A439/B437","v":1.7674941608015771},null,{"$f":"$A439/D437","v":0.91626074094492727},{"$f":"$A439/E437","v":0.9402151012958585}]
[{"$f":"G434*A422","v":90.081010304459951},{"$f":"$A440/B437","v":1.9290296766167068},{"$f":"$A440/C437","v":1.0913923900839773},null,{"$f":"$A440/E437","v":1.0261436065963356}]
[{"$f":"G435*A423","v":87.78596847984457},{"$f":"$A441/B437","v":1.8798827612591151},{"$f":"$A441/C437","v":1.0635864055169317},{"$f":"$A441/D437","v":0.97452246797789577}]
[]
[null,"Game Differential"]
[null,null,{"$f":"$C$34/$B$35","v":1.3333333333333333},{"$f":"$D$34/$B$36","v":0.66666666666666663},{"$f":"$E$34/$B$37","v":0}]
[null,{"$f":"$B$35/$C$34","v":0.75},null,{"$f":"$D$35/$C$36","v":1},{"$f":"$E$35/$C$37","v":2}]
[null,{"$f":"$B$36/$D$34","v":1.5},{"$f":"$C$36/$D$35","v":1},null,{"$f":"$E$36/$D$37","v":2}]
[null,{"$f":"B429","v":5},{"$f":"$C$37/$E$35","v":0.5},{"$f":"$D$37/$E$36","v":0.5}]
[]
[]
[null,null,{"$f":"C444/C438","v":2.3566588810687694},{"$f":"D444/D438","v":1.2860197844111378},{"$f":"E444/E438","v":0},{"$f":"SUM(B450:E450)","v":3.6426786654799073},{"$f":"(F450/3)","v":1.2142262218266358},{"$f":"ABS(G450-G432)","v":1.0903549883711783E-4},{"$f":"SUM(H450:H453)","v":2.6558707539225956E-4}]
[null,{"$f":"B445/B439","v":0.42432954893602998},null,{"$f":"D445/D439","v":1.0913923900839773},{"$f":"E445/E439","v":2.1271728110338635},{"$f":"SUM(B451:E451)","v":3.6428947500538706},{"$f":"(F451/3)","v":1.2142982500179569},{"$f":"ABS(G451-G433)","v":7.7715341961992479E-5}]
[null,{"$f":"B446/B440","v":0.77759301382590706},{"$f":"C446/C440","v":0.91626074094492715},null,{"$f":"E446/E440","v":1.9490449359557915},{"$f":"SUM(B452:E452)","v":3.6428986907266259},{"$f":"(F452/3)","v":1.214299563575542},{"$f":"ABS(G452-G434)","v":6.2919784919124311E-5}]
[null,{"$f":"B447/B441","v":2.6597403322381021},{"$f":"C447/C441","v":0.47010755064792925},{"$f":"D447/D441","v":0.51307180329816782},null,{"$f":"SUM(B453:E453)","v":3.6429196861841993},{"$f":"(F453/3)","v":1.2143065620613998},{"$f":"ABS(G453-G435)","v":1.5916449674024946E-5}]
[]
["GF/GA",{"$f":"G450*A438","v":56.701421510605364},{"$f":"G451*A439","v":100.2253764699043},{"$f":"G452*A440","v":109.38533149914963},{"$f":"G453*A441","v":106.59907758199046},"Iteration",{"$f":"G437+1","v":24}]
[{"$f":"G450*A438","v":56.701421510605364},null,{"$f":"$A456/C455","v":0.56573917213103886},{"$f":"$A456/D455","v":0.5183640323021389},{"$f":"$A456/E455","v":0.53191287201330217}]
[{"$f":"G451*A439","v":100.2253764699043},{"$f":"$A457/B455","v":1.7675990089800178},null,{"$f":"$A457/D455","v":0.9162597497881465},{"$f":"$A457/E455","v":0.94020866543442805}]
[{"$f":"G452*A440","v":109.38533149914963},{"$f":"$A458/B455","v":1.9291461939572421},{"$f":"$A458/C455","v":1.0913935706891147},null,{"$f":"$A458/E455","v":1.0261376925613275}]
[{"$f":"G453*A441","v":106.59907758199046},{"$f":"$A459/B455","v":1.8800071451833407},{"$f":"$A459/C455","v":1.063593685916461},{"$f":"$A459/D455","v":0.97452808453406903}]
[]
[null,"Game Differential"]
[null,null,{"$f":"$C$34/$B$35","v":1.3333333333333333},{"$f":"$D$34/$B$36","v":0.66666666666666663},{"$f":"$E$34/$B$37","v":0}]
[null,{"$f":"$B$35/$C$34","v":0.75},null,{"$f":"$D$35/$C$36","v":1},{"$f":"$E$35/$C$37","v":2}]
[null,{"$f":"$B$36/$D$34","v":1.5},{"$f":"$C$36/$D$35","v":1},null,{"$f":"$E$36/$D$37","v":2}]
[null,{"$f":"B447","v":5},{"$f":"$C$37/$E$35","v":0.5},{"$f":"$D$37/$E$36","v":0.5}]
[]
[]
[null,null,{"$f":"C462/C456","v":2.3567986786400237},{"$f":"D462/D456","v":1.2860974626381612},{"$f":"E462/E456","v":0},{"$f":"SUM(B468:E468)","v":3.6428961412781851},{"$f":"(F468/3)","v":1.214298713759395},{"$f":"ABS(G468-G450)","v":7.2491932759266575E-5},{"$f":"SUM(H468:H471)","v":1.4859158959201757E-4}]
[null,{"$f":"B463/B457","v":0.42430437909827917},null,{"$f":"D463/D457","v":1.0913935706891147},{"$f":"E463/E457","v":2.1271873718329219},{"$f":"SUM(B469:E469)","v":3.6428853216203159},{"$f":"(F469/3)","v":1.214295107206772},{"$f":"ABS(G469-G451)","v":3.1428111848530449E-6}]
[null,{"$f":"B464/B458","v":0.77754604845320818},{"$f":"C464/C458","v":0.9162597497881465},null,{"$f":"E464/E458","v":1.9490561690681383},{"$f":"SUM(B470:E470)","v":3.6428619673094929},{"$f":"(F470/3)","v":1.2142873224364976},{"$f":"ABS(G470-G452)","v":1.2241139044411042E-5}]
[null,{"$f":"B465/B459","v":2.6595643600665113},{"$f":"C465/C459","v":0.47010433271721402},{"$f":"D465/D459","v":0.51306884628066385},null,{"$f":"SUM(B471:E471)","v":3.642737539064389},{"$f":"(F471/3)","v":1.2142458463547963},{"$f":"ABS(G471-G453)","v":6.0715706603486908E-5}]
[]
["GF/GA",{"$f":"G468*A456","v":68.852463208657383},{"$f":"G469*A457","v":121.70318426536153},{"$f":"G470*A458","v":132.82522129993109},{"$f":"G471*A459","v":129.43748717918459},"Iteration",{"$f":"G455+1","v":25}]
[{"$f":"G468*A456","v":68.852463208657383},null,{"$f":"$A474/C473","v":0.56574085242117844},{"$f":"$A474/D473","v":0.5183688951150508},{"$f":"$A474/E473","v":0.5319360311232143}]
[{"$f":"G469*A457","v":121.70318426536153},{"$f":"$A475/B473","v":1.7675937590865856},null,{"$f":"$A475/D473","v":0.91626562390997257},{"$f":"$A475/E473","v":0.94024680884668133}]
[{"$f":"G470*A458","v":132.82522129993109},{"$f":"$A476/B473","v":1.929128096657984},{"$f":"$A476/C473","v":1.0913865738329334},null,{"$f":"$A476/E473","v":1.0261727432645285}]
[{"$f":"G471*A459","v":129.43748717918459},{"$f":"$A477/B473","v":1.8799252945667941},{"$f":"$A477/C473","v":1.0635505386363531},{"$f":"$A477/D473","v":0.97449479784342541}]
[]
[null,"Game Differential"]
[null,null,{"$f":"$C$34/$B$35","v":1.3333333333333333},{"$f":"$D$34/$B$36","v":0.66666666666666663},{"$f":"$E$34/$B$37","v":0}]
[null,{"$f":"$B$35/$C$34","v":0.75},null,{"$f":"$D$35/$C$36","v":1},{"$f":"$E$35/$C$37","v":2}]
[null,{"$f":"$B$36/$D$34","v":1.5},{"$f":"$C$36/$D$35","v":1},null,{"$f":"$E$36/$D$37","v":2}]
[null,{"$f":"B465","v":5},{"$f":"$C$37/$E$35","v":0.5},{"$f":"$D$37/$E$36","v":0.5}]
[]
[]
[null,null,{"$f":"C480/C474","v":2.3567916787821139},{"$f":"D480/D474","v":1.286085397771989},{"$f":"E480/E474","v":0},{"$f":"SUM(B486:E486)","v":3.642877076554103},{"$f":"(F486/3)","v":1.2142923588513677},{"$f":"ABS(G486-G468)","v":6.3549080273617164E-6},{"$f":"SUM(H486:H489)","v":1.0563119008510924E-4}]
[null,{"$f":"B481/B475","v":0.42430563931588383},null,{"$f":"D481/D475","v":1.0913865738329334},{"$f":"E481/E475","v":2.1271010772727061},{"$f":"SUM(B487:E487)","v":3.6427932904215234},{"$f":"(F487/3)","v":1.2142644301405079},{"$f":"ABS(G487-G469)","v":3.0677066264139796E-5}]
[null,{"$f":"B482/B476","v":0.77755334267257614},{"$f":"C482/C476","v":0.91626562390997257},null,{"$f":"E482/E476","v":1.948989595686851},{"$f":"SUM(B488:E488)","v":3.6428085622693995},{"$f":"(F488/3)","v":1.2142695207564664},{"$f":"ABS(G488-G470)","v":1.7801680031181988E-5}]
[null,{"$f":"B483/B477","v":2.6596801556160714},{"$f":"C483/C477","v":0.47012340442334066},{"$f":"D483/D477","v":0.51308637163226423},null,{"$f":"SUM(B489:E489)","v":3.6428899316716761},{"$f":"(F489/3)","v":1.2142966438905587},{"$f":"ABS(G489-G471)","v":5.0797535762425738E-5}]
[]
["GF/GA",{"$f":"G486*A474","v":83.607019962367573},{"$f":"G487*A475","v":147.77984768826445},{"$f":"G488*A476","v":161.28561781223891},{"$f":"G489*A477","v":157.17550627531105},"Iteration",{"$f":"G473+1","v":26}]
[{"$f":"G486*A474","v":83.607019962367573},null,{"$f":"$A492/C491","v":0.56575386475382738},{"$f":"$A492/D491","v":0.51837864464579175},{"$f":"$A492/E491","v":0.5319341540145589}]
[{"$f":"G487*A475","v":147.77984768826445},{"$f":"$A493/B491","v":1.7675531044496235},null,{"$f":"$A493/D491","v":0.91626178262405744},{"$f":"$A493/E491","v":0.94022186529121776}]
[{"$f":"G488*A476","v":161.28561781223891},{"$f":"$A494/B491","v":1.9290918141184235},{"$f":"$A494/C491","v":1.0913911493024699},null,{"$f":"$A494/E491","v":1.0261498221594942}]
[{"$f":"G489*A477","v":157.17550627531105},{"$f":"$A495/B491","v":1.8799319285157807},{"$f":"$A495/C491","v":1.0635787540319188},{"$f":"$A495/D491","v":0.97451656513035989}]
[]
[null,"Game Differential"]
[null,null,{"$f":"$C$34/$B$35","v":1.3333333333333333},{"$f":"$D$34/$B$36","v":0.66666666666666663},{"$f":"$E$34/$B$37","v":0}]
[null,{"$f":"$B$35/$C$34","v":0.75},null,{"$f":"$D$35/$C$36","v":1},{"$f":"$E$35/$C$37","v":2}]
[null,{"$f":"$B$36/$D$34","v":1.5},{"$f":"$C$36/$D$35","v":1},null,{"$f":"$E$36/$D$37","v":2}]
[null,{"$f":"B483","v":5},{"$f":"$C$37/$E$35","v":0.5},{"$f":"$D$37/$E$36","v":0.5}]
[]
[]
[null,null,{"$f":"C498/C492","v":2.3567374725994976},{"$f":"D498/D492","v":1.2860612094122823},{"$f":"E498/E492","v":0},{"$f":"SUM(B504:E504)","v":3.6427986820117799},{"$f":"(F504/3)","v":1.21426622733726},{"$f":"ABS(G504-G486)","v":2.6131514107685661E-5},{"$f":"SUM(H504:H507)","v":7.8931836689388746E-5}]
[null,{"$f":"B499/B493","v":0.42431539856537054},null,{"$f":"D499/D493","v":1.0913911493024699},{"$f":"E499/E493","v":2.1271575080638376},{"$f":"SUM(B505:E505)","v":3.6428640559316783},{"$f":"(F505/3)","v":1.2142880186438927},{"$f":"ABS(G505-G487)","v":2.3588503384797121E-5}]
[null,{"$f":"B500/B494","v":0.77756796696868768},{"$f":"C500/C494","v":0.91626178262405755},null,{"$f":"E500/E494","v":1.9490331302607198},{"$f":"SUM(B506:E506)","v":3.6428628798534648},{"$f":"(F506/3)","v":1.2142876266178215},{"$f":"ABS(G506-G488)","v":1.8105861355088848E-5}]
[null,{"$f":"B501/B495","v":2.6596707700727946},{"$f":"C501/C495","v":0.47011093264560888},{"$f":"D501/D495","v":0.51307491107974712},null,{"$f":"SUM(B507:E507)","v":3.6428566137981506},{"$f":"(F507/3)","v":1.2142855379327169},{"$f":"ABS(G507-G489)","v":1.1105957841817116E-5}]
[]
["GF/GA",{"$f":"G504*A492","v":101.52118070861506},{"$f":"G505*A493","v":179.4472984448789},{"$f":"G506*A494","v":195.84713006081262},{"$f":"G507*A495","v":190.85594418736321},"Iteration",{"$f":"G491+1","v":27}]
[{"$f":"G504*A492","v":101.52118070861506},null,{"$f":"$A510/C509","v":0.56574371187760997},{"$f":"$A510/D509","v":0.51836950930601666},{"$f":"$A510/E509","v":0.53192569474782381}]
[{"$f":"G505*A493","v":179.4472984448789},{"$f":"$A511/B509","v":1.7675848250812458},null,{"$f":"$A511/D509","v":0.91626207843412666},{"$f":"$A511/E509","v":0.94022378610705226}]
[{"$f":"G506*A494","v":195.84713006081262},{"$f":"$A512/B509","v":1.929125810927385},{"$f":"$A512/C509","v":1.0913907969529633},null,{"$f":"$A512/E509","v":1.0261515872335083}]
[{"$f":"G507*A495","v":190.85594418736321},{"$f":"$A513/B509","v":1.8799618252584727},{"$f":"$A513/C509","v":1.0635765812099351},{"$f":"$A513/D509","v":0.97451488887327786}]
[]
[null,"Game Differential"]
[null,null,{"$f":"$C$34/$B$35","v":1.3333333333333333},{"$f":"$D$34/$B$36","v":0.66666666666666663},{"$f":"$E$34/$B$37","v":0}]
[null,{"$f":"$B$35/$C$34","v":0.75},null,{"$f":"$D$35/$C$36","v":1},{"$f":"$E$35/$C$37","v":2}]
[null,{"$f":"$B$36/$D$34","v":1.5},{"$f":"$C$36/$D$35","v":1},null,{"$f":"$E$36/$D$37","v":2}]
[null,{"$f":"B501","v":5},{"$f":"$C$37/$E$35","v":0.5},{"$f":"$D$37/$E$36","v":0.5}]
[]
[]
[null,null,{"$f":"C516/C510","v":2.3567797667749946},{"$f":"D516/D510","v":1.2860838739515899},{"$f":"E516/E510","v":0},{"$f":"SUM(B522:E522)","v":3.6428636407265844},{"$f":"(F522/3)","v":1.2142878802421948},{"$f":"ABS(G522-G504)","v":2.1652904934832407E-5},{"$f":"SUM(H522:H525)","v":4.4828155983278606E-5}]
[null,{"$f":"B517/B511","v":0.4243077839082075},null,{"$f":"D517/D511","v":1.0913907969529633},{"$f":"E517/E511","v":2.1271531624198703},{"$f":"SUM(B523:E523)","v":3.642851743281041},{"$f":"(F523/3)","v":1.2142839144270137},{"$f":"ABS(G523-G505)","v":4.1042168790195177E-6}]
[null,{"$f":"B518/B512","v":0.77755426395902494},{"$f":"C518/C512","v":0.91626207843412666},null,{"$f":"E518/E512","v":1.9490297777465557},{"$f":"SUM(B524:E524)","v":3.6428461201397075},{"$f":"(F524/3)","v":1.2142820400465693},{"$f":"ABS(G524-G506)","v":5.5865712522695787E-6}]
[null,{"$f":"B519/B513","v":2.6596284737391191},{"$f":"C519/C513","v":0.47011189305352613},{"$f":"D519/D513","v":0.51307579361675415},null,{"$f":"SUM(B525:E525)","v":3.6428161604093994},{"$f":"(F525/3)","v":1.2142720534697997},{"$f":"ABS(G525-G507)","v":1.3484462917157103E-5}]
[]
["GF/GA",{"$f":"G522*A510","v":123.27593932234899},{"$f":"G523*A511","v":217.89996798900012},{"$f":"G524*A512","v":237.81365262750933},{"$f":"G525*A513","v":231.75103926530701},"Iteration",{"$f":"G509+1","v":28}]
[{"$f":"G522*A510","v":123.27593932234899},null,{"$f":"$A528/C527","v":0.56574555957976147},{"$f":"$A528/D527","v":0.51837200244948811},{"$f":"$A528/E527","v":0.53193262784562334}]
[{"$f":"G523*A511","v":217.89996798900012},{"$f":"$A529/B527","v":1.7675790522205861},null,{"$f":"$A529/D527","v":0.91626349278735364},{"$f":"$A529/E527","v":0.94023297017257268}]
[{"$f":"G524*A512","v":237.81365262750933},{"$f":"$A530/B527","v":1.9291165326727753},{"$f":"$A530/C527","v":1.0913891122715285},null,{"$f":"$A530/E527","v":1.0261600266450666}]
[{"$f":"G525*A513","v":231.75103926530701},{"$f":"$A531/B527","v":1.8799373222321276},{"$f":"$A531/C527","v":1.0635661923410935},{"$f":"$A531/D527","v":0.97450687420499671}]
[]
[null,"Game Differential"]
[null,null,{"$f":"$C$34/$B$35","v":1.3333333333333333},{"$f":"$D$34/$B$36","v":0.66666666666666663},{"$f":"$E$34/$B$37","v":0}]
[null,{"$f":"$B$35/$C$34","v":0.75},null,{"$f":"$D$35/$C$36","v":1},{"$f":"$E$35/$C$37","v":2}]
[null,{"$f":"$B$36/$D$34","v":1.5},{"$f":"$C$36/$D$35","v":1},null,{"$f":"$E$36/$D$37","v":2}]
[null,{"$f":"B519","v":5},{"$f":"$C$37/$E$35","v":0.5},{"$f":"$D$37/$E$36","v":0.5}]
[]
[]
[null,null,{"$f":"C534/C528","v":2.3567720696274481},{"$f":"D534/D528","v":1.286077688448517},{"$f":"E534/E528","v":0},{"$f":"SUM(B540:E540)","v":3.6428497580759651},{"$f":"(F540/3)","v":1.2142832526919884},{"$f":"ABS(G540-G522)","v":4.6275502063597429E-6},{"$f":"SUM(H540:H543)","v":2.9770596263078986E-5}]
[null,{"$f":"B535/B529","v":0.42430916968482113},null,{"$f":"D535/D529","v":1.0913891122715285},{"$f":"E535/E529","v":2.127132384682187},{"$f":"SUM(B541:E541)","v":3.6428306666385364},{"$f":"(F541/3)","v":1.2142768888795121},{"$f":"ABS(G541-G523)","v":7.0255475015379432E-6}]
[null,{"$f":"B536/B530","v":0.77755800367423222},{"$f":"C536/C530","v":0.91626349278735375},null,{"$f":"E536/E530","v":1.9490137484099934},{"$f":"SUM(B542:E542)","v":3.6428352448715793},{"$f":"(F542/3)","v":1.214278414957193},{"$f":"ABS(G542-G524)","v":3.625089376235735E-6}]
[null,{"$f":"B537/B531","v":2.6596631392281167},{"$f":"C537/C531","v":0.47011648508628628},{"$f":"D537/D531","v":0.51308001332253328},null,{"$f":"SUM(B543:E543)","v":3.6428596376369362},{"$f":"(F543/3)","v":1.2142865458789787},{"$f":"ABS(G543-G525)","v":1.4492409178945564E-5}]
[]
["GF/GA",{"$f":"G540*A528","v":149.69190857900213},{"$f":"G541*A529","v":264.59089521662833},{"$f":"G542*A530","v":288.7719851677125},{"$f":"G543*A531","v":281.41216897333322},"Iteration",{"$f":"G527+1","v":29}]
[{"$f":"G540*A528","v":149.69190857900213},null,{"$f":"$A546/C545","v":0.56574852455314073},{"$f":"$A546/D545","v":0.51837406766471583},{"$f":"$A546/E545","v":0.53193118522599148}]
[{"$f":"G541*A529","v":264.59089521662833},{"$f":"$A547/B545","v":1.767569788696939},null,{"$f":"$A547/D545","v":0.91626234124809469},{"$f":"$A547/E545","v":0.94022549267121813}]
[{"$f":"G542*A530","v":288.7719851677125},{"$f":"$A548/B545","v":1.9291088470243454},{"$f":"$A548/C545","v":1.0913904839064337},null,{"$f":"$A548/E545","v":1.026153155427606}]
[{"$f":"G543*A531","v":281.41216897333322},{"$f":"$A549/B545","v":1.8799424207008073},{"$f":"$A549/C545","v":1.0635746507563415},{"$f":"$A549/D545","v":0.97451339959413008}]
[]
[null,"Game Differential"]
[null,null,{"$f":"$C$34/$B$35","v":1.3333333333333333},{"$f":"$D$34/$B$36","v":0.66666666666666663},{"$f":"$E$34/$B$37","v":0}]
[null,{"$f":"$B$35/$C$34","v":0.75},null,{"$f":"$D$35/$C$36","v":1},{"$f":"$E$35/$C$37","v":2}]
[null,{"$f":"$B$36/$D$34","v":1.5},{"$f":"$C$36/$D$35","v":1},null,{"$f":"$E$36/$D$37","v":2}]
[null,{"$f":"B537","v":5},{"$f":"$C$37/$E$35","v":0.5},{"$f":"$D$37/$E$36","v":0.5}]
[]
[]
[null,null,{"$f":"C552/C546","v":2.3567597182625852},{"$f":"D552/D546","v":1.286072564682897},{"$f":"E552/E546","v":0},{"$f":"SUM(B558:E558)","v":3.6428322829454824},{"$f":"(F558/3)","v":1.2142774276484942},{"$f":"ABS(G558-G540)","v":5.8250434942230811E-6},{"$f":"SUM(H558:H561)","v":2.2457281778409666E-5}]
[null,{"$f":"B553/B547","v":0.42431139341485558},null,{"$f":"D553/D547","v":1.0913904839064337},{"$f":"E553/E547","v":2.127149301512683},{"$f":"SUM(B559:E559)","v":3.6428511788339724},{"$f":"(F559/3)","v":1.2142837262779909},{"$f":"ABS(G559-G541)","v":6.837398478731771E-6}]
[null,{"$f":"B554/B548","v":0.7775611014970738},{"$f":"C554/C548","v":0.9162623412480948},null,{"$f":"E554/E548","v":1.9490267991882599},{"$f":"SUM(B560:E560)","v":3.6428502419334285},{"$f":"(F560/3)","v":1.2142834139778096},{"$f":"ABS(G560-G542)","v":4.9990206165695383E-6}]
[null,{"$f":"B555/B549","v":2.6596559261299575},{"$f":"C555/C549","v":0.47011274633560907},{"$f":"D555/D549","v":0.51307657771380299},null,{"$f":"SUM(B561:E561)","v":3.6428452501793696},{"$f":"(F561/3)","v":1.2142817500597898},{"$f":"ABS(G561-G543)","v":4.7958191888852753E-6}]
[]
["GF/GA",{"$f":"G558*A546","v":181.76750568910427},{"$f":"G559*A547","v":321.28841818287685},{"$f":"G560*A548","v":350.65103201059935},{"$f":"G561*A549","v":341.71366102906035},"Iteration",{"$f":"G545+1","v":30}]
[{"$f":"G558*A546","v":181.76750568910427},null,{"$f":"$A564/C563","v":0.56574558995040558},{"$f":"$A564/D563","v":0.51837151211809318},{"$f":"$A564/E563","v":0.53192929174009884}]
[{"$f":"G559*A547","v":321.28841818287685},{"$f":"$A565/B563","v":1.7675789573325036},null,{"$f":"$A565/D563","v":0.91626257690057233},{"$f":"$A565/E563","v":0.94022702286858095}]
[{"$f":"G560*A548","v":350.65103201059935},{"$f":"$A566/B563","v":1.9291183574381772},{"$f":"$A566/C563","v":1.0913902032130189},null,{"$f":"$A566/E563","v":1.0261545615549124}]
[{"$f":"G561*A549","v":341.71366102906035},{"$f":"$A567/B563","v":1.8799491126512375},{"$f":"$A567/C563","v":1.0635729198136159},{"$f":"$A567/D563","v":0.9745120642300894}]
[]
[null,"Game Differential"]
[null,null,{"$f":"$C$34/$B$35","v":1.3333333333333333},{"$f":"$D$34/$B$36","v":0.66666666666666663},{"$f":"$E$34/$B$37","v":0}]
[null,{"$f":"$B$35/$C$34","v":0.75},null,{"$f":"$D$35/$C$36","v":1},{"$f":"$E$35/$C$37","v":2}]
[null,{"$f":"$B$36/$D$34","v":1.5},{"$f":"$C$36/$D$35","v":1},null,{"$f":"$E$36/$D$37","v":2}]
[null,{"$f":"B555","v":5},{"$f":"$C$37/$E$35","v":0.5},{"$f":"$D$37/$E$36","v":0.5}]
[]
[]
[null,null,{"$f":"C570/C564","v":2.3567719431100045},{"$f":"D570/D564","v":1.2860789049587846},{"$f":"E570/E564","v":0},{"$f":"SUM(B576:E576)","v":3.6428508480687891},{"$f":"(F576/3)","v":1.2142836160229298},{"$f":"ABS(G576-G558)","v":6.1883744355561987E-6},{"$f":"SUM(H576:H579)","v":1.2925438963584668E-5}]
[null,{"$f":"B571/B565","v":0.42430919246280419},null,{"$f":"D571/D565","v":1.0913902032130189},{"$f":"E571/E565","v":2.1271458396272318},{"$f":"SUM(B577:E577)","v":3.6428452353030547},{"$f":"(F577/3)","v":1.2142817451010182},{"$f":"ABS(G577-G559)","v":1.9811769726985062E-6}]
[null,{"$f":"B572/B566","v":0.77755726817713977},{"$f":"C572/C566","v":0.91626257690057233},null,{"$f":"E572/E566","v":1.9490241284601788},{"$f":"SUM(B578:E578)","v":3.6428439735378912},{"$f":"(F578/3)","v":1.2142813245126305},{"$f":"ABS(G578-G560)","v":2.0894651791003582E-6}]
[null,{"$f":"B573/B567","v":2.659646458700494},{"$f":"C573/C567","v":0.47011351143429048},{"$f":"D573/D567","v":0.51307728077745618},null,{"$f":"SUM(B579:E579)","v":3.6428372509122404},{"$f":"(F579/3)","v":1.2142790836374135},{"$f":"ABS(G579-G561)","v":2.6664223762296047E-6}]
[]
["GF/GA",{"$f":"G576*A564","v":220.71730408363399},{"$f":"G577*A565","v":390.13466111184943},{"$f":"G578*A566","v":425.78899959155137},{"$f":"G579*A567","v":414.93575118075313},"Iteration",{"$f":"G563+1","v":31}]
[{"$f":"G576*A564","v":220.71730408363399},null,{"$f":"$A582/C581","v":0.56574646163098941},{"$f":"$A582/D581","v":0.51837249035405453},{"$f":"$A582/E581","v":0.53193127720509614}]
[{"$f":"G577*A565","v":390.13466111184943},{"$f":"$A583/B581","v":1.7675762339142198},null,{"$f":"$A583/D581","v":0.91626289426475493},{"$f":"$A583/E581","v":0.94022908366336477}]
[{"$f":"G578*A566","v":425.78899959155137},{"$f":"$A584/B581","v":1.9291147169422285},{"$f":"$A584/C581","v":1.0913898251903336},null,{"$f":"$A584/E581","v":1.0261564552582272}]
[{"$f":"G579*A567","v":414.93575118075313},{"$f":"$A585/B581","v":1.8799420956298292},{"$f":"$A585/C581","v":1.063570588673723},{"$f":"$A585/D581","v":0.97451026583305467}]
[]
[null,"Game Differential"]
[null,null,{"$f":"$C$34/$B$35","v":1.3333333333333333},{"$f":"$D$34/$B$36","v":0.66666666666666663},{"$f":"$E$34/$B$37","v":0}]
[null,{"$f":"$B$35/$C$34","v":0.75},null,{"$f":"$D$35/$C$36","v":1},{"$f":"$E$35/$C$37","v":2}]
[null,{"$f":"$B$36/$D$34","v":1.5},{"$f":"$C$36/$D$35","v":1},null,{"$f":"$E$36/$D$37","v":2}]
[null,{"$f":"B573","v":5},{"$f":"$C$37/$E$35","v":0.5},{"$f":"$D$37/$E$36","v":0.5}]
[]
[]
[null,null,{"$f":"C588/C582","v":2.3567683118856264},{"$f":"D588/D582","v":1.2860764779614857},{"$f":"E588/E582","v":0},{"$f":"SUM(B594:E594)","v":3.6428447898471124},{"$f":"(F594/3)","v":1.2142815966157041},{"$f":"ABS(G594-G576)","v":2.0194072256618512E-6},{"$f":"SUM(H594:H597)","v":8.0538045637013056E-6}]
[null,{"$f":"B589/B583","v":0.42430984622324208},null,{"$f":"D589/D583","v":1.0913898251903336},{"$f":"E589/E583","v":2.127141177347446},{"$f":"SUM(B595:E595)","v":3.6428408487610215},{"$f":"(F595/3)","v":1.2142802829203405},{"$f":"ABS(G595-G577)","v":1.4621806776471402E-6}]
[null,{"$f":"B590/B584","v":0.77755873553108179},{"$f":"C590/C584","v":0.91626289426475493},null,{"$f":"E590/E584","v":1.9490205316661093},{"$f":"SUM(B596:E596)","v":3.6428421614619459},{"$f":"(F596/3)","v":1.2142807204873154},{"$f":"ABS(G596-G578)","v":6.0402531509851087E-7}]
[null,{"$f":"B591/B585","v":2.6596563860254805},{"$f":"C591/C585","v":0.47011454183168239},{"$f":"D591/D585","v":0.51307822762911359},null,{"$f":"SUM(B597:E597)","v":3.6428491554862763},{"$f":"(F597/3)","v":1.2142830518287588},{"$f":"ABS(G597-G579)","v":3.9681913452938034E-6}]
[]
["GF/GA",{"$f":"G594*A582","v":268.01296040338894},{"$f":"G595*A583","v":473.73282667192768},{"$f":"G596*A584","v":517.02737319960227},{"$f":"G597*A585","v":503.84945025662341},"Iteration",{"$f":"G581+1","v":32}]
[{"$f":"G594*A582","v":268.01296040338894},null,{"$f":"$A600/C599","v":0.56574707369602428},{"$f":"$A600/D599","v":0.51837286437041419},{"$f":"$A600/E599","v":0.53193063973153709}]
[{"$f":"G595*A583","v":473.73282667192768},{"$f":"$A601/B599","v":1.7675743216257442},null,{"$f":"$A601/D599","v":0.91626256408872886},{"$f":"$A601/E599","v":0.94022693967541981}]
[{"$f":"G596*A584","v":517.02737319960227},{"$f":"$A602/B599","v":1.9291133250474874},{"$f":"$A602/C599","v":1.0913902184736233},null,{"$f":"$A602/E599","v":1.0261544851071427}]
[{"$f":"G597*A585","v":503.84945025662341},{"$f":"$A603/B599","v":1.8799443485802876},{"$f":"$A603/C599","v":1.0635730139206763},{"$f":"$A603/D599","v":0.97451213683053606}]
[]
[null,"Game Differential"]
[null,null,{"$f":"$C$34/$B$35","v":1.3333333333333333},{"$f":"$D$34/$B$36","v":0.66666666666666663},{"$f":"$E$34/$B$37","v":0}]
[null,{"$f":"$B$35/$C$34","v":0.75},null,{"$f":"$D$35/$C$36","v":1},{"$f":"$E$35/$C$37","v":2}]
[null,{"$f":"$B$36/$D$34","v":1.5},{"$f":"$C$36/$D$35","v":1},null,{"$f":"$E$36/$D$37","v":2}]
[null,{"$f":"B591","v":5},{"$f":"$C$37/$E$35","v":0.5},{"$f":"$D$37/$E$36","v":0.5}]
[]
[]
[null,null,{"$f":"C606/C600","v":2.3567657621676585},{"$f":"D606/D600","v":1.2860755500316583},{"$f":"E606/E600","v":0},{"$f":"SUM(B612:E612)","v":3.6428413121993168},{"$f":"(F612/3)","v":1.2142804373997722},{"$f":"ABS(G612-G594)","v":1.1592159319118167E-6},{"$f":"SUM(H612:H615)","v":6.1325848514925951E-6}]
[null,{"$f":"B607/B601","v":0.42431030527201818},null,{"$f":"D607/D601","v":1.0913902184736233},{"$f":"E607/E601","v":2.1271460278413521},{"$f":"SUM(B613:E613)","v":3.6428465515869934},{"$f":"(F613/3)","v":1.2142821838623312},{"$f":"ABS(G613-G595)","v":1.9009419907067837E-6}]
[null,{"$f":"B608/B602","v":0.77755929655562128},{"$f":"C608/C602","v":0.91626256408872886},null,{"$f":"E608/E602","v":1.9490242736610719},{"$f":"SUM(B614:E614)","v":3.6428461343054224},{"$f":"(F614/3)","v":1.2142820447684741},{"$f":"ABS(G614-G596)","v":1.3242811587321768E-6}]
[null,{"$f":"B609/B603","v":2.659653198657685},{"$f":"C609/C603","v":0.47011346983770985},{"$f":"D609/D603","v":0.51307724255357123},null,{"$f":"SUM(B615:E615)","v":3.6428439110489661},{"$f":"(F615/3)","v":1.2142813036829887},{"$f":"ABS(G615-G597)","v":1.7481457701418179E-6}]

{"sheet":"MiteGamesMatrix","index":1,"n_rows":111,"n_cols":52,"rows_kept":111,"cut":false,"hidden":false,"merged":[]}
["Leave this blank line in here!!!!!"]
["Team","101","102","103","104","105","106","107","108","109","110","111","112","113","114","115","116","117","118","119","120","121","122","123","124","125","126","127","128","129","130","131","132","133","134","135","136","137","138","139","140","141","142","143","144","145","146","151","152"]
["101",null,1,8,11,null,4,6,null,null,null,null,null,null,null,null,null,null,null,null,null,null,null,null,null,null,null,null,null,null,null,null,null,null,null,null,null,null,null,null,null,null,null,null,null,null,null,2,4]
["102",1,null,15,12,null,8,6,9,7,null,null,6,null,null,null,null,null,null,null,null,null,null,null,null,null,null,null,null,null,null,null,null,null,null,null,null,null,null,null,null,null,null,null,null,null,null,null,2]
["103",0,0,null,5,0,0,null,null,null,2,null,8]
["104",3,1,1,null,null,null,1,null,null,2,null,null,2,null,null,null,null,null,null,null,null,null,null,null,null,null,null,null,null,null,null,null,null,null,null,null,null,null,null,null,null,null,null,null,null,null,null,0]
["105",null,null,8,null,null,null,8,2,1,null,null,4]
["106",0,1,16,null,null,null,2,null,13,null,null,null,null,13,null,null,null,null,null,null,null,null,null,null,null,null,null,null,null,null,null,null,null,null,null,null,null,null,null,null,null,null,null,null,null,null,5,7]
["107",2,0,null,4,2,2,null,null,0,4,null,null,null,null,null,7]
["108",null,1,null,null,6,null,null,null,3,4,null,null,null,null,null,6,8]
["109",null,1,null,null,2,1,4,5,null,4,9,3,5,null,null,null,null,null,null,null,null,null,null,null,null,null,null,null,null,null,null,null,null,null,null,null,null,null,null,null,null,null,null,null,null,null,null,2]
["110",null,null,9,3,null,null,4,1,2,null,5,5,8,null,null,null,4]
["111",null,null,null,null,null,null,null,null,2,4,null,4,2,7,null,6,null,null,11]
["112",null,0,9,null,3,null,null,null,4,4,6,null,null,9,null,null,null,null,null,null,null,null,null,null,null,null,null,null,null,null,null,null,null,null,null,null,null,null,null,null,null,null,null,null,null,null,null,0]
["113",null,null,null,6,null,null,null,null,1,4,2,null,null,8,7,4,null,null,null,22]
["114",null,null,null,null,null,1,null,null,null,null,3,3,2,null,null,3,6]
["115",null,null,null,null,null,null,null,null,null,null,null,null,0,null,null,8,3,null,null,null,null,10]
["116",null,null,null,null,null,null,3,7,null,null,4,null,4,7,6,null,null,14,8]
["117",null,null,null,null,null,null,null,0,null,5,null,null,null,4,13,null,null,null,7,16,null,null,null,16]
["118",null,null,null,null,null,null,null,null,null,null,null,null,null,null,null,1,null,null,null,5,2,null,null,null,null,null,null,null,null,null,1]
["119",null,null,null,null,null,null,null,null,null,null,2,null,null,null,null,0,1,null,null,11,18,4,null,null,null,null,6]
["120",null,null,null,null,null,null,null,null,null,null,null,null,0,null,null,null,0,3,0,null,null,1,11]
["121",null,null,null,null,null,null,null,null,null,null,null,null,null,null,null,null,null,4,0,null,null,1,20,3,null,null,null,17,null,null,null,null,null,null,null,null,null,null,3]
["122",null,null,null,null,null,null,null,null,null,null,null,null,null,null,2,null,null,null,7,10,3,null,null,5,1,5]
["123",null,null,null,null,null,null,null,null,null,null,null,null,null,null,null,null,null,null,null,0,0,null,null,0,1,2,1,1,2,null,null,null,null,null,null,null,null,null,null,null,null,1]
["124",null,null,null,null,null,null,null,null,null,null,null,null,null,null,null,null,2,null,null,null,2,3,31,null,3,8,7,null,null,17,8]
["125",null,null,null,null,null,null,null,null,null,null,null,null,null,null,null,null,null,null,null,null,null,4,36,3,null,2,null,9,null,null,null,5]
["126",null,null,null,null,null,null,null,null,null,null,null,null,null,null,null,null,null,null,null,null,null,2,19,2,4,null,4,12,null,null,null,null,null,null,null,null,null,null,null,null,null,null,null,null,null,6]
["127",null,null,null,null,null,null,null,null,null,null,null,null,null,null,null,null,null,null,4,null,null,null,15,1,null,3,null,null,12,5,null,null,null,9,null,null,null,null,null,null,null,1]
["128",null,null,null,null,null,null,null,null,null,null,null,null,null,null,null,null,null,null,null,null,3,null,25,null,4,2,null,null,null,null,8,null,null,null,1]
["129",null,null,null,null,null,null,null,null,null,null,null,null,null,null,null,null,null,null,null,null,null,null,6,null,null,null,3,null,null,null,1,2]
["130",null,null,null,null,null,null,null,null,null,null,null,null,null,null,null,null,null,null,null,null,null,null,null,2,null,null,3,null,null,null,1,1,null,13,null,null,null,1,3,null,null,null,null,null,null,3]
["131",null,null,null,null,null,null,null,null,null,null,null,null,null,null,null,null,null,4,null,null,null,null,null,7,null,null,null,9,12,5,null,8,2,null,null,null,null,null,null,null,null,4]
["132",null,null,null,null,null,null,null,null,null,null,null,null,null,null,null,null,null,null,null,null,null,null,null,null,7,null,null,null,18,1,4,null,5,null,4,null,null,null,null,null,null,8]
["133",null,null,null,null,null,null,null,null,null,null,null,null,null,null,null,null,null,null,null,null,null,null,null,null,null,null,null,null,null,null,2,2,null,null,8,17,12,null,null,4,null,0]
["134",null,null,null,null,null,null,null,null,null,null,null,null,null,null,null,null,null,null,null,null,null,null,null,null,null,null,0,null,null,3,null,null,null,null,null,10,4,0,null,2,4]
["135",null,null,null,null,null,null,null,null,null,null,null,null,null,null,null,null,null,null,null,null,null,null,null,null,null,null,null,7,null,null,null,5,3,null,null,null,9,11,2,null,22,3,16,17]
["136",null,null,null,null,null,null,null,null,null,null,null,null,null,null,null,null,null,null,null,null,null,null,null,null,null,null,null,null,null,null,null,null,0,0,null,null,null,0,0]
["137",null,null,null,null,null,null,null,null,null,null,null,null,null,null,null,null,null,null,null,null,null,null,null,null,null,null,null,null,null,null,null,null,2,11,4,null,null,null,3,4,13,0,null,null,null,1]
["138",null,null,null,null,null,null,null,null,null,null,null,null,null,null,null,null,null,null,null,null,null,null,null,null,null,null,null,null,null,4,null,null,null,7,1,7,null,null,null,2,9,null,3,null,8]
["139",null,null,null,null,null,null,null,null,null,null,null,null,null,null,null,null,null,null,null,null,4,null,null,null,null,null,null,null,null,11,null,null,null,null,7,21,10,null,null,null,20,2,11]
["140",null,null,null,null,null,null,null,null,null,null,null,null,null,null,null,null,null,null,null,null,null,null,null,null,null,null,null,null,null,null,null,null,5,9,null,null,12,4,null,null,36,2,5,7,null,1]
["141",null,null,null,null,null,null,null,null,null,null,null,null,null,null,null,null,null,null,null,null,null,null,null,null,null,null,null,null,null,null,null,null,null,0,1,null,1,0,0,1,null,null,0,4]
["142",null,null,null,null,null,null,null,null,null,null,null,null,null,null,null,null,null,null,null,null,null,null,17,null,null,null,1,null,null,null,6,15,11,null,9,null,25,null,9,10,null,null,null,20,14]
["143",null,null,null,null,null,null,null,null,null,null,null,null,null,null,null,null,null,null,null,null,null,null,null,null,null,null,null,null,null,null,null,null,null,null,1,null,null,3,4,3,9,null,null,7,5,2]
["144",null,null,null,null,null,null,null,null,null,null,null,null,null,null,null,null,null,null,null,null,null,null,null,null,null,null,null,null,null,null,null,null,null,null,0,null,null,null,null,6,7,2,5,null,7,3]
["145",null,null,null,null,null,null,null,null,null,null,null,null,null,null,null,null,null,null,null,null,null,null,null,null,null,null,null,null,null,null,null,null,null,null,null,null,null,2,null,null,null,2,8,8,null,1]
["146",null,null,null,null,null,null,null,null,null,null,null,null,null,null,null,null,null,null,null,null,null,null,null,null,null,2,null,null,null,6,null,null,null,null,null,null,14,null,null,9,null,null,4,15,12]
["151",6,null,null,null,null,2]
["152",3,0,null,6,null,5,null,null,8,null,null,4]
[]
[]
[]
[]
[null,null,null,null,null,null,null,null,null,null,null,null,"From -->","b3: AW50"]
[null,null,null,null,null,null,null,null,null,null,null,null,"To -->","b3: AW50"]
[]
[]
[]
[null,null,null,null,null,"CSHL",1,2,3,4,5,6,7,8,9,10,11,12,13,14,15,16,17,18,19,20,21,22,23,24,25,26,27,28,29,30,31,32,33,34,35,36,37,38,39,40,41,42,43,44,45,46]
[null,null,null,null,null,"MW",1,2,4,3,5,6,7,9,8,10,11,12,13,15,14,16,17,20,18,21,19,23,22,24,25,29,30,27,28,26,31,32,37,33,34,36,35,38,39,42,40,41,43,44,46,45]
[null,null,null,null,null,"Walkush",2,3,4,5,6,7,9,10,11,12,14,13,16,15,17,18,19,20,21,23,26,22,24,25,27,28,29,30,31,34,32,33,35,39,38,36,37,40,42,41,43,44,45,46,47,48]
[null,null,null,null,null,"Custom",2,1,6,48,8,9,7,10,12,13,11,16,3,4,17,14,15,22,19,24,42,25,26,31,21,18,32,39,27,46,35,33,28,20,40,30,38,43,45,29,37,44,23,34,41,36]
[null,null,null,null,null,"Index",2,1,6,48,8,9,7,10,12,13,11,16,3,4,17,14,15,22,19,24,42,25,26,31,21,18,32,39,27,46,35,33,28,20,40,30,38,43,45,29,37,44,23,34,41,36]
[null,null,null,null,null,"Team","102","101","106","152","108","109","107","110","112","113","111","116","103","104","117","114","115","122","119","124","142","125","126","131","121","118","132","139","127","146","135","133","128","120","140","130","138","143","145","129","137","144","123","134","141","136"]
[1,1,2,2,2,"102",{"$f":"INDEX($B$3:$AW$50,$E66,G$64)&\"-\"&INDEX($B$3:$AW$50,G$64,$E66)","v":"-"},{"$f":"INDEX($B$3:$AW$50,$E66,H$64)&\"-\"&INDEX($B$3:$AW$50,H$64,$E66)","v":"1-1"},"8-1","2-0","9-1","7-1","6-0","-","6-0","-","-","-","15-0","12-1","-","-","-",{"$f":"INDEX($B$3:$AW$50,$E66,X$64)&\"-\"&INDEX($B$3:$AW$50,X$64,$E66)","v":"-"},"-","-","-","-","-","-","-","-","-","-","-","-","-","-","-",{"$f":"INDEX($B$3:$AW$50,$E66,AN$64)&\"-\"&INDEX($B$3:$AW$50,AN$64,$E66)","v":"-"},"-","-","-","-","-","-","-","-","-","-","-","-"]
[2,2,3,1,1,"101",{"$f":"INDEX($B$3:$AW$50,$E67,G$64)&\"-\"&INDEX($B$3:$AW$50,G$64,$E67)","v":"1-1"},"-","4-0","4-3","-","-","6-2","-","-","-","-","-","8-0","11-3","-","-","-","-","-","-","-","-","-","-","-","-","-","-","-","-","-","-","-","-","-","-","-","-","-","-","-","-","-","-","-","-"]
[3,4,4,6,6,"106","1-8","0-4","-","7-5","-","13-1","2-2","-","-","-","-","-","16-0","-","-","13-1","-","-","-","-","-","-","-","-","-","-","-","-","-","-","-","-","-","-","-","-","-","-","-","-","-","-","-","-","-","-"]
[4,3,5,48,48,"152","0-2","3-4","5-7","-","-","8-2","-","-","4-0","-","-","-","-","6-0","-","-","-","-","-","-","-","-","-","-","-","-","-","-","-","-","-","-","-","-","-","-","-","-","-","-","-","-","-","-","-","-"]
[5,5,6,8,8,"108","1-9","-","-","-","-","3-5","-","4-1","-","-","-","6-7","-","-","8-0","-","-","-","-","-","-","-","-","-","-","-","-","-","-","-","-","-","-","-","-","-","-","-","-","-","-","-","-","-","-","-"]
[6,6,7,9,9,"109","1-7","-","1-13","2-8","5-3","-","4-0","4-2","3-4","5-1","9-2","-","-","-","-","-","-","-","-","-","-","-","-","-","-","-","-","-","-","-","-","-","-","-","-","-","-","-","-","-","-","-","-","-","-","-"]
[7,7,9,7,7,"107","0-6","2-6","2-2","-","-","0-4","-","4-4","-","-","-","7-3","-","4-1","-","-","-","-","-","-","-","-","-","-","-","-","-","-","-","-","-","-","-","-","-","-","-","-","-","-","-","-","-","-","-","-"]
[8,9,10,10,10,"110","-","-","-","-","1-4","2-4","4-4","-","5-4","8-4","5-4","-","9-2","3-2","4-5","-","-","-","-","-","-","-","-","-","-","-","-","-","-","-","-","-","-","-","-","-","-","-","-","-","-","-","-","-","-","-"]
[9,8,11,12,12,"112","0-6","-","-","0-4","-","4-3","-","4-5","-","-","6-4","-","9-8","-","-","9-3","-","-","-","-","-","-","-","-","-","-","-","-","-","-","-","-","-","-","-","-","-","-","-","-","-","-","-","-","-","-"]
[10,10,12,13,13,"113","-","-","-","-","-","1-5","-","4-8","-","-","2-2","4-4","-","6-2","-","8-2","7-0","-","-","-","-","-","-","-","-","-","-","-","-","-","-","-","-","22-0","-","-","-","-","-","-","-","-","-","-","-","-"]
[11,11,14,11,11,"111","-","-","-","-","-","2-9","-","4-5","4-6","2-2","-","6-4","-","-","-","7-3","-","-","11-2","-","-","-","-","-","-","-","-","-","-","-","-","-","-","-","-","-","-","-","-","-","-","-","-","-","-","-"]
[12,12,13,16,16,"116","-","-","-","-","7-6","-","3-7","-","-","4-4","4-6","-","-","-","-","7-3","6-8","-","8-0","-","-","-","-","-","-","14-1","-","-","-","-","-","-","-","-","-","-","-","-","-","-","-","-","-","-","-","-"]
[13,13,16,3,3,"103","0-15","0-8","0-16","-","-","-","-","2-9","8-9","-","-","-","-","5-1","-","-","-","-","-","-","-","-","-","-","-","-","-","-","-","-","-","-","-","-","-","-","-","-","-","-","-","-","-","-","-","-"]
[14,15,15,4,4,"104","1-12","3-11","-","0-6","-","-","1-4","2-3","-","2-6","-","-","1-5","-","-","-","-","-","-","-","-","-","-","-","-","-","-","-","-","-","-","-","-","-","-","-","-","-","-","-","-","-","-","-","-","-"]
[15,14,17,17,17,"117","-","-","-","-","0-8","-","-","5-4","-","-","-","-","-","-","-","4-6","13-3","-","7-1","16-2","-","-","-","-","-","-","-","-","-","-","-","-","-","16-0","-","-","-","-","-","-","-","-","-","-","-","-"]
[16,16,18,14,14,"114","-","-","1-13","-","-","-","-","-","3-9","2-8","3-7","3-7","-","-","6-4","-",{"$f":"INDEX($B$3:$AW$50,$E81,W$64)&\"-\"&INDEX($B$3:$AW$50,W$64,$E81)","v":"-"},"-","-","-","-","-","-","-","-","-","-","-","-","-","-","-",{"$f":"INDEX($B$3:$AW$50,$E81,AM$64)&\"-\"&INDEX($B$3:$AW$50,AM$64,$E81)","v":"-"},"-","-","-","-","-","-","-","-","-","-","-","-","-"]
[17,17,19,15,15,"115","-","-","-","-","-","-","-","-","-","0-7","-","8-6","-","-","3-13","-","-","10-2","-","-","-","-","-","-","-","-","-","-","-","-","-","-","-","-","-","-","-","-","-","-","-","-","-","-","-","-"]
[18,20,20,22,22,"122",{"$f":"INDEX($B$3:$AW$50,$E83,G$64)&\"-\"&INDEX($B$3:$AW$50,G$64,$E83)","v":"-"},"-","-","-","-","-","-","-","-","-","-","-","-","-","-","-","2-10","-","7-4","5-3","-","1-4","5-2","-","3-1","-","-","-","-","-","-","-","-","10-1","-","-","-","-","-","-","-","-","-","-","-","-"]
[19,18,21,19,19,"119","-","-","-","-","-","-","-","-","-","-","2-11","0-8","-","-","1-7","-","-","4-7","-","-","-","-","-","-","18-0","-","-","-","6-4","-","-","-","-","11-0","-","-","-","-","-","-","-","-","-","-","-","-"]
[20,21,23,24,24,"124","-","-","-","-","-","-","-","-","-","-","-","-","-","-","2-16","-","-","3-5","-","-","-","3-3","8-2","8-7","2-3","-","-","-","7-1","-","-","-","-","-","-","17-2","-","-","-","-","-","-","31-0","-","-","-"]
[21,19,26,42,42,"142","-","-","-","-","-","-","-","-","-","-","-","-","-","-","-","-","-","-","-","-","-","-","-","6-4","-","-","15-8","9-2","1-1","-","9-3","11-0","-","-","10-2","-","-","-","14-2","-","25-0","20-2","17-1","-","-","-"]
[22,23,22,25,25,"125","-","-","-","-","-","-","-","-","-","-","-","-","-","-","-","-","-","4-1","-","3-3","-","-","2-4","-","-","-","5-7","-","-","-","-","-","9-4","-","-","-","-","-","-","-","-","-","36-1","-","-","-"]
[23,22,24,26,26,"126","-","-","-","-","-","-","-","-","-","-","-","-","-","-","-","-","-","2-5","-","2-8","-","4-2","-","-","-","-","-","-","4-3","6-2","-","-","12-2","-","-","-","-","-","-","-","-","-","19-2","-","-","-"]
[24,24,25,31,31,"131","-","-","-","-","-","-","-","-","-","-","-","-","-","-","-","-","-","-","-","7-8","4-6","-","-","-","-","4-1","8-4","-","-","-","-","2-2","9-8","-","-","5-1","-","-","-","12-1","-","-","-","-","-","-"]
[25,25,27,21,21,"121","-","-","-","-","-","-","-","-","-","-","-","-","-","-","-","-","-","1-3","0-18","3-2","-","-","-","-","-","4-2","-","3-4","-","-","-","-","17-3","-","-","-","-","-","-","-","-","-","20-0","-","-","-"]
[26,29,28,18,18,"118","-","-","-","-","-","-","-","-","-","-","-","1-14","-","-","-","-","-","-","-","-","-","-","-","1-4","2-4","-","-","-","-","-","-","-","-","5-3","-","-","-","-","-","-","-","-","-","-","-","-"]
[27,30,29,32,32,"132","-","-","-","-","-","-","-","-","-","-","-","-","-","-","-","-","-","-","-","-","8-15","7-5","-","4-8","-","-","-","-","-","-","4-5","5-2","-","-","-","1-1","-","-","-","18-2","-","-","-","-","-","-"]
[28,27,30,39,39,"139","-","-","-","-","-","-","-","-","-","-","-","-","-","-","-","-","-","-","-","-","2-9","-","-","-","4-3","-","-","-","-","-","7-2","-","-","-","-","11-3","-","11-4","-","-","10-3","-","-","-","20-0","21-0"]
[29,28,31,27,27,"127","-","-","-","-","-","-","-","-","-","-","-","-","-","-","-","-","-","-","4-6","1-7","1-1","-","3-4","-","-","-","-","-","-","-","-","-","-","-","-","5-3","-","-","-","12-3","-","-","15-1","9-0","-","-"]
[30,26,34,46,46,"146","-","-","-","-","-","-","-","-","-","-","-","-","-","-","-","-","-","-","-","-","-","-","2-6","-","-","-","-","-","-","-","-","-","-","-","9-1","6-3","-","4-2","12-1","-","14-1","15-3","-","-","-","-"]
[31,31,32,35,35,"135","-","-","-","-","-","-","-","-","-","-","-","-","-","-","-","-","-","-","-","-","3-9","-","-","-","-","-","5-4","2-7","-","-","-","3-8","7-1","-","-","-","11-1","16-1","-","-","9-4","17-0","-","-","22-1","-"]
[32,32,33,33,33,"133","-","-","-","-","-","-","-","-","-","-","-","-","-","-","-","-",{"$f":"INDEX($B$3:$AW$50,$E97,W$64)&\"-\"&INDEX($B$3:$AW$50,W$64,$E97)","v":"-"},"-","-","-","0-11","-","-","2-2","-","-","2-5","-","-","-","8-3","-",{"$f":"INDEX($B$3:$AW$50,$E97,AM$64)&\"-\"&INDEX($B$3:$AW$50,AM$64,$E97)","v":"-"},"-","4-5","-","-","-","-","-","12-2","-","-","-","-","17-0"]
[33,37,35,28,28,"128","-","-","-","-","-","-","-","-","-","-","-","-","-","-","-",{"$f":"INDEX($B$3:$AW$50,$E98,V$64)&\"-\"&INDEX($B$3:$AW$50,V$64,$E98)","v":"-"},"-","-","-","-","-","4-9","2-12","8-9","3-17","-","-","-","-","-","1-7","-","-","-","-","-","-","-","-","-","-","-","25-1","-","-","-"]
[34,33,39,20,20,"120",{"$f":"INDEX($B$3:$AW$50,$E99,G$64)&\"-\"&INDEX($B$3:$AW$50,G$64,$E99)","v":"-"},"-","-","-","-","-","-","-","-","0-22","-","-","-","-","0-16","-","-","1-10","0-11","-","-","-","-","-","-","3-5","-","-","-","-","-","-","-","-","-","-","-","-","-","-","-","-","11-0","-","-","-"]
[35,34,38,40,40,"140","-","-","-","-","-","-","-","-","-","-","-","-","-","-","-","-","-","-","-","-","2-10","-","-","-","-","-","-","-","-","1-9","-","5-4","-","-","-","-","4-2","5-3","-","-","12-4","7-6","-","9-2","36-1","-"]
[36,36,36,30,30,"130","-","-","-","-","-","-","-","-","-","-","-","-","-","-","-","-","-","-","-","2-17","-","-","-","1-5","-","-","1-1","3-11","3-5","3-6","-","-","-","-","-","-","1-4","-","-","-","-","-","-","13-3","-","-"]
[37,35,37,38,38,"138","-","-","-","-","-","-","-","-","-","-","-","-","-","-","-","-","-","-","-","-","-","-","-","-","-","-","-","-","-","-","1-11","-","-","-","2-4","4-1","-","3-3","8-2","-","-","-","-","7-0","9-0","7-0"]
[38,38,40,43,43,"143","-","-","-","-","-","-","-","-","-","-","-","-","-","-","-","-","-","-","-","-","-","-","-","-","-","-","-","4-11","-","2-4","1-16","-","-","-","3-5","-","3-3","-","5-8","-","-","7-5","-","-","9-0","-"]
[39,39,42,45,45,"145","-","-","-","-","-","-","-","-","-","-","-","-","-","-","-","-","-","-","-","-","2-14","-","-","-","-","-","-","-","-","1-12","-","-","-","-","-","-","2-8","8-5","-","-","-","8-7","-","-","-","-"]
[40,42,41,29,29,"129","-","-","-","-","-","-","-","-","-","-","-","-","-","-","-","-","-","-","-","-","-","-","-","1-12","-","-","2-18","-","3-12","-","-","-","-","-","-","-","-","-","-","-","-","-","6-2","-","-","-"]
[41,40,43,37,37,"137","-","-","-","-","-","-","-","-","-","-","-","-","-","-","-","-","-","-","-","-","0-25","-","-","-","-","-","-","3-10","-","1-14","4-9","2-12","-","-","4-12","-","-","-","-","-","-","-","-","11-4","13-1","-"]
[42,41,44,44,44,"144","-","-","-","-","-","-","-","-","-","-","-","-","-","-","-","-","-","-","-","-","2-20","-","-","-","-","-","-","-","-","3-15","0-17","-","-","-","6-7","-","-","5-7","7-8","-","-","-","-","-","7-4","-"]
[43,43,45,23,23,"123","-","-","-","-","-","-","-","-","-","-","-","-","-","-","-","-","-","-","-","0-31","1-17","1-36","2-19","-","0-20","-","-","-","1-15","-","-","-","1-25","0-11","-","-","-","-","-","2-6","-","-","-","-","-","-"]
[44,44,46,34,34,"134","-","-","-","-","-","-","-","-","-","-","-","-","-","-","-","-","-","-","-","-","-","-","-","-","-","-","-","-","0-9","-","-","-","-","-","2-9","3-13","0-7","-","-","-","4-11","-","-","-","4-0","10-0"]
[45,46,47,41,41,"141","-","-","-","-","-","-","-","-","-","-","-","-","-","-","-","-","-","-","-","-","-","-","-","-","-","-","-","0-20","-","-","1-22","-","-","-","1-36","-","0-9","0-9","-","-","1-13","4-7","-","0-4","-","-"]
[46,45,48,36,36,"136","-","-","-","-","-","-","-","-","-","-","-","-","-","-","-","-","-","-","-","-","-","-","-","-","-","-","-","0-21","-","-","-","0-17","-","-","-","-","0-7","-","-","-","-","-","-","0-10","-","-"]

{"sheet":"SquirtGamesMatrix","index":2,"n_rows":110,"n_cols":48,"rows_kept":110,"cut":false,"hidden":false,"merged":[]}
["Leave this blank line in here!!!!!"]
["Teams","201","202","203","204","205","206","207","208","209","210","211","212","213","214","215","216","217","218","219","220","221","222","223","224","225","226","227","228","229","230","231","232","233","234","235","236","237","238","239","240","241","242"]
["201",null,11,2,2,12,5,1]
["202",2,null,3,2,7,2,1,6,9,null,null,6]
["203",2,4,null,2,6,6,4,null,null,4,8,6,null,null,10]
["204",3,7,7,null,10,9,7]
["205",2,1,0,0,null,2,null,3]
["206",0,3,2,4,4,null,3,7,null,null,null,null,null,null,6]
["207",4,1,1,1,null,9,null,6,null,null,8]
["208",null,5,null,null,6,5,1,null,4,7,null,null,9,null,null,null,11]
["209",null,3,null,null,null,null,null,3,null,6,0,1,2,5,null,6,null,7]
["210",null,null,0,null,null,null,null,3,6,null,13,1,null,null,9,4,null,null,8]
["211",null,null,3,null,null,null,2,null,10,10,null,5,10,3,6]
["212",null,6,3,null,null,null,null,null,6,8,3,null,4,6,8,null,null,null,null,null,12]
["213",null,null,null,null,null,null,null,2,4,null,0,1,null,1,1,5,null,null,null,null,null,6]
["214",null,null,null,null,null,null,null,null,4,null,5,3,8,null,5,10,null,null,5,9]
["215",null,null,0,null,null,1,null,null,null,3,0,2,3,4,null,6,8]
["216",null,null,null,null,null,null,null,null,0,2,null,null,4,0,1,null,4,8,3,null,null,2]
["217",null,null,null,null,null,null,null,0,null,null,null,null,null,null,0,1,null,6,3,null,null,null,null,null,null,null,null,null,null,11]
["218",null,null,null,null,null,null,null,null,1,null,null,null,null,null,null,3,5,null,2,2,null,null,null,8,null,null,null,null,5]
["219",null,null,null,null,null,null,null,null,null,1,null,null,null,2,null,0,11,12,null,3,2,null,null,0]
["220",null,null,null,null,null,null,null,null,null,null,null,null,null,0,null,null,null,3,3,null,4,3,3,3,null,9]
["221",null,null,null,null,null,null,null,null,null,null,null,2,null,null,null,null,null,null,3,1,null,1,10,null,null,null,null,null,null,12]
["222",null,null,null,null,null,null,null,null,null,null,null,null,3,null,null,5,null,null,null,6,7,null,11,9,null,null,null,null,null,null,12]
["223",null,null,null,null,null,null,null,null,null,null,null,null,null,null,null,null,null,null,null,0,0,1,null,0,4,4,null,4,3]
["224",null,null,null,null,null,null,null,null,null,null,null,null,null,null,null,null,null,3,4,2,null,1,6,null,8,4,7,null,null,null,null,null,10]
["225",null,null,null,null,null,null,null,null,null,null,null,null,null,null,null,null,null,null,null,null,null,null,4,0,null,3,7,0,3,null,4,null,null,1]
["226",null,null,null,null,null,null,null,null,null,null,null,null,null,null,null,null,null,null,null,1,null,null,1,1,0,null,6,3,0]
["227",null,null,null,null,null,null,null,null,null,null,null,null,null,null,null,null,null,null,null,null,null,null,null,1,4,2,null,4,2,12,null,6]
["228",null,null,null,null,null,null,null,null,null,null,null,null,null,null,null,null,null,null,null,null,null,null,1,null,4,3,5,null,7,10,2,5,null,5]
["229",null,null,null,null,null,null,null,null,null,null,null,null,null,null,null,null,null,4,null,null,null,null,3,null,5,5,7,4,null,9,10,10,null,null,1]
["230",null,null,null,null,null,null,null,null,null,null,null,null,null,null,null,null,2,null,null,null,0,null,null,null,null,null,3,0,0,null,4,5,null,null,2,0]
["231",null,null,null,null,null,null,null,null,null,null,null,null,null,null,null,null,null,null,null,null,null,0,null,null,3,null,null,4,2,18,null,13,9,3,4,10]
["232",null,null,null,null,null,null,null,null,null,null,null,null,null,null,null,null,null,null,null,null,null,null,null,null,null,null,1,2,1,6,1,null,6,1]
["233",null,null,null,null,null,null,null,null,null,null,null,null,null,null,null,null,null,null,null,null,null,null,null,0,null,null,null,null,null,null,1,3,null,0,0,0,null,null,null,9]
["234",null,null,null,null,null,null,null,null,null,null,null,null,null,null,null,null,null,null,null,null,null,null,null,null,1,null,null,5,null,null,1,9,9,null,4,2,10,null,null,null,8]
["235",null,null,null,null,null,null,null,null,null,null,null,null,null,null,null,null,null,null,null,null,null,null,null,null,null,null,null,null,1,5,1,null,4,0,null,3,5,null,null,null,1,9]
["236",null,null,null,null,null,null,null,null,null,null,null,null,null,null,null,null,null,null,null,null,null,null,null,null,null,null,null,null,null,7,2,null,9,5,4,null,10,8,7,null,null,14]
["237",null,null,null,null,null,null,null,null,null,null,null,null,null,null,null,null,null,null,null,null,null,null,null,null,null,null,null,null,null,null,null,null,null,0,0,0,null,1,1,7,1,7]
["238",null,null,null,null,null,null,null,null,null,null,null,null,null,null,null,null,null,null,null,null,null,null,null,null,null,null,null,null,null,null,null,null,null,null,null,2,7,null,2,9,1,11]
["239",null,null,null,null,null,null,null,null,null,null,null,null,null,null,null,null,null,null,null,null,null,null,null,null,null,null,null,null,null,null,null,null,null,null,null,0,7,6,null,8,3,4]
["240",null,null,null,null,null,null,null,null,null,null,null,null,null,null,null,null,null,null,null,null,null,null,null,null,null,null,null,null,null,null,null,null,0,null,null,null,1,0,0,null,0,1]
["241",null,null,null,null,null,null,null,null,null,null,null,null,null,null,null,null,null,null,null,null,null,null,null,null,null,null,null,null,null,null,null,null,null,0,1,null,6,8,1,9,null,7]
["242",null,null,null,null,null,null,null,null,null,null,null,null,null,null,null,null,null,null,null,null,null,null,null,null,null,null,null,null,null,null,null,null,null,null,1,1,4,1,2,5,1]
[]
[]
[]
[]
[]
[]
[]
[]
[]
[]
[]
[]
[]
[]
[null,null,null,null,null,null,null,null,null,"From","b3: AJ37"]
[null,null,null,null,null,null,null,null,null,"To","b3: AQ44"]
[]
[]
[null,null,null,null,null,"CSHL",1,2,3,4,5,6,7,8,9,10,11,12,13,14,15,16,17,18,19,20,21,22,23,24,25,26,27,28,29,30,31,32,33,34,35,36,37,38,39,40,41,42]
[null,null,null,null,null,"MW",1,2,3,4,5,7,6,8,9,10,11,12,13,14,16,15,17,18,19,20,21,22,23,24,26,28,25,29,27,31,30,32,33,36,34,37,35,38,39,41,40,42]
[null,null,null,null,null,"Walkush",1,4,2,3,5,6,7,8,9,10,11,13,12,14,15,16,17,18,19,20,21,22,23,24,25,26,29,27,31,28,32,30,33,34,36,35,37,38,39,40,41,42]
[null,null,null,null,null,"Custom",4,1,7,3,2,6,12,11,8,14,10,5,9,15,13,22,16,19,20,21,24,18,17,29,23,28,31,25,34,26,36,27,35,32,41,30,39,38,33,42,37,40]
[null,null,null,null,null,"Index",4,1,7,3,2,6,12,11,8,14,10,5,9,15,13,22,16,19,20,21,24,18,17,29,23,28,31,25,34,26,36,27,35,32,41,30,39,38,33,42,37,40]
["CSHL","MW","Walkush","Custom","Index","Team","204","201","207","203","202","206","212","211","208","214","210","205","209","215","213","222","216","219","220","221","224","218","217","229","223","228","231","225","234","226","236","227","235","232","241","230","239","238","233","242","237","240"]
[1,1,1,4,4,"204",{"$f":"INDEX($B$3:$AQ$44,$E69,G$67)&\"-\"&INDEX($B$3:$AQ$44,G$67,$E69)","v":"-"},{"$f":"INDEX($B$3:$AQ$44,$E69,H$67)&\"-\"&INDEX($B$3:$AQ$44,H$67,$E69)","v":"3-2"},{"$f":"INDEX($B$3:$AQ$44,$E69,I$67)&\"-\"&INDEX($B$3:$AQ$44,I$67,$E69)","v":"7-1"},{"$f":"INDEX($B$3:$AQ$44,$E69,J$67)&\"-\"&INDEX($B$3:$AQ$44,J$67,$E69)","v":"7-2"},{"$f":"INDEX($B$3:$AQ$44,$E69,K$67)&\"-\"&INDEX($B$3:$AQ$44,K$67,$E69)","v":"7-2"},{"$f":"INDEX($B$3:$AQ$44,$E69,L$67)&\"-\"&INDEX($B$3:$AQ$44,L$67,$E69)","v":"9-4"},{"$f":"INDEX($B$3:$AQ$44,$E69,M$67)&\"-\"&INDEX($B$3:$AQ$44,M$67,$E69)","v":"-"},{"$f":"INDEX($B$3:$AQ$44,$E69,N$67)&\"-\"&INDEX($B$3:$AQ$44,N$67,$E69)","v":"-"},{"$f":"INDEX($B$3:$AQ$44,$E69,O$67)&\"-\"&INDEX($B$3:$AQ$44,O$67,$E69)","v":"-"},{"$f":"INDEX($B$3:$AQ$44,$E69,P$67)&\"-\"&INDEX($B$3:$AQ$44,P$67,$E69)","v":"-"},{"$f":"INDEX($B$3:$AQ$44,$E69,Q$67)&\"-\"&INDEX($B$3:$AQ$44,Q$67,$E69)","v":"-"},{"$f":"INDEX($B$3:$AQ$44,$E69,R$67)&\"-\"&INDEX($B$3:$AQ$44,R$67,$E69)","v":"10-0"},{"$f":"INDEX($B$3:$AQ$44,$E69,S$67)&\"-\"&INDEX($B$3:$AQ$44,S$67,$E69)","v":"-"},{"$f":"INDEX($B$3:$AQ$44,$E69,T$67)&\"-\"&INDEX($B$3:$AQ$44,T$67,$E69)","v":"-"},{"$f":"INDEX($B$3:$AQ$44,$E69,U$67)&\"-\"&INDEX($B$3:$AQ$44,U$67,$E69)","v":"-"},{"$f":"INDEX($B$3:$AQ$44,$E69,V$67)&\"-\"&INDEX($B$3:$AQ$44,V$67,$E69)","v":"-"},{"$f":"INDEX($B$3:$AQ$44,$E69,W$67)&\"-\"&INDEX($B$3:$AQ$44,W$67,$E69)","v":"-"},{"$f":"INDEX($B$3:$AQ$44,$E69,X$67)&\"-\"&INDEX($B$3:$AQ$44,X$67,$E69)","v":"-"},{"$f":"INDEX($B$3:$AQ$44,$E69,Y$67)&\"-\"&INDEX($B$3:$AQ$44,Y$67,$E69)","v":"-"},{"$f":"INDEX($B$3:$AQ$44,$E69,Z$67)&\"-\"&INDEX($B$3:$AQ$44,Z$67,$E69)","v":"-"},{"$f":"INDEX($B$3:$AQ$44,$E69,AA$67)&\"-\"&INDEX($B$3:$AQ$44,AA$67,$E69)","v":"-"},{"$f":"INDEX($B$3:$AQ$44,$E69,AB$67)&\"-\"&INDEX($B$3:$AQ$44,AB$67,$E69)","v":"-"},{"$f":"INDEX($B$3:$AQ$44,$E69,AC$67)&\"-\"&INDEX($B$3:$AQ$44,AC$67,$E69)","v":"-"},{"$f":"INDEX($B$3:$AQ$44,$E69,AD$67)&\"-\"&INDEX($B$3:$AQ$44,AD$67,$E69)","v":"-"},{"$f":"INDEX($B$3:$AQ$44,$E69,AE$67)&\"-\"&INDEX($B$3:$AQ$44,AE$67,$E69)","v":"-"},{"$f":"INDEX($B$3:$AQ$44,$E69,AF$67)&\"-\"&INDEX($B$3:$AQ$44,AF$67,$E69)","v":"-"},{"$f":"INDEX($B$3:$AQ$44,$E69,AG$67)&\"-\"&INDEX($B$3:$AQ$44,AG$67,$E69)","v":"-"},{"$f":"INDEX($B$3:$AQ$44,$E69,AH$67)&\"-\"&INDEX($B$3:$AQ$44,AH$67,$E69)","v":"-"},{"$f":"INDEX($B$3:$AQ$44,$E69,AI$67)&\"-\"&INDEX($B$3:$AQ$44,AI$67,$E69)","v":"-"},{"$f":"INDEX($B$3:$AQ$44,$E69,AJ$67)&\"-\"&INDEX($B$3:$AQ$44,AJ$67,$E69)","v":"-"},{"$f":"INDEX($B$3:$AQ$44,$E69,AK$67)&\"-\"&INDEX($B$3:$AQ$44,AK$67,$E69)","v":"-"},{"$f":"INDEX($B$3:$AQ$44,$E69,AL$67)&\"-\"&INDEX($B$3:$AQ$44,AL$67,$E69)","v":"-"},{"$f":"INDEX($B$3:$AQ$44,$E69,AM$67)&\"-\"&INDEX($B$3:$AQ$44,AM$67,$E69)","v":"-"},{"$f":"INDEX($B$3:$AQ$44,$E69,AN$67)&\"-\"&INDEX($B$3:$AQ$44,AN$67,$E69)","v":"-"},{"$f":"INDEX($B$3:$AQ$44,$E69,AO$67)&\"-\"&INDEX($B$3:$AQ$44,AO$67,$E69)","v":"-"},{"$f":"INDEX($B$3:$AQ$44,$E69,AP$67)&\"-\"&INDEX($B$3:$AQ$44,AP$67,$E69)","v":"-"},"-","-","-","-","-","-"]
[2,2,4,1,1,"201",{"$f":"INDEX($B$3:$AQ$44,$E70,G$67)&\"-\"&INDEX($B$3:$AQ$44,G$67,$E70)","v":"2-3"},{"$f":"INDEX($B$3:$AQ$44,$E70,H$67)&\"-\"&INDEX($B$3:$AQ$44,H$67,$E70)","v":"-"},{"$f":"INDEX($B$3:$AQ$44,$E70,I$67)&\"-\"&INDEX($B$3:$AQ$44,I$67,$E70)","v":"1-4"},{"$f":"INDEX($B$3:$AQ$44,$E70,J$67)&\"-\"&INDEX($B$3:$AQ$44,J$67,$E70)","v":"2-2"},{"$f":"INDEX($B$3:$AQ$44,$E70,K$67)&\"-\"&INDEX($B$3:$AQ$44,K$67,$E70)","v":"11-2"},{"$f":"INDEX($B$3:$AQ$44,$E70,L$67)&\"-\"&INDEX($B$3:$AQ$44,L$67,$E70)","v":"5-0"},{"$f":"INDEX($B$3:$AQ$44,$E70,M$67)&\"-\"&INDEX($B$3:$AQ$44,M$67,$E70)","v":"-"},{"$f":"INDEX($B$3:$AQ$44,$E70,N$67)&\"-\"&INDEX($B$3:$AQ$44,N$67,$E70)","v":"-"},{"$f":"INDEX($B$3:$AQ$44,$E70,O$67)&\"-\"&INDEX($B$3:$AQ$44,O$67,$E70)","v":"-"},{"$f":"INDEX($B$3:$AQ$44,$E70,P$67)&\"-\"&INDEX($B$3:$AQ$44,P$67,$E70)","v":"-"},{"$f":"INDEX($B$3:$AQ$44,$E70,Q$67)&\"-\"&INDEX($B$3:$AQ$44,Q$67,$E70)","v":"-"},{"$f":"INDEX($B$3:$AQ$44,$E70,R$67)&\"-\"&INDEX($B$3:$AQ$44,R$67,$E70)","v":"12-2"},{"$f":"INDEX($B$3:$AQ$44,$E70,S$67)&\"-\"&INDEX($B$3:$AQ$44,S$67,$E70)","v":"-"},{"$f":"INDEX($B$3:$AQ$44,$E70,T$67)&\"-\"&INDEX($B$3:$AQ$44,T$67,$E70)","v":"-"},{"$f":"INDEX($B$3:$AQ$44,$E70,U$67)&\"-\"&INDEX($B$3:$AQ$44,U$67,$E70)","v":"-"},{"$f":"INDEX($B$3:$AQ$44,$E70,V$67)&\"-\"&INDEX($B$3:$AQ$44,V$67,$E70)","v":"-"},{"$f":"INDEX($B$3:$AQ$44,$E70,W$67)&\"-\"&INDEX($B$3:$AQ$44,W$67,$E70)","v":"-"},{"$f":"INDEX($B$3:$AQ$44,$E70,X$67)&\"-\"&INDEX($B$3:$AQ$44,X$67,$E70)","v":"-"},{"$f":"INDEX($B$3:$AQ$44,$E70,Y$67)&\"-\"&INDEX($B$3:$AQ$44,Y$67,$E70)","v":"-"},{"$f":"INDEX($B$3:$AQ$44,$E70,Z$67)&\"-\"&INDEX($B$3:$AQ$44,Z$67,$E70)","v":"-"},{"$f":"INDEX($B$3:$AQ$44,$E70,AA$67)&\"-\"&INDEX($B$3:$AQ$44,AA$67,$E70)","v":"-"},{"$f":"INDEX($B$3:$AQ$44,$E70,AB$67)&\"-\"&INDEX($B$3:$AQ$44,AB$67,$E70)","v":"-"},{"$f":"INDEX($B$3:$AQ$44,$E70,AC$67)&\"-\"&INDEX($B$3:$AQ$44,AC$67,$E70)","v":"-"},{"$f":"INDEX($B$3:$AQ$44,$E70,AD$67)&\"-\"&INDEX($B$3:$AQ$44,AD$67,$E70)","v":"-"},{"$f":"INDEX($B$3:$AQ$44,$E70,AE$67)&\"-\"&INDEX($B$3:$AQ$44,AE$67,$E70)","v":"-"},{"$f":"INDEX($B$3:$AQ$44,$E70,AF$67)&\"-\"&INDEX($B$3:$AQ$44,AF$67,$E70)","v":"-"},{"$f":"INDEX($B$3:$AQ$44,$E70,AG$67)&\"-\"&INDEX($B$3:$AQ$44,AG$67,$E70)","v":"-"},{"$f":"INDEX($B$3:$AQ$44,$E70,AH$67)&\"-\"&INDEX($B$3:$AQ$44,AH$67,$E70)","v":"-"},{"$f":"INDEX($B$3:$AQ$44,$E70,AI$67)&\"-\"&INDEX($B$3:$AQ$44,AI$67,$E70)","v":"-"},{"$f":"INDEX($B$3:$AQ$44,$E70,AJ$67)&\"-\"&INDEX($B$3:$AQ$44,AJ$67,$E70)","v":"-"},{"$f":"INDEX($B$3:$AQ$44,$E70,AK$67)&\"-\"&INDEX($B$3:$AQ$44,AK$67,$E70)","v":"-"},{"$f":"INDEX($B$3:$AQ$44,$E70,AL$67)&\"-\"&INDEX($B$3:$AQ$44,AL$67,$E70)","v":"-"},{"$f":"INDEX($B$3:$AQ$44,$E70,AM$67)&\"-\"&INDEX($B$3:$AQ$44,AM$67,$E70)","v":"-"},{"$f":"INDEX($B$3:$AQ$44,$E70,AN$67)&\"-\"&INDEX($B$3:$AQ$44,AN$67,$E70)","v":"-"},{"$f":"INDEX($B$3:$AQ$44,$E70,AO$67)&\"-\"&INDEX($B$3:$AQ$44,AO$67,$E70)","v":"-"},"-","-","-","-","-","-","-"]
[3,3,2,7,7,"207",{"$f":"INDEX($B$3:$AQ$44,$E71,G$67)&\"-\"&INDEX($B$3:$AQ$44,G$67,$E71)","v":"1-7"},{"$f":"INDEX($B$3:$AQ$44,$E71,H$67)&\"-\"&INDEX($B$3:$AQ$44,H$67,$E71)","v":"4-1"},{"$f":"INDEX($B$3:$AQ$44,$E71,I$67)&\"-\"&INDEX($B$3:$AQ$44,I$67,$E71)","v":"-"},{"$f":"INDEX($B$3:$AQ$44,$E71,J$67)&\"-\"&INDEX($B$3:$AQ$44,J$67,$E71)","v":"1-4"},{"$f":"INDEX($B$3:$AQ$44,$E71,K$67)&\"-\"&INDEX($B$3:$AQ$44,K$67,$E71)","v":"1-1"},{"$f":"INDEX($B$3:$AQ$44,$E71,L$67)&\"-\"&INDEX($B$3:$AQ$44,L$67,$E71)","v":"9-3"},{"$f":"INDEX($B$3:$AQ$44,$E71,M$67)&\"-\"&INDEX($B$3:$AQ$44,M$67,$E71)","v":"-"},{"$f":"INDEX($B$3:$AQ$44,$E71,N$67)&\"-\"&INDEX($B$3:$AQ$44,N$67,$E71)","v":"8-2"},{"$f":"INDEX($B$3:$AQ$44,$E71,O$67)&\"-\"&INDEX($B$3:$AQ$44,O$67,$E71)","v":"6-1"},{"$f":"INDEX($B$3:$AQ$44,$E71,P$67)&\"-\"&INDEX($B$3:$AQ$44,P$67,$E71)","v":"-"},{"$f":"INDEX($B$3:$AQ$44,$E71,Q$67)&\"-\"&INDEX($B$3:$AQ$44,Q$67,$E71)","v":"-"},{"$f":"INDEX($B$3:$AQ$44,$E71,R$67)&\"-\"&INDEX($B$3:$AQ$44,R$67,$E71)","v":"-"},{"$f":"INDEX($B$3:$AQ$44,$E71,S$67)&\"-\"&INDEX($B$3:$AQ$44,S$67,$E71)","v":"-"},{"$f":"INDEX($B$3:$AQ$44,$E71,T$67)&\"-\"&INDEX($B$3:$AQ$44,T$67,$E71)","v":"-"},{"$f":"INDEX($B$3:$AQ$44,$E71,U$67)&\"-\"&INDEX($B$3:$AQ$44,U$67,$E71)","v":"-"},{"$f":"INDEX($B$3:$AQ$44,$E71,V$67)&\"-\"&INDEX($B$3:$AQ$44,V$67,$E71)","v":"-"},{"$f":"INDEX($B$3:$AQ$44,$E71,W$67)&\"-\"&INDEX($B$3:$AQ$44,W$67,$E71)","v":"-"},{"$f":"INDEX($B$3:$AQ$44,$E71,X$67)&\"-\"&INDEX($B$3:$AQ$44,X$67,$E71)","v":"-"},{"$f":"INDEX($B$3:$AQ$44,$E71,Y$67)&\"-\"&INDEX($B$3:$AQ$44,Y$67,$E71)","v":"-"},{"$f":"INDEX($B$3:$AQ$44,$E71,Z$67)&\"-\"&INDEX($B$3:$AQ$44,Z$67,$E71)","v":"-"},{"$f":"INDEX($B$3:$AQ$44,$E71,AA$67)&\"-\"&INDEX($B$3:$AQ$44,AA$67,$E71)","v":"-"},{"$f":"INDEX($B$3:$AQ$44,$E71,AB$67)&\"-\"&INDEX($B$3:$AQ$44,AB$67,$E71)","v":"-"},{"$f":"INDEX($B$3:$AQ$44,$E71,AC$67)&\"-\"&INDEX($B$3:$AQ$44,AC$67,$E71)","v":"-"},{"$f":"INDEX($B$3:$AQ$44,$E71,AD$67)&\"-\"&INDEX($B$3:$AQ$44,AD$67,$E71)","v":"-"},{"$f":"INDEX($B$3:$AQ$44,$E71,AE$67)&\"-\"&INDEX($B$3:$AQ$44,AE$67,$E71)","v":"-"},{"$f":"INDEX($B$3:$AQ$44,$E71,AF$67)&\"-\"&INDEX($B$3:$AQ$44,AF$67,$E71)","v":"-"},{"$f":"INDEX($B$3:$AQ$44,$E71,AG$67)&\"-\"&INDEX($B$3:$AQ$44,AG$67,$E71)","v":"-"},{"$f":"INDEX($B$3:$AQ$44,$E71,AH$67)&\"-\"&INDEX($B$3:$AQ$44,AH$67,$E71)","v":"-"},{"$f":"INDEX($B$3:$AQ$44,$E71,AI$67)&\"-\"&INDEX($B$3:$AQ$44,AI$67,$E71)","v":"-"},{"$f":"INDEX($B$3:$AQ$44,$E71,AJ$67)&\"-\"&INDEX($B$3:$AQ$44,AJ$67,$E71)","v":"-"},{"$f":"INDEX($B$3:$AQ$44,$E71,AK$67)&\"-\"&INDEX($B$3:$AQ$44,AK$67,$E71)","v":"-"},{"$f":"INDEX($B$3:$AQ$44,$E71,AL$67)&\"-\"&INDEX($B$3:$AQ$44,AL$67,$E71)","v":"-"},{"$f":"INDEX($B$3:$AQ$44,$E71,AM$67)&\"-\"&INDEX($B$3:$AQ$44,AM$67,$E71)","v":"-"},{"$f":"INDEX($B$3:$AQ$44,$E71,AN$67)&\"-\"&INDEX($B$3:$AQ$44,AN$67,$E71)","v":"-"},{"$f":"INDEX($B$3:$AQ$44,$E71,AO$67)&\"-\"&INDEX($B$3:$AQ$44,AO$67,$E71)","v":"-"},"-","-","-","-","-","-","-"]
[4,4,3,3,3,"203",{"$f":"INDEX($B$3:$AQ$44,$E72,G$67)&\"-\"&INDEX($B$3:$AQ$44,G$67,$E72)","v":"2-7"},{"$f":"INDEX($B$3:$AQ$44,$E72,H$67)&\"-\"&INDEX($B$3:$AQ$44,H$67,$E72)","v":"2-2"},{"$f":"INDEX($B$3:$AQ$44,$E72,I$67)&\"-\"&INDEX($B$3:$AQ$44,I$67,$E72)","v":"4-1"},{"$f":"INDEX($B$3:$AQ$44,$E72,J$67)&\"-\"&INDEX($B$3:$AQ$44,J$67,$E72)","v":"-"},{"$f":"INDEX($B$3:$AQ$44,$E72,K$67)&\"-\"&INDEX($B$3:$AQ$44,K$67,$E72)","v":"4-3"},{"$f":"INDEX($B$3:$AQ$44,$E72,L$67)&\"-\"&INDEX($B$3:$AQ$44,L$67,$E72)","v":"6-2"},{"$f":"INDEX($B$3:$AQ$44,$E72,M$67)&\"-\"&INDEX($B$3:$AQ$44,M$67,$E72)","v":"6-3"},{"$f":"INDEX($B$3:$AQ$44,$E72,N$67)&\"-\"&INDEX($B$3:$AQ$44,N$67,$E72)","v":"8-3"},{"$f":"INDEX($B$3:$AQ$44,$E72,O$67)&\"-\"&INDEX($B$3:$AQ$44,O$67,$E72)","v":"-"},{"$f":"INDEX($B$3:$AQ$44,$E72,P$67)&\"-\"&INDEX($B$3:$AQ$44,P$67,$E72)","v":"-"},{"$f":"INDEX($B$3:$AQ$44,$E72,Q$67)&\"-\"&INDEX($B$3:$AQ$44,Q$67,$E72)","v":"4-0"},{"$f":"INDEX($B$3:$AQ$44,$E72,R$67)&\"-\"&INDEX($B$3:$AQ$44,R$67,$E72)","v":"6-0"},{"$f":"INDEX($B$3:$AQ$44,$E72,S$67)&\"-\"&INDEX($B$3:$AQ$44,S$67,$E72)","v":"-"},{"$f":"INDEX($B$3:$AQ$44,$E72,T$67)&\"-\"&INDEX($B$3:$AQ$44,T$67,$E72)","v":"10-0"},{"$f":"INDEX($B$3:$AQ$44,$E72,U$67)&\"-\"&INDEX($B$3:$AQ$44,U$67,$E72)","v":"-"},{"$f":"INDEX($B$3:$AQ$44,$E72,V$67)&\"-\"&INDEX($B$3:$AQ$44,V$67,$E72)","v":"-"},{"$f":"INDEX($B$3:$AQ$44,$E72,W$67)&\"-\"&INDEX($B$3:$AQ$44,W$67,$E72)","v":"-"},{"$f":"INDEX($B$3:$AQ$44,$E72,X$67)&\"-\"&INDEX($B$3:$AQ$44,X$67,$E72)","v":"-"},{"$f":"INDEX($B$3:$AQ$44,$E72,Y$67)&\"-\"&INDEX($B$3:$AQ$44,Y$67,$E72)","v":"-"},{"$f":"INDEX($B$3:$AQ$44,$E72,Z$67)&\"-\"&INDEX($B$3:$AQ$44,Z$67,$E72)","v":"-"},{"$f":"INDEX($B$3:$AQ$44,$E72,AA$67)&\"-\"&INDEX($B$3:$AQ$44,AA$67,$E72)","v":"-"},{"$f":"INDEX($B$3:$AQ$44,$E72,AB$67)&\"-\"&INDEX($B$3:$AQ$44,AB$67,$E72)","v":"-"},{"$f":"INDEX($B$3:$AQ$44,$E72,AC$67)&\"-\"&INDEX($B$3:$AQ$44,AC$67,$E72)","v":"-"},{"$f":"INDEX($B$3:$AQ$44,$E72,AD$67)&\"-\"&INDEX($B$3:$AQ$44,AD$67,$E72)","v":"-"},{"$f":"INDEX($B$3:$AQ$44,$E72,AE$67)&\"-\"&INDEX($B$3:$AQ$44,AE$67,$E72)","v":"-"},{"$f":"INDEX($B$3:$AQ$44,$E72,AF$67)&\"-\"&INDEX($B$3:$AQ$44,AF$67,$E72)","v":"-"},{"$f":"INDEX($B$3:$AQ$44,$E72,AG$67)&\"-\"&INDEX($B$3:$AQ$44,AG$67,$E72)","v":"-"},{"$f":"INDEX($B$3:$AQ$44,$E72,AH$67)&\"-\"&INDEX($B$3:$AQ$44,AH$67,$E72)","v":"-"},{"$f":"INDEX($B$3:$AQ$44,$E72,AI$67)&\"-\"&INDEX($B$3:$AQ$44,AI$67,$E72)","v":"-"},{"$f":"INDEX($B$3:$AQ$44,$E72,AJ$67)&\"-\"&INDEX($B$3:$AQ$44,AJ$67,$E72)","v":"-"},{"$f":"INDEX($B$3:$AQ$44,$E72,AK$67)&\"-\"&INDEX($B$3:$AQ$44,AK$67,$E72)","v":"-"},{"$f":"INDEX($B$3:$AQ$44,$E72,AL$67)&\"-\"&INDEX($B$3:$AQ$44,AL$67,$E72)","v":"-"},{"$f":"INDEX($B$3:$AQ$44,$E72,AM$67)&\"-\"&INDEX($B$3:$AQ$44,AM$67,$E72)","v":"-"},{"$f":"INDEX($B$3:$AQ$44,$E72,AN$67)&\"-\"&INDEX($B$3:$AQ$44,AN$67,$E72)","v":"-"},{"$f":"INDEX($B$3:$AQ$44,$E72,AO$67)&\"-\"&INDEX($B$3:$AQ$44,AO$67,$E72)","v":"-"},"-","-","-","-","-","-","-"]
[5,5,5,2,2,"202",{"$f":"INDEX($B$3:$AQ$44,$E73,G$67)&\"-\"&INDEX($B$3:$AQ$44,G$67,$E73)","v":"2-7"},{"$f":"INDEX($B$3:$AQ$44,$E73,H$67)&\"-\"&INDEX($B$3:$AQ$44,H$67,$E73)","v":"2-11"},{"$f":"INDEX($B$3:$AQ$44,$E73,I$67)&\"-\"&INDEX($B$3:$AQ$44,I$67,$E73)","v":"1-1"},{"$f":"INDEX($B$3:$AQ$44,$E73,J$67)&\"-\"&INDEX($B$3:$AQ$44,J$67,$E73)","v":"3-4"},{"$f":"INDEX($B$3:$AQ$44,$E73,K$67)&\"-\"&INDEX($B$3:$AQ$44,K$67,$E73)","v":"-"},{"$f":"INDEX($B$3:$AQ$44,$E73,L$67)&\"-\"&INDEX($B$3:$AQ$44,L$67,$E73)","v":"2-3"},{"$f":"INDEX($B$3:$AQ$44,$E73,M$67)&\"-\"&INDEX($B$3:$AQ$44,M$67,$E73)","v":"6-6"},{"$f":"INDEX($B$3:$AQ$44,$E73,N$67)&\"-\"&INDEX($B$3:$AQ$44,N$67,$E73)","v":"-"},{"$f":"INDEX($B$3:$AQ$44,$E73,O$67)&\"-\"&INDEX($B$3:$AQ$44,O$67,$E73)","v":"6-5"},{"$f":"INDEX($B$3:$AQ$44,$E73,P$67)&\"-\"&INDEX($B$3:$AQ$44,P$67,$E73)","v":"-"},{"$f":"INDEX($B$3:$AQ$44,$E73,Q$67)&\"-\"&INDEX($B$3:$AQ$44,Q$67,$E73)","v":"-"},{"$f":"INDEX($B$3:$AQ$44,$E73,R$67)&\"-\"&INDEX($B$3:$AQ$44,R$67,$E73)","v":"7-1"},{"$f":"INDEX($B$3:$AQ$44,$E73,S$67)&\"-\"&INDEX($B$3:$AQ$44,S$67,$E73)","v":"9-3"},{"$f":"INDEX($B$3:$AQ$44,$E73,T$67)&\"-\"&INDEX($B$3:$AQ$44,T$67,$E73)","v":"-"},{"$f":"INDEX($B$3:$AQ$44,$E73,U$67)&\"-\"&INDEX($B$3:$AQ$44,U$67,$E73)","v":"-"},{"$f":"INDEX($B$3:$AQ$44,$E73,V$67)&\"-\"&INDEX($B$3:$AQ$44,V$67,$E73)","v":"-"},{"$f":"INDEX($B$3:$AQ$44,$E73,W$67)&\"-\"&INDEX($B$3:$AQ$44,W$67,$E73)","v":"-"},{"$f":"INDEX($B$3:$AQ$44,$E73,X$67)&\"-\"&INDEX($B$3:$AQ$44,X$67,$E73)","v":"-"},{"$f":"INDEX($B$3:$AQ$44,$E73,Y$67)&\"-\"&INDEX($B$3:$AQ$44,Y$67,$E73)","v":"-"},{"$f":"INDEX($B$3:$AQ$44,$E73,Z$67)&\"-\"&INDEX($B$3:$AQ$44,Z$67,$E73)","v":"-"},{"$f":"INDEX($B$3:$AQ$44,$E73,AA$67)&\"-\"&INDEX($B$3:$AQ$44,AA$67,$E73)","v":"-"},{"$f":"INDEX($B$3:$AQ$44,$E73,AB$67)&\"-\"&INDEX($B$3:$AQ$44,AB$67,$E73)","v":"-"},{"$f":"INDEX($B$3:$AQ$44,$E73,AC$67)&\"-\"&INDEX($B$3:$AQ$44,AC$67,$E73)","v":"-"},{"$f":"INDEX($B$3:$AQ$44,$E73,AD$67)&\"-\"&INDEX($B$3:$AQ$44,AD$67,$E73)","v":"-"},{"$f":"INDEX($B$3:$AQ$44,$E73,AE$67)&\"-\"&INDEX($B$3:$AQ$44,AE$67,$E73)","v":"-"},{"$f":"INDEX($B$3:$AQ$44,$E73,AF$67)&\"-\"&INDEX($B$3:$AQ$44,AF$67,$E73)","v":"-"},{"$f":"INDEX($B$3:$AQ$44,$E73,AG$67)&\"-\"&INDEX($B$3:$AQ$44,AG$67,$E73)","v":"-"},{"$f":"INDEX($B$3:$AQ$44,$E73,AH$67)&\"-\"&INDEX($B$3:$AQ$44,AH$67,$E73)","v":"-"},{"$f":"INDEX($B$3:$AQ$44,$E73,AI$67)&\"-\"&INDEX($B$3:$AQ$44,AI$67,$E73)","v":"-"},{"$f":"INDEX($B$3:$AQ$44,$E73,AJ$67)&\"-\"&INDEX($B$3:$AQ$44,AJ$67,$E73)","v":"-"},{"$f":"INDEX($B$3:$AQ$44,$E73,AK$67)&\"-\"&INDEX($B$3:$AQ$44,AK$67,$E73)","v":"-"},{"$f":"INDEX($B$3:$AQ$44,$E73,AL$67)&\"-\"&INDEX($B$3:$AQ$44,AL$67,$E73)","v":"-"},{"$f":"INDEX($B$3:$AQ$44,$E73,AM$67)&\"-\"&INDEX($B$3:$AQ$44,AM$67,$E73)","v":"-"},{"$f":"INDEX($B$3:$AQ$44,$E73,AN$67)&\"-\"&INDEX($B$3:$AQ$44,AN$67,$E73)","v":"-"},{"$f":"INDEX($B$3:$AQ$44,$E73,AO$67)&\"-\"&INDEX($B$3:$AQ$44,AO$67,$E73)","v":"-"},"-","-","-","-","-","-","-"]
[6,7,6,6,6,"206",{"$f":"INDEX($B$3:$AQ$44,$E74,G$67)&\"-\"&INDEX($B$3:$AQ$44,G$67,$E74)","v":"4-9"},{"$f":"INDEX($B$3:$AQ$44,$E74,H$67)&\"-\"&INDEX($B$3:$AQ$44,H$67,$E74)","v":"0-5"},{"$f":"INDEX($B$3:$AQ$44,$E74,I$67)&\"-\"&INDEX($B$3:$AQ$44,I$67,$E74)","v":"3-9"},{"$f":"INDEX($B$3:$AQ$44,$E74,J$67)&\"-\"&INDEX($B$3:$AQ$44,J$67,$E74)","v":"2-6"},{"$f":"INDEX($B$3:$AQ$44,$E74,K$67)&\"-\"&INDEX($B$3:$AQ$44,K$67,$E74)","v":"3-2"},{"$f":"INDEX($B$3:$AQ$44,$E74,L$67)&\"-\"&INDEX($B$3:$AQ$44,L$67,$E74)","v":"-"},{"$f":"INDEX($B$3:$AQ$44,$E74,M$67)&\"-\"&INDEX($B$3:$AQ$44,M$67,$E74)","v":"-"},{"$f":"INDEX($B$3:$AQ$44,$E74,N$67)&\"-\"&INDEX($B$3:$AQ$44,N$67,$E74)","v":"-"},{"$f":"INDEX($B$3:$AQ$44,$E74,O$67)&\"-\"&INDEX($B$3:$AQ$44,O$67,$E74)","v":"7-5"},{"$f":"INDEX($B$3:$AQ$44,$E74,P$67)&\"-\"&INDEX($B$3:$AQ$44,P$67,$E74)","v":"-"},{"$f":"INDEX($B$3:$AQ$44,$E74,Q$67)&\"-\"&INDEX($B$3:$AQ$44,Q$67,$E74)","v":"-"},{"$f":"INDEX($B$3:$AQ$44,$E74,R$67)&\"-\"&INDEX($B$3:$AQ$44,R$67,$E74)","v":"4-2"},{"$f":"INDEX($B$3:$AQ$44,$E74,S$67)&\"-\"&INDEX($B$3:$AQ$44,S$67,$E74)","v":"-"},{"$f":"INDEX($B$3:$AQ$44,$E74,T$67)&\"-\"&INDEX($B$3:$AQ$44,T$67,$E74)","v":"6-1"},{"$f":"INDEX($B$3:$AQ$44,$E74,U$67)&\"-\"&INDEX($B$3:$AQ$44,U$67,$E74)","v":"-"},{"$f":"INDEX($B$3:$AQ$44,$E74,V$67)&\"-\"&INDEX($B$3:$AQ$44,V$67,$E74)","v":"-"},{"$f":"INDEX($B$3:$AQ$44,$E74,W$67)&\"-\"&INDEX($B$3:$AQ$44,W$67,$E74)","v":"-"},{"$f":"INDEX($B$3:$AQ$44,$E74,X$67)&\"-\"&INDEX($B$3:$AQ$44,X$67,$E74)","v":"-"},{"$f":"INDEX($B$3:$AQ$44,$E74,Y$67)&\"-\"&INDEX($B$3:$AQ$44,Y$67,$E74)","v":"-"},{"$f":"INDEX($B$3:$AQ$44,$E74,Z$67)&\"-\"&INDEX($B$3:$AQ$44,Z$67,$E74)","v":"-"},{"$f":"INDEX($B$3:$AQ$44,$E74,AA$67)&\"-\"&INDEX($B$3:$AQ$44,AA$67,$E74)","v":"-"},{"$f":"INDEX($B$3:$AQ$44,$E74,AB$67)&\"-\"&INDEX($B$3:$AQ$44,AB$67,$E74)","v":"-"},{"$f":"INDEX($B$3:$AQ$44,$E74,AC$67)&\"-\"&INDEX($B$3:$AQ$44,AC$67,$E74)","v":"-"},{"$f":"INDEX($B$3:$AQ$44,$E74,AD$67)&\"-\"&INDEX($B$3:$AQ$44,AD$67,$E74)","v":"-"},{"$f":"INDEX($B$3:$AQ$44,$E74,AE$67)&\"-\"&INDEX($B$3:$AQ$44,AE$67,$E74)","v":"-"},{"$f":"INDEX($B$3:$AQ$44,$E74,AF$67)&\"-\"&INDEX($B$3:$AQ$44,AF$67,$E74)","v":"-"},{"$f":"INDEX($B$3:$AQ$44,$E74,AG$67)&\"-\"&INDEX($B$3:$AQ$44,AG$67,$E74)","v":"-"},{"$f":"INDEX($B$3:$AQ$44,$E74,AH$67)&\"-\"&INDEX($B$3:$AQ$44,AH$67,$E74)","v":"-"},{"$f":"INDEX($B$3:$AQ$44,$E74,AI$67)&\"-\"&INDEX($B$3:$AQ$44,AI$67,$E74)","v":"-"},{"$f":"INDEX($B$3:$AQ$44,$E74,AJ$67)&\"-\"&INDEX($B$3:$AQ$44,AJ$67,$E74)","v":"-"},{"$f":"INDEX($B$3:$AQ$44,$E74,AK$67)&\"-\"&INDEX($B$3:$AQ$44,AK$67,$E74)","v":"-"},{"$f":"INDEX($B$3:$AQ$44,$E74,AL$67)&\"-\"&INDEX($B$3:$AQ$44,AL$67,$E74)","v":"-"},{"$f":"INDEX($B$3:$AQ$44,$E74,AM$67)&\"-\"&INDEX($B$3:$AQ$44,AM$67,$E74)","v":"-"},{"$f":"INDEX($B$3:$AQ$44,$E74,AN$67)&\"-\"&INDEX($B$3:$AQ$44,AN$67,$E74)","v":"-"},{"$f":"INDEX($B$3:$AQ$44,$E74,AO$67)&\"-\"&INDEX($B$3:$AQ$44,AO$67,$E74)","v":"-"},"-","-","-","-","-","-","-"]
[7,6,7,12,12,"212",{"$f":"INDEX($B$3:$AQ$44,$E75,G$67)&\"-\"&INDEX($B$3:$AQ$44,G$67,$E75)","v":"-"},{"$f":"INDEX($B$3:$AQ$44,$E75,H$67)&\"-\"&INDEX($B$3:$AQ$44,H$67,$E75)","v":"-"},{"$f":"INDEX($B$3:$AQ$44,$E75,I$67)&\"-\"&INDEX($B$3:$AQ$44,I$67,$E75)","v":"-"},{"$f":"INDEX($B$3:$AQ$44,$E75,J$67)&\"-\"&INDEX($B$3:$AQ$44,J$67,$E75)","v":"3-6"},{"$f":"INDEX($B$3:$AQ$44,$E75,K$67)&\"-\"&INDEX($B$3:$AQ$44,K$67,$E75)","v":"6-6"},{"$f":"INDEX($B$3:$AQ$44,$E75,L$67)&\"-\"&INDEX($B$3:$AQ$44,L$67,$E75)","v":"-"},{"$f":"INDEX($B$3:$AQ$44,$E75,M$67)&\"-\"&INDEX($B$3:$AQ$44,M$67,$E75)","v":"-"},{"$f":"INDEX($B$3:$AQ$44,$E75,N$67)&\"-\"&INDEX($B$3:$AQ$44,N$67,$E75)","v":"3-5"},{"$f":"INDEX($B$3:$AQ$44,$E75,O$67)&\"-\"&INDEX($B$3:$AQ$44,O$67,$E75)","v":"-"},{"$f":"INDEX($B$3:$AQ$44,$E75,P$67)&\"-\"&INDEX($B$3:$AQ$44,P$67,$E75)","v":"6-3"},{"$f":"INDEX($B$3:$AQ$44,$E75,Q$67)&\"-\"&INDEX($B$3:$AQ$44,Q$67,$E75)","v":"8-1"},{"$f":"INDEX($B$3:$AQ$44,$E75,R$67)&\"-\"&INDEX($B$3:$AQ$44,R$67,$E75)","v":"-"},{"$f":"INDEX($B$3:$AQ$44,$E75,S$67)&\"-\"&INDEX($B$3:$AQ$44,S$67,$E75)","v":"6-1"},{"$f":"INDEX($B$3:$AQ$44,$E75,T$67)&\"-\"&INDEX($B$3:$AQ$44,T$67,$E75)","v":"8-2"},{"$f":"INDEX($B$3:$AQ$44,$E75,U$67)&\"-\"&INDEX($B$3:$AQ$44,U$67,$E75)","v":"4-1"},{"$f":"INDEX($B$3:$AQ$44,$E75,V$67)&\"-\"&INDEX($B$3:$AQ$44,V$67,$E75)","v":"-"},{"$f":"INDEX($B$3:$AQ$44,$E75,W$67)&\"-\"&INDEX($B$3:$AQ$44,W$67,$E75)","v":"-"},{"$f":"INDEX($B$3:$AQ$44,$E75,X$67)&\"-\"&INDEX($B$3:$AQ$44,X$67,$E75)","v":"-"},{"$f":"INDEX($B$3:$AQ$44,$E75,Y$67)&\"-\"&INDEX($B$3:$AQ$44,Y$67,$E75)","v":"-"},{"$f":"INDEX($B$3:$AQ$44,$E75,Z$67)&\"-\"&INDEX($B$3:$AQ$44,Z$67,$E75)","v":"12-2"},{"$f":"INDEX($B$3:$AQ$44,$E75,AA$67)&\"-\"&INDEX($B$3:$AQ$44,AA$67,$E75)","v":"-"},{"$f":"INDEX($B$3:$AQ$44,$E75,AB$67)&\"-\"&INDEX($B$3:$AQ$44,AB$67,$E75)","v":"-"},{"$f":"INDEX($B$3:$AQ$44,$E75,AC$67)&\"-\"&INDEX($B$3:$AQ$44,AC$67,$E75)","v":"-"},{"$f":"INDEX($B$3:$AQ$44,$E75,AD$67)&\"-\"&INDEX($B$3:$AQ$44,AD$67,$E75)","v":"-"},{"$f":"INDEX($B$3:$AQ$44,$E75,AE$67)&\"-\"&INDEX($B$3:$AQ$44,AE$67,$E75)","v":"-"},{"$f":"INDEX($B$3:$AQ$44,$E75,AF$67)&\"-\"&INDEX($B$3:$AQ$44,AF$67,$E75)","v":"-"},{"$f":"INDEX($B$3:$AQ$44,$E75,AG$67)&\"-\"&INDEX($B$3:$AQ$44,AG$67,$E75)","v":"-"},{"$f":"INDEX($B$3:$AQ$44,$E75,AH$67)&\"-\"&INDEX($B$3:$AQ$44,AH$67,$E75)","v":"-"},{"$f":"INDEX($B$3:$AQ$44,$E75,AI$67)&\"-\"&INDEX($B$3:$AQ$44,AI$67,$E75)","v":"-"},{"$f":"INDEX($B$3:$AQ$44,$E75,AJ$67)&\"-\"&INDEX($B$3:$AQ$44,AJ$67,$E75)","v":"-"},{"$f":"INDEX($B$3:$AQ$44,$E75,AK$67)&\"-\"&INDEX($B$3:$AQ$44,AK$67,$E75)","v":"-"},{"$f":"INDEX($B$3:$AQ$44,$E75,AL$67)&\"-\"&INDEX($B$3:$AQ$44,AL$67,$E75)","v":"-"},{"$f":"INDEX($B$3:$AQ$44,$E75,AM$67)&\"-\"&INDEX($B$3:$AQ$44,AM$67,$E75)","v":"-"},{"$f":"INDEX($B$3:$AQ$44,$E75,AN$67)&\"-\"&INDEX($B$3:$AQ$44,AN$67,$E75)","v":"-"},{"$f":"INDEX($B$3:$AQ$44,$E75,AO$67)&\"-\"&INDEX($B$3:$AQ$44,AO$67,$E75)","v":"-"},"-","-","-","-","-","-","-"]
[8,8,8,11,11,"211",{"$f":"INDEX($B$3:$AQ$44,$E76,G$67)&\"-\"&INDEX($B$3:$AQ$44,G$67,$E76)","v":"-"},{"$f":"INDEX($B$3:$AQ$44,$E76,H$67)&\"-\"&INDEX($B$3:$AQ$44,H$67,$E76)","v":"-"},{"$f":"INDEX($B$3:$AQ$44,$E76,I$67)&\"-\"&INDEX($B$3:$AQ$44,I$67,$E76)","v":"2-8"},{"$f":"INDEX($B$3:$AQ$44,$E76,J$67)&\"-\"&INDEX($B$3:$AQ$44,J$67,$E76)","v":"3-8"},{"$f":"INDEX($B$3:$AQ$44,$E76,K$67)&\"-\"&INDEX($B$3:$AQ$44,K$67,$E76)","v":"-"},{"$f":"INDEX($B$3:$AQ$44,$E76,L$67)&\"-\"&INDEX($B$3:$AQ$44,L$67,$E76)","v":"-"},{"$f":"INDEX($B$3:$AQ$44,$E76,M$67)&\"-\"&INDEX($B$3:$AQ$44,M$67,$E76)","v":"5-3"},{"$f":"INDEX($B$3:$AQ$44,$E76,N$67)&\"-\"&INDEX($B$3:$AQ$44,N$67,$E76)","v":"-"},{"$f":"INDEX($B$3:$AQ$44,$E76,O$67)&\"-\"&INDEX($B$3:$AQ$44,O$67,$E76)","v":"-"},{"$f":"INDEX($B$3:$AQ$44,$E76,P$67)&\"-\"&INDEX($B$3:$AQ$44,P$67,$E76)","v":"3-5"},{"$f":"INDEX($B$3:$AQ$44,$E76,Q$67)&\"-\"&INDEX($B$3:$AQ$44,Q$67,$E76)","v":"10-13"},{"$f":"INDEX($B$3:$AQ$44,$E76,R$67)&\"-\"&INDEX($B$3:$AQ$44,R$67,$E76)","v":"-"},{"$f":"INDEX($B$3:$AQ$44,$E76,S$67)&\"-\"&INDEX($B$3:$AQ$44,S$67,$E76)","v":"10-0"},{"$f":"INDEX($B$3:$AQ$44,$E76,T$67)&\"-\"&INDEX($B$3:$AQ$44,T$67,$E76)","v":"6-0"},{"$f":"INDEX($B$3:$AQ$44,$E76,U$67)&\"-\"&INDEX($B$3:$AQ$44,U$67,$E76)","v":"10-0"},{"$f":"INDEX($B$3:$AQ$44,$E76,V$67)&\"-\"&INDEX($B$3:$AQ$44,V$67,$E76)","v":"-"},{"$f":"INDEX($B$3:$AQ$44,$E76,W$67)&\"-\"&INDEX($B$3:$AQ$44,W$67,$E76)","v":"-"},{"$f":"INDEX($B$3:$AQ$44,$E76,X$67)&\"-\"&INDEX($B$3:$AQ$44,X$67,$E76)","v":"-"},{"$f":"INDEX($B$3:$AQ$44,$E76,Y$67)&\"-\"&INDEX($B$3:$AQ$44,Y$67,$E76)","v":"-"},{"$f":"INDEX($B$3:$AQ$44,$E76,Z$67)&\"-\"&INDEX($B$3:$AQ$44,Z$67,$E76)","v":"-"},{"$f":"INDEX($B$3:$AQ$44,$E76,AA$67)&\"-\"&INDEX($B$3:$AQ$44,AA$67,$E76)","v":"-"},{"$f":"INDEX($B$3:$AQ$44,$E76,AB$67)&\"-\"&INDEX($B$3:$AQ$44,AB$67,$E76)","v":"-"},{"$f":"INDEX($B$3:$AQ$44,$E76,AC$67)&\"-\"&INDEX($B$3:$AQ$44,AC$67,$E76)","v":"-"},{"$f":"INDEX($B$3:$AQ$44,$E76,AD$67)&\"-\"&INDEX($B$3:$AQ$44,AD$67,$E76)","v":"-"},{"$f":"INDEX($B$3:$AQ$44,$E76,AE$67)&\"-\"&INDEX($B$3:$AQ$44,AE$67,$E76)","v":"-"},{"$f":"INDEX($B$3:$AQ$44,$E76,AF$67)&\"-\"&INDEX($B$3:$AQ$44,AF$67,$E76)","v":"-"},{"$f":"INDEX($B$3:$AQ$44,$E76,AG$67)&\"-\"&INDEX($B$3:$AQ$44,AG$67,$E76)","v":"-"},{"$f":"INDEX($B$3:$AQ$44,$E76,AH$67)&\"-\"&INDEX($B$3:$AQ$44,AH$67,$E76)","v":"-"},{"$f":"INDEX($B$3:$AQ$44,$E76,AI$67)&\"-\"&INDEX($B$3:$AQ$44,AI$67,$E76)","v":"-"},{"$f":"INDEX($B$3:$AQ$44,$E76,AJ$67)&\"-\"&INDEX($B$3:$AQ$44,AJ$67,$E76)","v":"-"},{"$f":"INDEX($B$3:$AQ$44,$E76,AK$67)&\"-\"&INDEX($B$3:$AQ$44,AK$67,$E76)","v":"-"},{"$f":"INDEX($B$3:$AQ$44,$E76,AL$67)&\"-\"&INDEX($B$3:$AQ$44,AL$67,$E76)","v":"-"},{"$f":"INDEX($B$3:$AQ$44,$E76,AM$67)&\"-\"&INDEX($B$3:$AQ$44,AM$67,$E76)","v":"-"},{"$f":"INDEX($B$3:$AQ$44,$E76,AN$67)&\"-\"&INDEX($B$3:$AQ$44,AN$67,$E76)","v":"-"},{"$f":"INDEX($B$3:$AQ$44,$E76,AO$67)&\"-\"&INDEX($B$3:$AQ$44,AO$67,$E76)","v":"-"},"-","-","-","-","-","-","-"]
[9,9,9,8,8,"208",{"$f":"INDEX($B$3:$AQ$44,$E77,G$67)&\"-\"&INDEX($B$3:$AQ$44,G$67,$E77)","v":"-"},{"$f":"INDEX($B$3:$AQ$44,$E77,H$67)&\"-\"&INDEX($B$3:$AQ$44,H$67,$E77)","v":"-"},{"$f":"INDEX($B$3:$AQ$44,$E77,I$67)&\"-\"&INDEX($B$3:$AQ$44,I$67,$E77)","v":"1-6"},{"$f":"INDEX($B$3:$AQ$44,$E77,J$67)&\"-\"&INDEX($B$3:$AQ$44,J$67,$E77)","v":"-"},{"$f":"INDEX($B$3:$AQ$44,$E77,K$67)&\"-\"&INDEX($B$3:$AQ$44,K$67,$E77)","v":"5-6"},{"$f":"INDEX($B$3:$AQ$44,$E77,L$67)&\"-\"&INDEX($B$3:$AQ$44,L$67,$E77)","v":"5-7"},{"$f":"INDEX($B$3:$AQ$44,$E77,M$67)&\"-\"&INDEX($B$3:$AQ$44,M$67,$E77)","v":"-"},{"$f":"INDEX($B$3:$AQ$44,$E77,N$67)&\"-\"&INDEX($B$3:$AQ$44,N$67,$E77)","v":"-"},{"$f":"INDEX($B$3:$AQ$44,$E77,O$67)&\"-\"&INDEX($B$3:$AQ$44,O$67,$E77)","v":"-"},{"$f":"INDEX($B$3:$AQ$44,$E77,P$67)&\"-\"&INDEX($B$3:$AQ$44,P$67,$E77)","v":"-"},{"$f":"INDEX($B$3:$AQ$44,$E77,Q$67)&\"-\"&INDEX($B$3:$AQ$44,Q$67,$E77)","v":"7-3"},{"$f":"INDEX($B$3:$AQ$44,$E77,R$67)&\"-\"&INDEX($B$3:$AQ$44,R$67,$E77)","v":"6-3"},{"$f":"INDEX($B$3:$AQ$44,$E77,S$67)&\"-\"&INDEX($B$3:$AQ$44,S$67,$E77)","v":"4-3"},{"$f":"INDEX($B$3:$AQ$44,$E77,T$67)&\"-\"&INDEX($B$3:$AQ$44,T$67,$E77)","v":"-"},{"$f":"INDEX($B$3:$AQ$44,$E77,U$67)&\"-\"&INDEX($B$3:$AQ$44,U$67,$E77)","v":"9-2"},{"$f":"INDEX($B$3:$AQ$44,$E77,V$67)&\"-\"&INDEX($B$3:$AQ$44,V$67,$E77)","v":"-"},{"$f":"INDEX($B$3:$AQ$44,$E77,W$67)&\"-\"&INDEX($B$3:$AQ$44,W$67,$E77)","v":"-"},{"$f":"INDEX($B$3:$AQ$44,$E77,X$67)&\"-\"&INDEX($B$3:$AQ$44,X$67,$E77)","v":"-"},{"$f":"INDEX($B$3:$AQ$44,$E77,Y$67)&\"-\"&INDEX($B$3:$AQ$44,Y$67,$E77)","v":"-"},{"$f":"INDEX($B$3:$AQ$44,$E77,Z$67)&\"-\"&INDEX($B$3:$AQ$44,Z$67,$E77)","v":"-"},{"$f":"INDEX($B$3:$AQ$44,$E77,AA$67)&\"-\"&INDEX($B$3:$AQ$44,AA$67,$E77)","v":"-"},{"$f":"INDEX($B$3:$AQ$44,$E77,AB$67)&\"-\"&INDEX($B$3:$AQ$44,AB$67,$E77)","v":"-"},{"$f":"INDEX($B$3:$AQ$44,$E77,AC$67)&\"-\"&INDEX($B$3:$AQ$44,AC$67,$E77)","v":"11-0"},{"$f":"INDEX($B$3:$AQ$44,$E77,AD$67)&\"-\"&INDEX($B$3:$AQ$44,AD$67,$E77)","v":"-"},{"$f":"INDEX($B$3:$AQ$44,$E77,AE$67)&\"-\"&INDEX($B$3:$AQ$44,AE$67,$E77)","v":"-"},{"$f":"INDEX($B$3:$AQ$44,$E77,AF$67)&\"-\"&INDEX($B$3:$AQ$44,AF$67,$E77)","v":"-"},{"$f":"INDEX($B$3:$AQ$44,$E77,AG$67)&\"-\"&INDEX($B$3:$AQ$44,AG$67,$E77)","v":"-"},{"$f":"INDEX($B$3:$AQ$44,$E77,AH$67)&\"-\"&INDEX($B$3:$AQ$44,AH$67,$E77)","v":"-"},{"$f":"INDEX($B$3:$AQ$44,$E77,AI$67)&\"-\"&INDEX($B$3:$AQ$44,AI$67,$E77)","v":"-"},{"$f":"INDEX($B$3:$AQ$44,$E77,AJ$67)&\"-\"&INDEX($B$3:$AQ$44,AJ$67,$E77)","v":"-"},{"$f":"INDEX($B$3:$AQ$44,$E77,AK$67)&\"-\"&INDEX($B$3:$AQ$44,AK$67,$E77)","v":"-"},{"$f":"INDEX($B$3:$AQ$44,$E77,AL$67)&\"-\"&INDEX($B$3:$AQ$44,AL$67,$E77)","v":"-"},{"$f":"INDEX($B$3:$AQ$44,$E77,AM$67)&\"-\"&INDEX($B$3:$AQ$44,AM$67,$E77)","v":"-"},{"$f":"INDEX($B$3:$AQ$44,$E77,AN$67)&\"-\"&INDEX($B$3:$AQ$44,AN$67,$E77)","v":"-"},{"$f":"INDEX($B$3:$AQ$44,$E77,AO$67)&\"-\"&INDEX($B$3:$AQ$44,AO$67,$E77)","v":"-"},"-","-","-","-","-","-","-"]
[10,10,10,14,14,"214",{"$f":"INDEX($B$3:$AQ$44,$E78,G$67)&\"-\"&INDEX($B$3:$AQ$44,G$67,$E78)","v":"-"},{"$f":"INDEX($B$3:$AQ$44,$E78,H$67)&\"-\"&INDEX($B$3:$AQ$44,H$67,$E78)","v":"-"},{"$f":"INDEX($B$3:$AQ$44,$E78,I$67)&\"-\"&INDEX($B$3:$AQ$44,I$67,$E78)","v":"-"},{"$f":"INDEX($B$3:$AQ$44,$E78,J$67)&\"-\"&INDEX($B$3:$AQ$44,J$67,$E78)","v":"-"},{"$f":"INDEX($B$3:$AQ$44,$E78,K$67)&\"-\"&INDEX($B$3:$AQ$44,K$67,$E78)","v":"-"},{"$f":"INDEX($B$3:$AQ$44,$E78,L$67)&\"-\"&INDEX($B$3:$AQ$44,L$67,$E78)","v":"-"},{"$f":"INDEX($B$3:$AQ$44,$E78,M$67)&\"-\"&INDEX($B$3:$AQ$44,M$67,$E78)","v":"3-6"},{"$f":"INDEX($B$3:$AQ$44,$E78,N$67)&\"-\"&INDEX($B$3:$AQ$44,N$67,$E78)","v":"5-3"},{"$f":"INDEX($B$3:$AQ$44,$E78,O$67)&\"-\"&INDEX($B$3:$AQ$44,O$67,$E78)","v":"-"},{"$f":"INDEX($B$3:$AQ$44,$E78,P$67)&\"-\"&INDEX($B$3:$AQ$44,P$67,$E78)","v":"-"},{"$f":"INDEX($B$3:$AQ$44,$E78,Q$67)&\"-\"&INDEX($B$3:$AQ$44,Q$67,$E78)","v":"-"},{"$f":"INDEX($B$3:$AQ$44,$E78,R$67)&\"-\"&INDEX($B$3:$AQ$44,R$67,$E78)","v":"-"},{"$f":"INDEX($B$3:$AQ$44,$E78,S$67)&\"-\"&INDEX($B$3:$AQ$44,S$67,$E78)","v":"4-5"},{"$f":"INDEX($B$3:$AQ$44,$E78,T$67)&\"-\"&INDEX($B$3:$AQ$44,T$67,$E78)","v":"5-4"},{"$f":"INDEX($B$3:$AQ$44,$E78,U$67)&\"-\"&INDEX($B$3:$AQ$44,U$67,$E78)","v":"8-1"},{"$f":"INDEX($B$3:$AQ$44,$E78,V$67)&\"-\"&INDEX($B$3:$AQ$44,V$67,$E78)","v":"-"},{"$f":"INDEX($B$3:$AQ$44,$E78,W$67)&\"-\"&INDEX($B$3:$AQ$44,W$67,$E78)","v":"10-0"},{"$f":"INDEX($B$3:$AQ$44,$E78,X$67)&\"-\"&INDEX($B$3:$AQ$44,X$67,$E78)","v":"5-2"},{"$f":"INDEX($B$3:$AQ$44,$E78,Y$67)&\"-\"&INDEX($B$3:$AQ$44,Y$67,$E78)","v":"9-0"},{"$f":"INDEX($B$3:$AQ$44,$E78,Z$67)&\"-\"&INDEX($B$3:$AQ$44,Z$67,$E78)","v":"-"},{"$f":"INDEX($B$3:$AQ$44,$E78,AA$67)&\"-\"&INDEX($B$3:$AQ$44,AA$67,$E78)","v":"-"},{"$f":"INDEX($B$3:$AQ$44,$E78,AB$67)&\"-\"&INDEX($B$3:$AQ$44,AB$67,$E78)","v":"-"},{"$f":"INDEX($B$3:$AQ$44,$E78,AC$67)&\"-\"&INDEX($B$3:$AQ$44,AC$67,$E78)","v":"-"},{"$f":"INDEX($B$3:$AQ$44,$E78,AD$67)&\"-\"&INDEX($B$3:$AQ$44,AD$67,$E78)","v":"-"},{"$f":"INDEX($B$3:$AQ$44,$E78,AE$67)&\"-\"&INDEX($B$3:$AQ$44,AE$67,$E78)","v":"-"},{"$f":"INDEX($B$3:$AQ$44,$E78,AF$67)&\"-\"&INDEX($B$3:$AQ$44,AF$67,$E78)","v":"-"},{"$f":"INDEX($B$3:$AQ$44,$E78,AG$67)&\"-\"&INDEX($B$3:$AQ$44,AG$67,$E78)","v":"-"},{"$f":"INDEX($B$3:$AQ$44,$E78,AH$67)&\"-\"&INDEX($B$3:$AQ$44,AH$67,$E78)","v":"-"},{"$f":"INDEX($B$3:$AQ$44,$E78,AI$67)&\"-\"&INDEX($B$3:$AQ$44,AI$67,$E78)","v":"-"},{"$f":"INDEX($B$3:$AQ$44,$E78,AJ$67)&\"-\"&INDEX($B$3:$AQ$44,AJ$67,$E78)","v":"-"},{"$f":"INDEX($B$3:$AQ$44,$E78,AK$67)&\"-\"&INDEX($B$3:$AQ$44,AK$67,$E78)","v":"-"},{"$f":"INDEX($B$3:$AQ$44,$E78,AL$67)&\"-\"&INDEX($B$3:$AQ$44,AL$67,$E78)","v":"-"},{"$f":"INDEX($B$3:$AQ$44,$E78,AM$67)&\"-\"&INDEX($B$3:$AQ$44,AM$67,$E78)","v":"-"},{"$f":"INDEX($B$3:$AQ$44,$E78,AN$67)&\"-\"&INDEX($B$3:$AQ$44,AN$67,$E78)","v":"-"},{"$f":"INDEX($B$3:$AQ$44,$E78,AO$67)&\"-\"&INDEX($B$3:$AQ$44,AO$67,$E78)","v":"-"},"-","-","-","-","-","-","-"]
[11,11,11,10,10,"210",{"$f":"INDEX($B$3:$AQ$44,$E79,G$67)&\"-\"&INDEX($B$3:$AQ$44,G$67,$E79)","v":"-"},{"$f":"INDEX($B$3:$AQ$44,$E79,H$67)&\"-\"&INDEX($B$3:$AQ$44,H$67,$E79)","v":"-"},{"$f":"INDEX($B$3:$AQ$44,$E79,I$67)&\"-\"&INDEX($B$3:$AQ$44,I$67,$E79)","v":"-"},{"$f":"INDEX($B$3:$AQ$44,$E79,J$67)&\"-\"&INDEX($B$3:$AQ$44,J$67,$E79)","v":"0-4"},{"$f":"INDEX($B$3:$AQ$44,$E79,K$67)&\"-\"&INDEX($B$3:$AQ$44,K$67,$E79)","v":"-"},{"$f":"INDEX($B$3:$AQ$44,$E79,L$67)&\"-\"&INDEX($B$3:$AQ$44,L$67,$E79)","v":"-"},{"$f":"INDEX($B$3:$AQ$44,$E79,M$67)&\"-\"&INDEX($B$3:$AQ$44,M$67,$E79)","v":"1-8"},{"$f":"INDEX($B$3:$AQ$44,$E79,N$67)&\"-\"&INDEX($B$3:$AQ$44,N$67,$E79)","v":"13-10"},{"$f":"INDEX($B$3:$AQ$44,$E79,O$67)&\"-\"&INDEX($B$3:$AQ$44,O$67,$E79)","v":"3-7"},{"$f":"INDEX($B$3:$AQ$44,$E79,P$67)&\"-\"&INDEX($B$3:$AQ$44,P$67,$E79)","v":"-"},{"$f":"INDEX($B$3:$AQ$44,$E79,Q$67)&\"-\"&INDEX($B$3:$AQ$44,Q$67,$E79)","v":"-"},{"$f":"INDEX($B$3:$AQ$44,$E79,R$67)&\"-\"&INDEX($B$3:$AQ$44,R$67,$E79)","v":"-"},{"$f":"INDEX($B$3:$AQ$44,$E79,S$67)&\"-\"&INDEX($B$3:$AQ$44,S$67,$E79)","v":"6-6"},{"$f":"INDEX($B$3:$AQ$44,$E79,T$67)&\"-\"&INDEX($B$3:$AQ$44,T$67,$E79)","v":"9-3"},{"$f":"INDEX($B$3:$AQ$44,$E79,U$67)&\"-\"&INDEX($B$3:$AQ$44,U$67,$E79)","v":"-"},{"$f":"INDEX($B$3:$AQ$44,$E79,V$67)&\"-\"&INDEX($B$3:$AQ$44,V$67,$E79)","v":"-"},{"$f":"INDEX($B$3:$AQ$44,$E79,W$67)&\"-\"&INDEX($B$3:$AQ$44,W$67,$E79)","v":"4-2"},{"$f":"INDEX($B$3:$AQ$44,$E79,X$67)&\"-\"&INDEX($B$3:$AQ$44,X$67,$E79)","v":"8-1"},{"$f":"INDEX($B$3:$AQ$44,$E79,Y$67)&\"-\"&INDEX($B$3:$AQ$44,Y$67,$E79)","v":"-"},{"$f":"INDEX($B$3:$AQ$44,$E79,Z$67)&\"-\"&INDEX($B$3:$AQ$44,Z$67,$E79)","v":"-"},{"$f":"INDEX($B$3:$AQ$44,$E79,AA$67)&\"-\"&INDEX($B$3:$AQ$44,AA$67,$E79)","v":"-"},{"$f":"INDEX($B$3:$AQ$44,$E79,AB$67)&\"-\"&INDEX($B$3:$AQ$44,AB$67,$E79)","v":"-"},{"$f":"INDEX($B$3:$AQ$44,$E79,AC$67)&\"-\"&INDEX($B$3:$AQ$44,AC$67,$E79)","v":"-"},{"$f":"INDEX($B$3:$AQ$44,$E79,AD$67)&\"-\"&INDEX($B$3:$AQ$44,AD$67,$E79)","v":"-"},{"$f":"INDEX($B$3:$AQ$44,$E79,AE$67)&\"-\"&INDEX($B$3:$AQ$44,AE$67,$E79)","v":"-"},{"$f":"INDEX($B$3:$AQ$44,$E79,AF$67)&\"-\"&INDEX($B$3:$AQ$44,AF$67,$E79)","v":"-"},{"$f":"INDEX($B$3:$AQ$44,$E79,AG$67)&\"-\"&INDEX($B$3:$AQ$44,AG$67,$E79)","v":"-"},{"$f":"INDEX($B$3:$AQ$44,$E79,AH$67)&\"-\"&INDEX($B$3:$AQ$44,AH$67,$E79)","v":"-"},{"$f":"INDEX($B$3:$AQ$44,$E79,AI$67)&\"-\"&INDEX($B$3:$AQ$44,AI$67,$E79)","v":"-"},{"$f":"INDEX($B$3:$AQ$44,$E79,AJ$67)&\"-\"&INDEX($B$3:$AQ$44,AJ$67,$E79)","v":"-"},{"$f":"INDEX($B$3:$AQ$44,$E79,AK$67)&\"-\"&INDEX($B$3:$AQ$44,AK$67,$E79)","v":"-"},{"$f":"INDEX($B$3:$AQ$44,$E79,AL$67)&\"-\"&INDEX($B$3:$AQ$44,AL$67,$E79)","v":"-"},{"$f":"INDEX($B$3:$AQ$44,$E79,AM$67)&\"-\"&INDEX($B$3:$AQ$44,AM$67,$E79)","v":"-"},{"$f":"INDEX($B$3:$AQ$44,$E79,AN$67)&\"-\"&INDEX($B$3:$AQ$44,AN$67,$E79)","v":"-"},{"$f":"INDEX($B$3:$AQ$44,$E79,AO$67)&\"-\"&INDEX($B$3:$AQ$44,AO$67,$E79)","v":"-"},"-","-","-","-","-","-","-"]
[12,12,13,5,5,"205",{"$f":"INDEX($B$3:$AQ$44,$E80,G$67)&\"-\"&INDEX($B$3:$AQ$44,G$67,$E80)","v":"0-10"},{"$f":"INDEX($B$3:$AQ$44,$E80,H$67)&\"-\"&INDEX($B$3:$AQ$44,H$67,$E80)","v":"2-12"},{"$f":"INDEX($B$3:$AQ$44,$E80,I$67)&\"-\"&INDEX($B$3:$AQ$44,I$67,$E80)","v":"-"},{"$f":"INDEX($B$3:$AQ$44,$E80,J$67)&\"-\"&INDEX($B$3:$AQ$44,J$67,$E80)","v":"0-6"},{"$f":"INDEX($B$3:$AQ$44,$E80,K$67)&\"-\"&INDEX($B$3:$AQ$44,K$67,$E80)","v":"1-7"},{"$f":"INDEX($B$3:$AQ$44,$E80,L$67)&\"-\"&INDEX($B$3:$AQ$44,L$67,$E80)","v":"2-4"},{"$f":"INDEX($B$3:$AQ$44,$E80,M$67)&\"-\"&INDEX($B$3:$AQ$44,M$67,$E80)","v":"-"},{"$f":"INDEX($B$3:$AQ$44,$E80,N$67)&\"-\"&INDEX($B$3:$AQ$44,N$67,$E80)","v":"-"},{"$f":"INDEX($B$3:$AQ$44,$E80,O$67)&\"-\"&INDEX($B$3:$AQ$44,O$67,$E80)","v":"3-6"},{"$f":"INDEX($B$3:$AQ$44,$E80,P$67)&\"-\"&INDEX($B$3:$AQ$44,P$67,$E80)","v":"-"},{"$f":"INDEX($B$3:$AQ$44,$E80,Q$67)&\"-\"&INDEX($B$3:$AQ$44,Q$67,$E80)","v":"-"},{"$f":"INDEX($B$3:$AQ$44,$E80,R$67)&\"-\"&INDEX($B$3:$AQ$44,R$67,$E80)","v":"-"},{"$f":"INDEX($B$3:$AQ$44,$E80,S$67)&\"-\"&INDEX($B$3:$AQ$44,S$67,$E80)","v":"-"},{"$f":"INDEX($B$3:$AQ$44,$E80,T$67)&\"-\"&INDEX($B$3:$AQ$44,T$67,$E80)","v":"-"},{"$f":"INDEX($B$3:$AQ$44,$E80,U$67)&\"-\"&INDEX($B$3:$AQ$44,U$67,$E80)","v":"-"},{"$f":"INDEX($B$3:$AQ$44,$E80,V$67)&\"-\"&INDEX($B$3:$AQ$44,V$67,$E80)","v":"-"},{"$f":"INDEX($B$3:$AQ$44,$E80,W$67)&\"-\"&INDEX($B$3:$AQ$44,W$67,$E80)","v":"-"},{"$f":"INDEX($B$3:$AQ$44,$E80,X$67)&\"-\"&INDEX($B$3:$AQ$44,X$67,$E80)","v":"-"},{"$f":"INDEX($B$3:$AQ$44,$E80,Y$67)&\"-\"&INDEX($B$3:$AQ$44,Y$67,$E80)","v":"-"},{"$f":"INDEX($B$3:$AQ$44,$E80,Z$67)&\"-\"&INDEX($B$3:$AQ$44,Z$67,$E80)","v":"-"},{"$f":"INDEX($B$3:$AQ$44,$E80,AA$67)&\"-\"&INDEX($B$3:$AQ$44,AA$67,$E80)","v":"-"},{"$f":"INDEX($B$3:$AQ$44,$E80,AB$67)&\"-\"&INDEX($B$3:$AQ$44,AB$67,$E80)","v":"-"},{"$f":"INDEX($B$3:$AQ$44,$E80,AC$67)&\"-\"&INDEX($B$3:$AQ$44,AC$67,$E80)","v":"-"},{"$f":"INDEX($B$3:$AQ$44,$E80,AD$67)&\"-\"&INDEX($B$3:$AQ$44,AD$67,$E80)","v":"-"},{"$f":"INDEX($B$3:$AQ$44,$E80,AE$67)&\"-\"&INDEX($B$3:$AQ$44,AE$67,$E80)","v":"-"},{"$f":"INDEX($B$3:$AQ$44,$E80,AF$67)&\"-\"&INDEX($B$3:$AQ$44,AF$67,$E80)","v":"-"},{"$f":"INDEX($B$3:$AQ$44,$E80,AG$67)&\"-\"&INDEX($B$3:$AQ$44,AG$67,$E80)","v":"-"},{"$f":"INDEX($B$3:$AQ$44,$E80,AH$67)&\"-\"&INDEX($B$3:$AQ$44,AH$67,$E80)","v":"-"},{"$f":"INDEX($B$3:$AQ$44,$E80,AI$67)&\"-\"&INDEX($B$3:$AQ$44,AI$67,$E80)","v":"-"},{"$f":"INDEX($B$3:$AQ$44,$E80,AJ$67)&\"-\"&INDEX($B$3:$AQ$44,AJ$67,$E80)","v":"-"},{"$f":"INDEX($B$3:$AQ$44,$E80,AK$67)&\"-\"&INDEX($B$3:$AQ$44,AK$67,$E80)","v":"-"},{"$f":"INDEX($B$3:$AQ$44,$E80,AL$67)&\"-\"&INDEX($B$3:$AQ$44,AL$67,$E80)","v":"-"},{"$f":"INDEX($B$3:$AQ$44,$E80,AM$67)&\"-\"&INDEX($B$3:$AQ$44,AM$67,$E80)","v":"-"},{"$f":"INDEX($B$3:$AQ$44,$E80,AN$67)&\"-\"&INDEX($B$3:$AQ$44,AN$67,$E80)","v":"-"},{"$f":"INDEX($B$3:$AQ$44,$E80,AO$67)&\"-\"&INDEX($B$3:$AQ$44,AO$67,$E80)","v":"-"},"-","-","-","-","-","-","-"]
[13,13,12,9,9,"209",{"$f":"INDEX($B$3:$AQ$44,$E81,G$67)&\"-\"&INDEX($B$3:$AQ$44,G$67,$E81)","v":"-"},{"$f":"INDEX($B$3:$AQ$44,$E81,H$67)&\"-\"&INDEX($B$3:$AQ$44,H$67,$E81)","v":"-"},{"$f":"INDEX($B$3:$AQ$44,$E81,I$67)&\"-\"&INDEX($B$3:$AQ$44,I$67,$E81)","v":"-"},{"$f":"INDEX($B$3:$AQ$44,$E81,J$67)&\"-\"&INDEX($B$3:$AQ$44,J$67,$E81)","v":"-"},{"$f":"INDEX($B$3:$AQ$44,$E81,K$67)&\"-\"&INDEX($B$3:$AQ$44,K$67,$E81)","v":"3-9"},{"$f":"INDEX($B$3:$AQ$44,$E81,L$67)&\"-\"&INDEX($B$3:$AQ$44,L$67,$E81)","v":"-"},{"$f":"INDEX($B$3:$AQ$44,$E81,M$67)&\"-\"&INDEX($B$3:$AQ$44,M$67,$E81)","v":"1-6"},{"$f":"INDEX($B$3:$AQ$44,$E81,N$67)&\"-\"&INDEX($B$3:$AQ$44,N$67,$E81)","v":"0-10"},{"$f":"INDEX($B$3:$AQ$44,$E81,O$67)&\"-\"&INDEX($B$3:$AQ$44,O$67,$E81)","v":"3-4"},{"$f":"INDEX($B$3:$AQ$44,$E81,P$67)&\"-\"&INDEX($B$3:$AQ$44,P$67,$E81)","v":"5-4"},{"$f":"INDEX($B$3:$AQ$44,$E81,Q$67)&\"-\"&INDEX($B$3:$AQ$44,Q$67,$E81)","v":"6-6"},{"$f":"INDEX($B$3:$AQ$44,$E81,R$67)&\"-\"&INDEX($B$3:$AQ$44,R$67,$E81)","v":"-"},{"$f":"INDEX($B$3:$AQ$44,$E81,S$67)&\"-\"&INDEX($B$3:$AQ$44,S$67,$E81)","v":"-"},{"$f":"INDEX($B$3:$AQ$44,$E81,T$67)&\"-\"&INDEX($B$3:$AQ$44,T$67,$E81)","v":"-"},{"$f":"INDEX($B$3:$AQ$44,$E81,U$67)&\"-\"&INDEX($B$3:$AQ$44,U$67,$E81)","v":"2-4"},{"$f":"INDEX($B$3:$AQ$44,$E81,V$67)&\"-\"&INDEX($B$3:$AQ$44,V$67,$E81)","v":"-"},{"$f":"INDEX($B$3:$AQ$44,$E81,W$67)&\"-\"&INDEX($B$3:$AQ$44,W$67,$E81)","v":"6-0"},{"$f":"INDEX($B$3:$AQ$44,$E81,X$67)&\"-\"&INDEX($B$3:$AQ$44,X$67,$E81)","v":"-"},{"$f":"INDEX($B$3:$AQ$44,$E81,Y$67)&\"-\"&INDEX($B$3:$AQ$44,Y$67,$E81)","v":"-"},{"$f":"INDEX($B$3:$AQ$44,$E81,Z$67)&\"-\"&INDEX($B$3:$AQ$44,Z$67,$E81)","v":"-"},{"$f":"INDEX($B$3:$AQ$44,$E81,AA$67)&\"-\"&INDEX($B$3:$AQ$44,AA$67,$E81)","v":"-"},{"$f":"INDEX($B$3:$AQ$44,$E81,AB$67)&\"-\"&INDEX($B$3:$AQ$44,AB$67,$E81)","v":"7-1"},{"$f":"INDEX($B$3:$AQ$44,$E81,AC$67)&\"-\"&INDEX($B$3:$AQ$44,AC$67,$E81)","v":"-"},{"$f":"INDEX($B$3:$AQ$44,$E81,AD$67)&\"-\"&INDEX($B$3:$AQ$44,AD$67,$E81)","v":"-"},{"$f":"INDEX($B$3:$AQ$44,$E81,AE$67)&\"-\"&INDEX($B$3:$AQ$44,AE$67,$E81)","v":"-"},{"$f":"INDEX($B$3:$AQ$44,$E81,AF$67)&\"-\"&INDEX($B$3:$AQ$44,AF$67,$E81)","v":"-"},{"$f":"INDEX($B$3:$AQ$44,$E81,AG$67)&\"-\"&INDEX($B$3:$AQ$44,AG$67,$E81)","v":"-"},{"$f":"INDEX($B$3:$AQ$44,$E81,AH$67)&\"-\"&INDEX($B$3:$AQ$44,AH$67,$E81)","v":"-"},{"$f":"INDEX($B$3:$AQ$44,$E81,AI$67)&\"-\"&INDEX($B$3:$AQ$44,AI$67,$E81)","v":"-"},{"$f":"INDEX($B$3:$AQ$44,$E81,AJ$67)&\"-\"&INDEX($B$3:$AQ$44,AJ$67,$E81)","v":"-"},{"$f":"INDEX($B$3:$AQ$44,$E81,AK$67)&\"-\"&INDEX($B$3:$AQ$44,AK$67,$E81)","v":"-"},{"$f":"INDEX($B$3:$AQ$44,$E81,AL$67)&\"-\"&INDEX($B$3:$AQ$44,AL$67,$E81)","v":"-"},{"$f":"INDEX($B$3:$AQ$44,$E81,AM$67)&\"-\"&INDEX($B$3:$AQ$44,AM$67,$E81)","v":"-"},{"$f":"INDEX($B$3:$AQ$44,$E81,AN$67)&\"-\"&INDEX($B$3:$AQ$44,AN$67,$E81)","v":"-"},{"$f":"INDEX($B$3:$AQ$44,$E81,AO$67)&\"-\"&INDEX($B$3:$AQ$44,AO$67,$E81)","v":"-"},"-","-","-","-","-","-","-"]
[14,14,14,15,15,"215",{"$f":"INDEX($B$3:$AQ$44,$E82,G$67)&\"-\"&INDEX($B$3:$AQ$44,G$67,$E82)","v":"-"},{"$f":"INDEX($B$3:$AQ$44,$E82,H$67)&\"-\"&INDEX($B$3:$AQ$44,H$67,$E82)","v":"-"},{"$f":"INDEX($B$3:$AQ$44,$E82,I$67)&\"-\"&INDEX($B$3:$AQ$44,I$67,$E82)","v":"-"},{"$f":"INDEX($B$3:$AQ$44,$E82,J$67)&\"-\"&INDEX($B$3:$AQ$44,J$67,$E82)","v":"0-10"},{"$f":"INDEX($B$3:$AQ$44,$E82,K$67)&\"-\"&INDEX($B$3:$AQ$44,K$67,$E82)","v":"-"},{"$f":"INDEX($B$3:$AQ$44,$E82,L$67)&\"-\"&INDEX($B$3:$AQ$44,L$67,$E82)","v":"1-6"},{"$f":"INDEX($B$3:$AQ$44,$E82,M$67)&\"-\"&INDEX($B$3:$AQ$44,M$67,$E82)","v":"2-8"},{"$f":"INDEX($B$3:$AQ$44,$E82,N$67)&\"-\"&INDEX($B$3:$AQ$44,N$67,$E82)","v":"0-6"},{"$f":"INDEX($B$3:$AQ$44,$E82,O$67)&\"-\"&INDEX($B$3:$AQ$44,O$67,$E82)","v":"-"},{"$f":"INDEX($B$3:$AQ$44,$E82,P$67)&\"-\"&INDEX($B$3:$AQ$44,P$67,$E82)","v":"4-5"},{"$f":"INDEX($B$3:$AQ$44,$E82,Q$67)&\"-\"&INDEX($B$3:$AQ$44,Q$67,$E82)","v":"3-9"},{"$f":"INDEX($B$3:$AQ$44,$E82,R$67)&\"-\"&INDEX($B$3:$AQ$44,R$67,$E82)","v":"-"},{"$f":"INDEX($B$3:$AQ$44,$E82,S$67)&\"-\"&INDEX($B$3:$AQ$44,S$67,$E82)","v":"-"},{"$f":"INDEX($B$3:$AQ$44,$E82,T$67)&\"-\"&INDEX($B$3:$AQ$44,T$67,$E82)","v":"-"},{"$f":"INDEX($B$3:$AQ$44,$E82,U$67)&\"-\"&INDEX($B$3:$AQ$44,U$67,$E82)","v":"3-1"},{"$f":"INDEX($B$3:$AQ$44,$E82,V$67)&\"-\"&INDEX($B$3:$AQ$44,V$67,$E82)","v":"-"},{"$f":"INDEX($B$3:$AQ$44,$E82,W$67)&\"-\"&INDEX($B$3:$AQ$44,W$67,$E82)","v":"6-1"},{"$f":"INDEX($B$3:$AQ$44,$E82,X$67)&\"-\"&INDEX($B$3:$AQ$44,X$67,$E82)","v":"-"},{"$f":"INDEX($B$3:$AQ$44,$E82,Y$67)&\"-\"&INDEX($B$3:$AQ$44,Y$67,$E82)","v":"-"},{"$f":"INDEX($B$3:$AQ$44,$E82,Z$67)&\"-\"&INDEX($B$3:$AQ$44,Z$67,$E82)","v":"-"},{"$f":"INDEX($B$3:$AQ$44,$E82,AA$67)&\"-\"&INDEX($B$3:$AQ$44,AA$67,$E82)","v":"-"},{"$f":"INDEX($B$3:$AQ$44,$E82,AB$67)&\"-\"&INDEX($B$3:$AQ$44,AB$67,$E82)","v":"-"},{"$f":"INDEX($B$3:$AQ$44,$E82,AC$67)&\"-\"&INDEX($B$3:$AQ$44,AC$67,$E82)","v":"8-0"},{"$f":"INDEX($B$3:$AQ$44,$E82,AD$67)&\"-\"&INDEX($B$3:$AQ$44,AD$67,$E82)","v":"-"},{"$f":"INDEX($B$3:$AQ$44,$E82,AE$67)&\"-\"&INDEX($B$3:$AQ$44,AE$67,$E82)","v":"-"},{"$f":"INDEX($B$3:$AQ$44,$E82,AF$67)&\"-\"&INDEX($B$3:$AQ$44,AF$67,$E82)","v":"-"},{"$f":"INDEX($B$3:$AQ$44,$E82,AG$67)&\"-\"&INDEX($B$3:$AQ$44,AG$67,$E82)","v":"-"},{"$f":"INDEX($B$3:$AQ$44,$E82,AH$67)&\"-\"&INDEX($B$3:$AQ$44,AH$67,$E82)","v":"-"},{"$f":"INDEX($B$3:$AQ$44,$E82,AI$67)&\"-\"&INDEX($B$3:$AQ$44,AI$67,$E82)","v":"-"},{"$f":"INDEX($B$3:$AQ$44,$E82,AJ$67)&\"-\"&INDEX($B$3:$AQ$44,AJ$67,$E82)","v":"-"},{"$f":"INDEX($B$3:$AQ$44,$E82,AK$67)&\"-\"&INDEX($B$3:$AQ$44,AK$67,$E82)","v":"-"},{"$f":"INDEX($B$3:$AQ$44,$E82,AL$67)&\"-\"&INDEX($B$3:$AQ$44,AL$67,$E82)","v":"-"},{"$f":"INDEX($B$3:$AQ$44,$E82,AM$67)&\"-\"&INDEX($B$3:$AQ$44,AM$67,$E82)","v":"-"},{"$f":"INDEX($B$3:$AQ$44,$E82,AN$67)&\"-\"&INDEX($B$3:$AQ$44,AN$67,$E82)","v":"-"},{"$f":"INDEX($B$3:$AQ$44,$E82,AO$67)&\"-\"&INDEX($B$3:$AQ$44,AO$67,$E82)","v":"-"},"-","-","-","-","-","-","-"]
[15,16,15,13,13,"213",{"$f":"INDEX($B$3:$AQ$44,$E83,G$67)&\"-\"&INDEX($B$3:$AQ$44,G$67,$E83)","v":"-"},{"$f":"INDEX($B$3:$AQ$44,$E83,H$67)&\"-\"&INDEX($B$3:$AQ$44,H$67,$E83)","v":"-"},{"$f":"INDEX($B$3:$AQ$44,$E83,I$67)&\"-\"&INDEX($B$3:$AQ$44,I$67,$E83)","v":"-"},{"$f":"INDEX($B$3:$AQ$44,$E83,J$67)&\"-\"&INDEX($B$3:$AQ$44,J$67,$E83)","v":"-"},{"$f":"INDEX($B$3:$AQ$44,$E83,K$67)&\"-\"&INDEX($B$3:$AQ$44,K$67,$E83)","v":"-"},{"$f":"INDEX($B$3:$AQ$44,$E83,L$67)&\"-\"&INDEX($B$3:$AQ$44,L$67,$E83)","v":"-"},{"$f":"INDEX($B$3:$AQ$44,$E83,M$67)&\"-\"&INDEX($B$3:$AQ$44,M$67,$E83)","v":"1-4"},{"$f":"INDEX($B$3:$AQ$44,$E83,N$67)&\"-\"&INDEX($B$3:$AQ$44,N$67,$E83)","v":"0-10"},{"$f":"INDEX($B$3:$AQ$44,$E83,O$67)&\"-\"&INDEX($B$3:$AQ$44,O$67,$E83)","v":"2-9"},{"$f":"INDEX($B$3:$AQ$44,$E83,P$67)&\"-\"&INDEX($B$3:$AQ$44,P$67,$E83)","v":"1-8"},{"$f":"INDEX($B$3:$AQ$44,$E83,Q$67)&\"-\"&INDEX($B$3:$AQ$44,Q$67,$E83)","v":"-"},{"$f":"INDEX($B$3:$AQ$44,$E83,R$67)&\"-\"&INDEX($B$3:$AQ$44,R$67,$E83)","v":"-"},{"$f":"INDEX($B$3:$AQ$44,$E83,S$67)&\"-\"&INDEX($B$3:$AQ$44,S$67,$E83)","v":"4-2"},{"$f":"INDEX($B$3:$AQ$44,$E83,T$67)&\"-\"&INDEX($B$3:$AQ$44,T$67,$E83)","v":"1-3"},{"$f":"INDEX($B$3:$AQ$44,$E83,U$67)&\"-\"&INDEX($B$3:$AQ$44,U$67,$E83)","v":"-"},{"$f":"INDEX($B$3:$AQ$44,$E83,V$67)&\"-\"&INDEX($B$3:$AQ$44,V$67,$E83)","v":"6-3"},{"$f":"INDEX($B$3:$AQ$44,$E83,W$67)&\"-\"&INDEX($B$3:$AQ$44,W$67,$E83)","v":"5-4"},{"$f":"INDEX($B$3:$AQ$44,$E83,X$67)&\"-\"&INDEX($B$3:$AQ$44,X$67,$E83)","v":"-"},{"$f":"INDEX($B$3:$AQ$44,$E83,Y$67)&\"-\"&INDEX($B$3:$AQ$44,Y$67,$E83)","v":"-"},{"$f":"INDEX($B$3:$AQ$44,$E83,Z$67)&\"-\"&INDEX($B$3:$AQ$44,Z$67,$E83)","v":"-"},{"$f":"INDEX($B$3:$AQ$44,$E83,AA$67)&\"-\"&INDEX($B$3:$AQ$44,AA$67,$E83)","v":"-"},{"$f":"INDEX($B$3:$AQ$44,$E83,AB$67)&\"-\"&INDEX($B$3:$AQ$44,AB$67,$E83)","v":"-"},{"$f":"INDEX($B$3:$AQ$44,$E83,AC$67)&\"-\"&INDEX($B$3:$AQ$44,AC$67,$E83)","v":"-"},{"$f":"INDEX($B$3:$AQ$44,$E83,AD$67)&\"-\"&INDEX($B$3:$AQ$44,AD$67,$E83)","v":"-"},{"$f":"INDEX($B$3:$AQ$44,$E83,AE$67)&\"-\"&INDEX($B$3:$AQ$44,AE$67,$E83)","v":"-"},{"$f":"INDEX($B$3:$AQ$44,$E83,AF$67)&\"-\"&INDEX($B$3:$AQ$44,AF$67,$E83)","v":"-"},{"$f":"INDEX($B$3:$AQ$44,$E83,AG$67)&\"-\"&INDEX($B$3:$AQ$44,AG$67,$E83)","v":"-"},{"$f":"INDEX($B$3:$AQ$44,$E83,AH$67)&\"-\"&INDEX($B$3:$AQ$44,AH$67,$E83)","v":"-"},{"$f":"INDEX($B$3:$AQ$44,$E83,AI$67)&\"-\"&INDEX($B$3:$AQ$44,AI$67,$E83)","v":"-"},{"$f":"INDEX($B$3:$AQ$44,$E83,AJ$67)&\"-\"&INDEX($B$3:$AQ$44,AJ$67,$E83)","v":"-"},{"$f":"INDEX($B$3:$AQ$44,$E83,AK$67)&\"-\"&INDEX($B$3:$AQ$44,AK$67,$E83)","v":"-"},{"$f":"INDEX($B$3:$AQ$44,$E83,AL$67)&\"-\"&INDEX($B$3:$AQ$44,AL$67,$E83)","v":"-"},{"$f":"INDEX($B$3:$AQ$44,$E83,AM$67)&\"-\"&INDEX($B$3:$AQ$44,AM$67,$E83)","v":"-"},{"$f":"INDEX($B$3:$AQ$44,$E83,AN$67)&\"-\"&INDEX($B$3:$AQ$44,AN$67,$E83)","v":"-"},{"$f":"INDEX($B$3:$AQ$44,$E83,AO$67)&\"-\"&INDEX($B$3:$AQ$44,AO$67,$E83)","v":"-"},"-","-","-","-","-","-","-"]
[16,15,16,22,22,"222",{"$f":"INDEX($B$3:$AQ$44,$E84,G$67)&\"-\"&INDEX($B$3:$AQ$44,G$67,$E84)","v":"-"},{"$f":"INDEX($B$3:$AQ$44,$E84,H$67)&\"-\"&INDEX($B$3:$AQ$44,H$67,$E84)","v":"-"},{"$f":"INDEX($B$3:$AQ$44,$E84,I$67)&\"-\"&INDEX($B$3:$AQ$44,I$67,$E84)","v":"-"},{"$f":"INDEX($B$3:$AQ$44,$E84,J$67)&\"-\"&INDEX($B$3:$AQ$44,J$67,$E84)","v":"-"},{"$f":"INDEX($B$3:$AQ$44,$E84,K$67)&\"-\"&INDEX($B$3:$AQ$44,K$67,$E84)","v":"-"},{"$f":"INDEX($B$3:$AQ$44,$E84,L$67)&\"-\"&INDEX($B$3:$AQ$44,L$67,$E84)","v":"-"},{"$f":"INDEX($B$3:$AQ$44,$E84,M$67)&\"-\"&INDEX($B$3:$AQ$44,M$67,$E84)","v":"-"},{"$f":"INDEX($B$3:$AQ$44,$E84,N$67)&\"-\"&INDEX($B$3:$AQ$44,N$67,$E84)","v":"-"},{"$f":"INDEX($B$3:$AQ$44,$E84,O$67)&\"-\"&INDEX($B$3:$AQ$44,O$67,$E84)","v":"-"},{"$f":"INDEX($B$3:$AQ$44,$E84,P$67)&\"-\"&INDEX($B$3:$AQ$44,P$67,$E84)","v":"-"},{"$f":"INDEX($B$3:$AQ$44,$E84,Q$67)&\"-\"&INDEX($B$3:$AQ$44,Q$67,$E84)","v":"-"},{"$f":"INDEX($B$3:$AQ$44,$E84,R$67)&\"-\"&INDEX($B$3:$AQ$44,R$67,$E84)","v":"-"},{"$f":"INDEX($B$3:$AQ$44,$E84,S$67)&\"-\"&INDEX($B$3:$AQ$44,S$67,$E84)","v":"-"},{"$f":"INDEX($B$3:$AQ$44,$E84,T$67)&\"-\"&INDEX($B$3:$AQ$44,T$67,$E84)","v":"-"},{"$f":"INDEX($B$3:$AQ$44,$E84,U$67)&\"-\"&INDEX($B$3:$AQ$44,U$67,$E84)","v":"3-6"},{"$f":"INDEX($B$3:$AQ$44,$E84,V$67)&\"-\"&INDEX($B$3:$AQ$44,V$67,$E84)","v":"-"},{"$f":"INDEX($B$3:$AQ$44,$E84,W$67)&\"-\"&INDEX($B$3:$AQ$44,W$67,$E84)","v":"5-2"},{"$f":"INDEX($B$3:$AQ$44,$E84,X$67)&\"-\"&INDEX($B$3:$AQ$44,X$67,$E84)","v":"-"},{"$f":"INDEX($B$3:$AQ$44,$E84,Y$67)&\"-\"&INDEX($B$3:$AQ$44,Y$67,$E84)","v":"6-3"},{"$f":"INDEX($B$3:$AQ$44,$E84,Z$67)&\"-\"&INDEX($B$3:$AQ$44,Z$67,$E84)","v":"7-1"},{"$f":"INDEX($B$3:$AQ$44,$E84,AA$67)&\"-\"&INDEX($B$3:$AQ$44,AA$67,$E84)","v":"9-1"},{"$f":"INDEX($B$3:$AQ$44,$E84,AB$67)&\"-\"&INDEX($B$3:$AQ$44,AB$67,$E84)","v":"-"},{"$f":"INDEX($B$3:$AQ$44,$E84,AC$67)&\"-\"&INDEX($B$3:$AQ$44,AC$67,$E84)","v":"-"},{"$f":"INDEX($B$3:$AQ$44,$E84,AD$67)&\"-\"&INDEX($B$3:$AQ$44,AD$67,$E84)","v":"-"},{"$f":"INDEX($B$3:$AQ$44,$E84,AE$67)&\"-\"&INDEX($B$3:$AQ$44,AE$67,$E84)","v":"11-1"},{"$f":"INDEX($B$3:$AQ$44,$E84,AF$67)&\"-\"&INDEX($B$3:$AQ$44,AF$67,$E84)","v":"-"},{"$f":"INDEX($B$3:$AQ$44,$E84,AG$67)&\"-\"&INDEX($B$3:$AQ$44,AG$67,$E84)","v":"12-0"},{"$f":"INDEX($B$3:$AQ$44,$E84,AH$67)&\"-\"&INDEX($B$3:$AQ$44,AH$67,$E84)","v":"-"},{"$f":"INDEX($B$3:$AQ$44,$E84,AI$67)&\"-\"&INDEX($B$3:$AQ$44,AI$67,$E84)","v":"-"},{"$f":"INDEX($B$3:$AQ$44,$E84,AJ$67)&\"-\"&INDEX($B$3:$AQ$44,AJ$67,$E84)","v":"-"},{"$f":"INDEX($B$3:$AQ$44,$E84,AK$67)&\"-\"&INDEX($B$3:$AQ$44,AK$67,$E84)","v":"-"},{"$f":"INDEX($B$3:$AQ$44,$E84,AL$67)&\"-\"&INDEX($B$3:$AQ$44,AL$67,$E84)","v":"-"},{"$f":"INDEX($B$3:$AQ$44,$E84,AM$67)&\"-\"&INDEX($B$3:$AQ$44,AM$67,$E84)","v":"-"},{"$f":"INDEX($B$3:$AQ$44,$E84,AN$67)&\"-\"&INDEX($B$3:$AQ$44,AN$67,$E84)","v":"-"},{"$f":"INDEX($B$3:$AQ$44,$E84,AO$67)&\"-\"&INDEX($B$3:$AQ$44,AO$67,$E84)","v":"-"},"-","-","-","-","-","-","-"]
[17,17,17,16,16,"216",{"$f":"INDEX($B$3:$AQ$44,$E85,G$67)&\"-\"&INDEX($B$3:$AQ$44,G$67,$E85)","v":"-"},{"$f":"INDEX($B$3:$AQ$44,$E85,H$67)&\"-\"&INDEX($B$3:$AQ$44,H$67,$E85)","v":"-"},{"$f":"INDEX($B$3:$AQ$44,$E85,I$67)&\"-\"&INDEX($B$3:$AQ$44,I$67,$E85)","v":"-"},{"$f":"INDEX($B$3:$AQ$44,$E85,J$67)&\"-\"&INDEX($B$3:$AQ$44,J$67,$E85)","v":"-"},{"$f":"INDEX($B$3:$AQ$44,$E85,K$67)&\"-\"&INDEX($B$3:$AQ$44,K$67,$E85)","v":"-"},{"$f":"INDEX($B$3:$AQ$44,$E85,L$67)&\"-\"&INDEX($B$3:$AQ$44,L$67,$E85)","v":"-"},{"$f":"INDEX($B$3:$AQ$44,$E85,M$67)&\"-\"&INDEX($B$3:$AQ$44,M$67,$E85)","v":"-"},{"$f":"INDEX($B$3:$AQ$44,$E85,N$67)&\"-\"&INDEX($B$3:$AQ$44,N$67,$E85)","v":"-"},{"$f":"INDEX($B$3:$AQ$44,$E85,O$67)&\"-\"&INDEX($B$3:$AQ$44,O$67,$E85)","v":"-"},{"$f":"INDEX($B$3:$AQ$44,$E85,P$67)&\"-\"&INDEX($B$3:$AQ$44,P$67,$E85)","v":"0-10"},{"$f":"INDEX($B$3:$AQ$44,$E85,Q$67)&\"-\"&INDEX($B$3:$AQ$44,Q$67,$E85)","v":"2-4"},{"$f":"INDEX($B$3:$AQ$44,$E85,R$67)&\"-\"&INDEX($B$3:$AQ$44,R$67,$E85)","v":"-"},{"$f":"INDEX($B$3:$AQ$44,$E85,S$67)&\"-\"&INDEX($B$3:$AQ$44,S$67,$E85)","v":"0-6"},{"$f":"INDEX($B$3:$AQ$44,$E85,T$67)&\"-\"&INDEX($B$3:$AQ$44,T$67,$E85)","v":"1-6"},{"$f":"INDEX($B$3:$AQ$44,$E85,U$67)&\"-\"&INDEX($B$3:$AQ$44,U$67,$E85)","v":"4-5"},{"$f":"INDEX($B$3:$AQ$44,$E85,V$67)&\"-\"&INDEX($B$3:$AQ$44,V$67,$E85)","v":"2-5"},{"$f":"INDEX($B$3:$AQ$44,$E85,W$67)&\"-\"&INDEX($B$3:$AQ$44,W$67,$E85)","v":"-"},{"$f":"INDEX($B$3:$AQ$44,$E85,X$67)&\"-\"&INDEX($B$3:$AQ$44,X$67,$E85)","v":"3-0"},{"$f":"INDEX($B$3:$AQ$44,$E85,Y$67)&\"-\"&INDEX($B$3:$AQ$44,Y$67,$E85)","v":"-"},{"$f":"INDEX($B$3:$AQ$44,$E85,Z$67)&\"-\"&INDEX($B$3:$AQ$44,Z$67,$E85)","v":"-"},{"$f":"INDEX($B$3:$AQ$44,$E85,AA$67)&\"-\"&INDEX($B$3:$AQ$44,AA$67,$E85)","v":"-"},{"$f":"INDEX($B$3:$AQ$44,$E85,AB$67)&\"-\"&INDEX($B$3:$AQ$44,AB$67,$E85)","v":"8-3"},{"$f":"INDEX($B$3:$AQ$44,$E85,AC$67)&\"-\"&INDEX($B$3:$AQ$44,AC$67,$E85)","v":"4-1"},{"$f":"INDEX($B$3:$AQ$44,$E85,AD$67)&\"-\"&INDEX($B$3:$AQ$44,AD$67,$E85)","v":"-"},{"$f":"INDEX($B$3:$AQ$44,$E85,AE$67)&\"-\"&INDEX($B$3:$AQ$44,AE$67,$E85)","v":"-"},{"$f":"INDEX($B$3:$AQ$44,$E85,AF$67)&\"-\"&INDEX($B$3:$AQ$44,AF$67,$E85)","v":"-"},{"$f":"INDEX($B$3:$AQ$44,$E85,AG$67)&\"-\"&INDEX($B$3:$AQ$44,AG$67,$E85)","v":"-"},{"$f":"INDEX($B$3:$AQ$44,$E85,AH$67)&\"-\"&INDEX($B$3:$AQ$44,AH$67,$E85)","v":"-"},{"$f":"INDEX($B$3:$AQ$44,$E85,AI$67)&\"-\"&INDEX($B$3:$AQ$44,AI$67,$E85)","v":"-"},{"$f":"INDEX($B$3:$AQ$44,$E85,AJ$67)&\"-\"&INDEX($B$3:$AQ$44,AJ$67,$E85)","v":"-"},{"$f":"INDEX($B$3:$AQ$44,$E85,AK$67)&\"-\"&INDEX($B$3:$AQ$44,AK$67,$E85)","v":"-"},{"$f":"INDEX($B$3:$AQ$44,$E85,AL$67)&\"-\"&INDEX($B$3:$AQ$44,AL$67,$E85)","v":"-"},{"$f":"INDEX($B$3:$AQ$44,$E85,AM$67)&\"-\"&INDEX($B$3:$AQ$44,AM$67,$E85)","v":"-"},{"$f":"INDEX($B$3:$AQ$44,$E85,AN$67)&\"-\"&INDEX($B$3:$AQ$44,AN$67,$E85)","v":"-"},{"$f":"INDEX($B$3:$AQ$44,$E85,AO$67)&\"-\"&INDEX($B$3:$AQ$44,AO$67,$E85)","v":"-"},{"$f":"INDEX($B$3:$AQ$44,$E85,AP$67)&\"-\"&INDEX($B$3:$AQ$44,AP$67,$E85)","v":"-"},"-","-","-","-","-","-"]
[18,18,18,19,19,"219",{"$f":"INDEX($B$3:$AQ$44,$E86,G$67)&\"-\"&INDEX($B$3:$AQ$44,G$67,$E86)","v":"-"},{"$f":"INDEX($B$3:$AQ$44,$E86,H$67)&\"-\"&INDEX($B$3:$AQ$44,H$67,$E86)","v":"-"},{"$f":"INDEX($B$3:$AQ$44,$E86,I$67)&\"-\"&INDEX($B$3:$AQ$44,I$67,$E86)","v":"-"},{"$f":"INDEX($B$3:$AQ$44,$E86,J$67)&\"-\"&INDEX($B$3:$AQ$44,J$67,$E86)","v":"-"},{"$f":"INDEX($B$3:$AQ$44,$E86,K$67)&\"-\"&INDEX($B$3:$AQ$44,K$67,$E86)","v":"-"},{"$f":"INDEX($B$3:$AQ$44,$E86,L$67)&\"-\"&INDEX($B$3:$AQ$44,L$67,$E86)","v":"-"},{"$f":"INDEX($B$3:$AQ$44,$E86,M$67)&\"-\"&INDEX($B$3:$AQ$44,M$67,$E86)","v":"-"},{"$f":"INDEX($B$3:$AQ$44,$E86,N$67)&\"-\"&INDEX($B$3:$AQ$44,N$67,$E86)","v":"-"},{"$f":"INDEX($B$3:$AQ$44,$E86,O$67)&\"-\"&INDEX($B$3:$AQ$44,O$67,$E86)","v":"-"},{"$f":"INDEX($B$3:$AQ$44,$E86,P$67)&\"-\"&INDEX($B$3:$AQ$44,P$67,$E86)","v":"2-5"},{"$f":"INDEX($B$3:$AQ$44,$E86,Q$67)&\"-\"&INDEX($B$3:$AQ$44,Q$67,$E86)","v":"1-8"},{"$f":"INDEX($B$3:$AQ$44,$E86,R$67)&\"-\"&INDEX($B$3:$AQ$44,R$67,$E86)","v":"-"},{"$f":"INDEX($B$3:$AQ$44,$E86,S$67)&\"-\"&INDEX($B$3:$AQ$44,S$67,$E86)","v":"-"},{"$f":"INDEX($B$3:$AQ$44,$E86,T$67)&\"-\"&INDEX($B$3:$AQ$44,T$67,$E86)","v":"-"},{"$f":"INDEX($B$3:$AQ$44,$E86,U$67)&\"-\"&INDEX($B$3:$AQ$44,U$67,$E86)","v":"-"},{"$f":"INDEX($B$3:$AQ$44,$E86,V$67)&\"-\"&INDEX($B$3:$AQ$44,V$67,$E86)","v":"-"},{"$f":"INDEX($B$3:$AQ$44,$E86,W$67)&\"-\"&INDEX($B$3:$AQ$44,W$67,$E86)","v":"0-3"},{"$f":"INDEX($B$3:$AQ$44,$E86,X$67)&\"-\"&INDEX($B$3:$AQ$44,X$67,$E86)","v":"-"},{"$f":"INDEX($B$3:$AQ$44,$E86,Y$67)&\"-\"&INDEX($B$3:$AQ$44,Y$67,$E86)","v":"3-3"},{"$f":"INDEX($B$3:$AQ$44,$E86,Z$67)&\"-\"&INDEX($B$3:$AQ$44,Z$67,$E86)","v":"2-3"},{"$f":"INDEX($B$3:$AQ$44,$E86,AA$67)&\"-\"&INDEX($B$3:$AQ$44,AA$67,$E86)","v":"0-4"},{"$f":"INDEX($B$3:$AQ$44,$E86,AB$67)&\"-\"&INDEX($B$3:$AQ$44,AB$67,$E86)","v":"12-2"},{"$f":"INDEX($B$3:$AQ$44,$E86,AC$67)&\"-\"&INDEX($B$3:$AQ$44,AC$67,$E86)","v":"11-3"},{"$f":"INDEX($B$3:$AQ$44,$E86,AD$67)&\"-\"&INDEX($B$3:$AQ$44,AD$67,$E86)","v":"-"},{"$f":"INDEX($B$3:$AQ$44,$E86,AE$67)&\"-\"&INDEX($B$3:$AQ$44,AE$67,$E86)","v":"-"},{"$f":"INDEX($B$3:$AQ$44,$E86,AF$67)&\"-\"&INDEX($B$3:$AQ$44,AF$67,$E86)","v":"-"},{"$f":"INDEX($B$3:$AQ$44,$E86,AG$67)&\"-\"&INDEX($B$3:$AQ$44,AG$67,$E86)","v":"-"},{"$f":"INDEX($B$3:$AQ$44,$E86,AH$67)&\"-\"&INDEX($B$3:$AQ$44,AH$67,$E86)","v":"-"},{"$f":"INDEX($B$3:$AQ$44,$E86,AI$67)&\"-\"&INDEX($B$3:$AQ$44,AI$67,$E86)","v":"-"},{"$f":"INDEX($B$3:$AQ$44,$E86,AJ$67)&\"-\"&INDEX($B$3:$AQ$44,AJ$67,$E86)","v":"-"},{"$f":"INDEX($B$3:$AQ$44,$E86,AK$67)&\"-\"&INDEX($B$3:$AQ$44,AK$67,$E86)","v":"-"},{"$f":"INDEX($B$3:$AQ$44,$E86,AL$67)&\"-\"&INDEX($B$3:$AQ$44,AL$67,$E86)","v":"-"},{"$f":"INDEX($B$3:$AQ$44,$E86,AM$67)&\"-\"&INDEX($B$3:$AQ$44,AM$67,$E86)","v":"-"},{"$f":"INDEX($B$3:$AQ$44,$E86,AN$67)&\"-\"&INDEX($B$3:$AQ$44,AN$67,$E86)","v":"-"},{"$f":"INDEX($B$3:$AQ$44,$E86,AO$67)&\"-\"&INDEX($B$3:$AQ$44,AO$67,$E86)","v":"-"},"-","-","-","-","-","-","-"]
[19,19,19,20,20,"220",{"$f":"INDEX($B$3:$AQ$44,$E87,G$67)&\"-\"&INDEX($B$3:$AQ$44,G$67,$E87)","v":"-"},{"$f":"INDEX($B$3:$AQ$44,$E87,H$67)&\"-\"&INDEX($B$3:$AQ$44,H$67,$E87)","v":"-"},{"$f":"INDEX($B$3:$AQ$44,$E87,I$67)&\"-\"&INDEX($B$3:$AQ$44,I$67,$E87)","v":"-"},{"$f":"INDEX($B$3:$AQ$44,$E87,J$67)&\"-\"&INDEX($B$3:$AQ$44,J$67,$E87)","v":"-"},{"$f":"INDEX($B$3:$AQ$44,$E87,K$67)&\"-\"&INDEX($B$3:$AQ$44,K$67,$E87)","v":"-"},{"$f":"INDEX($B$3:$AQ$44,$E87,L$67)&\"-\"&INDEX($B$3:$AQ$44,L$67,$E87)","v":"-"},{"$f":"INDEX($B$3:$AQ$44,$E87,M$67)&\"-\"&INDEX($B$3:$AQ$44,M$67,$E87)","v":"-"},{"$f":"INDEX($B$3:$AQ$44,$E87,N$67)&\"-\"&INDEX($B$3:$AQ$44,N$67,$E87)","v":"-"},{"$f":"INDEX($B$3:$AQ$44,$E87,O$67)&\"-\"&INDEX($B$3:$AQ$44,O$67,$E87)","v":"-"},{"$f":"INDEX($B$3:$AQ$44,$E87,P$67)&\"-\"&INDEX($B$3:$AQ$44,P$67,$E87)","v":"0-9"},{"$f":"INDEX($B$3:$AQ$44,$E87,Q$67)&\"-\"&INDEX($B$3:$AQ$44,Q$67,$E87)","v":"-"},{"$f":"INDEX($B$3:$AQ$44,$E87,R$67)&\"-\"&INDEX($B$3:$AQ$44,R$67,$E87)","v":"-"},{"$f":"INDEX($B$3:$AQ$44,$E87,S$67)&\"-\"&INDEX($B$3:$AQ$44,S$67,$E87)","v":"-"},{"$f":"INDEX($B$3:$AQ$44,$E87,T$67)&\"-\"&INDEX($B$3:$AQ$44,T$67,$E87)","v":"-"},{"$f":"INDEX($B$3:$AQ$44,$E87,U$67)&\"-\"&INDEX($B$3:$AQ$44,U$67,$E87)","v":"-"},{"$f":"INDEX($B$3:$AQ$44,$E87,V$67)&\"-\"&INDEX($B$3:$AQ$44,V$67,$E87)","v":"3-6"},{"$f":"INDEX($B$3:$AQ$44,$E87,W$67)&\"-\"&INDEX($B$3:$AQ$44,W$67,$E87)","v":"-"},{"$f":"INDEX($B$3:$AQ$44,$E87,X$67)&\"-\"&INDEX($B$3:$AQ$44,X$67,$E87)","v":"3-3"},{"$f":"INDEX($B$3:$AQ$44,$E87,Y$67)&\"-\"&INDEX($B$3:$AQ$44,Y$67,$E87)","v":"-"},{"$f":"INDEX($B$3:$AQ$44,$E87,Z$67)&\"-\"&INDEX($B$3:$AQ$44,Z$67,$E87)","v":"4-1"},{"$f":"INDEX($B$3:$AQ$44,$E87,AA$67)&\"-\"&INDEX($B$3:$AQ$44,AA$67,$E87)","v":"3-2"},{"$f":"INDEX($B$3:$AQ$44,$E87,AB$67)&\"-\"&INDEX($B$3:$AQ$44,AB$67,$E87)","v":"3-2"},{"$f":"INDEX($B$3:$AQ$44,$E87,AC$67)&\"-\"&INDEX($B$3:$AQ$44,AC$67,$E87)","v":"-"},{"$f":"INDEX($B$3:$AQ$44,$E87,AD$67)&\"-\"&INDEX($B$3:$AQ$44,AD$67,$E87)","v":"-"},{"$f":"INDEX($B$3:$AQ$44,$E87,AE$67)&\"-\"&INDEX($B$3:$AQ$44,AE$67,$E87)","v":"3-0"},{"$f":"INDEX($B$3:$AQ$44,$E87,AF$67)&\"-\"&INDEX($B$3:$AQ$44,AF$67,$E87)","v":"-"},{"$f":"INDEX($B$3:$AQ$44,$E87,AG$67)&\"-\"&INDEX($B$3:$AQ$44,AG$67,$E87)","v":"-"},{"$f":"INDEX($B$3:$AQ$44,$E87,AH$67)&\"-\"&INDEX($B$3:$AQ$44,AH$67,$E87)","v":"-"},{"$f":"INDEX($B$3:$AQ$44,$E87,AI$67)&\"-\"&INDEX($B$3:$AQ$44,AI$67,$E87)","v":"-"},{"$f":"INDEX($B$3:$AQ$44,$E87,AJ$67)&\"-\"&INDEX($B$3:$AQ$44,AJ$67,$E87)","v":"9-1"},{"$f":"INDEX($B$3:$AQ$44,$E87,AK$67)&\"-\"&INDEX($B$3:$AQ$44,AK$67,$E87)","v":"-"},{"$f":"INDEX($B$3:$AQ$44,$E87,AL$67)&\"-\"&INDEX($B$3:$AQ$44,AL$67,$E87)","v":"-"},{"$f":"INDEX($B$3:$AQ$44,$E87,AM$67)&\"-\"&INDEX($B$3:$AQ$44,AM$67,$E87)","v":"-"},{"$f":"INDEX($B$3:$AQ$44,$E87,AN$67)&\"-\"&INDEX($B$3:$AQ$44,AN$67,$E87)","v":"-"},{"$f":"INDEX($B$3:$AQ$44,$E87,AO$67)&\"-\"&INDEX($B$3:$AQ$44,AO$67,$E87)","v":"-"},"-","-","-","-","-","-","-"]
[20,20,20,21,21,"221",{"$f":"INDEX($B$3:$AQ$44,$E88,G$67)&\"-\"&INDEX($B$3:$AQ$44,G$67,$E88)","v":"-"},{"$f":"INDEX($B$3:$AQ$44,$E88,H$67)&\"-\"&INDEX($B$3:$AQ$44,H$67,$E88)","v":"-"},{"$f":"INDEX($B$3:$AQ$44,$E88,I$67)&\"-\"&INDEX($B$3:$AQ$44,I$67,$E88)","v":"-"},{"$f":"INDEX($B$3:$AQ$44,$E88,J$67)&\"-\"&INDEX($B$3:$AQ$44,J$67,$E88)","v":"-"},{"$f":"INDEX($B$3:$AQ$44,$E88,K$67)&\"-\"&INDEX($B$3:$AQ$44,K$67,$E88)","v":"-"},{"$f":"INDEX($B$3:$AQ$44,$E88,L$67)&\"-\"&INDEX($B$3:$AQ$44,L$67,$E88)","v":"-"},{"$f":"INDEX($B$3:$AQ$44,$E88,M$67)&\"-\"&INDEX($B$3:$AQ$44,M$67,$E88)","v":"2-12"},{"$f":"INDEX($B$3:$AQ$44,$E88,N$67)&\"-\"&INDEX($B$3:$AQ$44,N$67,$E88)","v":"-"},{"$f":"INDEX($B$3:$AQ$44,$E88,O$67)&\"-\"&INDEX($B$3:$AQ$44,O$67,$E88)","v":"-"},{"$f":"INDEX($B$3:$AQ$44,$E88,P$67)&\"-\"&INDEX($B$3:$AQ$44,P$67,$E88)","v":"-"},{"$f":"INDEX($B$3:$AQ$44,$E88,Q$67)&\"-\"&INDEX($B$3:$AQ$44,Q$67,$E88)","v":"-"},{"$f":"INDEX($B$3:$AQ$44,$E88,R$67)&\"-\"&INDEX($B$3:$AQ$44,R$67,$E88)","v":"-"},{"$f":"INDEX($B$3:$AQ$44,$E88,S$67)&\"-\"&INDEX($B$3:$AQ$44,S$67,$E88)","v":"-"},{"$f":"INDEX($B$3:$AQ$44,$E88,T$67)&\"-\"&INDEX($B$3:$AQ$44,T$67,$E88)","v":"-"},{"$f":"INDEX($B$3:$AQ$44,$E88,U$67)&\"-\"&INDEX($B$3:$AQ$44,U$67,$E88)","v":"-"},{"$f":"INDEX($B$3:$AQ$44,$E88,V$67)&\"-\"&INDEX($B$3:$AQ$44,V$67,$E88)","v":"1-7"},{"$f":"INDEX($B$3:$AQ$44,$E88,W$67)&\"-\"&INDEX($B$3:$AQ$44,W$67,$E88)","v":"-"},{"$f":"INDEX($B$3:$AQ$44,$E88,X$67)&\"-\"&INDEX($B$3:$AQ$44,X$67,$E88)","v":"3-2"},{"$f":"INDEX($B$3:$AQ$44,$E88,Y$67)&\"-\"&INDEX($B$3:$AQ$44,Y$67,$E88)","v":"1-4"},{"$f":"INDEX($B$3:$AQ$44,$E88,Z$67)&\"-\"&INDEX($B$3:$AQ$44,Z$67,$E88)","v":"-"},{"$f":"INDEX($B$3:$AQ$44,$E88,AA$67)&\"-\"&INDEX($B$3:$AQ$44,AA$67,$E88)","v":"-"},{"$f":"INDEX($B$3:$AQ$44,$E88,AB$67)&\"-\"&INDEX($B$3:$AQ$44,AB$67,$E88)","v":"-"},{"$f":"INDEX($B$3:$AQ$44,$E88,AC$67)&\"-\"&INDEX($B$3:$AQ$44,AC$67,$E88)","v":"-"},{"$f":"INDEX($B$3:$AQ$44,$E88,AD$67)&\"-\"&INDEX($B$3:$AQ$44,AD$67,$E88)","v":"-"},{"$f":"INDEX($B$3:$AQ$44,$E88,AE$67)&\"-\"&INDEX($B$3:$AQ$44,AE$67,$E88)","v":"10-0"},{"$f":"INDEX($B$3:$AQ$44,$E88,AF$67)&\"-\"&INDEX($B$3:$AQ$44,AF$67,$E88)","v":"-"},{"$f":"INDEX($B$3:$AQ$44,$E88,AG$67)&\"-\"&INDEX($B$3:$AQ$44,AG$67,$E88)","v":"-"},{"$f":"INDEX($B$3:$AQ$44,$E88,AH$67)&\"-\"&INDEX($B$3:$AQ$44,AH$67,$E88)","v":"-"},{"$f":"INDEX($B$3:$AQ$44,$E88,AI$67)&\"-\"&INDEX($B$3:$AQ$44,AI$67,$E88)","v":"-"},{"$f":"INDEX($B$3:$AQ$44,$E88,AJ$67)&\"-\"&INDEX($B$3:$AQ$44,AJ$67,$E88)","v":"-"},{"$f":"INDEX($B$3:$AQ$44,$E88,AK$67)&\"-\"&INDEX($B$3:$AQ$44,AK$67,$E88)","v":"-"},{"$f":"INDEX($B$3:$AQ$44,$E88,AL$67)&\"-\"&INDEX($B$3:$AQ$44,AL$67,$E88)","v":"-"},{"$f":"INDEX($B$3:$AQ$44,$E88,AM$67)&\"-\"&INDEX($B$3:$AQ$44,AM$67,$E88)","v":"-"},{"$f":"INDEX($B$3:$AQ$44,$E88,AN$67)&\"-\"&INDEX($B$3:$AQ$44,AN$67,$E88)","v":"-"},{"$f":"INDEX($B$3:$AQ$44,$E88,AO$67)&\"-\"&INDEX($B$3:$AQ$44,AO$67,$E88)","v":"-"},"12-0","-","-","-","-","-","-"]
[21,21,21,24,24,"224",{"$f":"INDEX($B$3:$AQ$44,$E89,G$67)&\"-\"&INDEX($B$3:$AQ$44,G$67,$E89)","v":"-"},{"$f":"INDEX($B$3:$AQ$44,$E89,H$67)&\"-\"&INDEX($B$3:$AQ$44,H$67,$E89)","v":"-"},{"$f":"INDEX($B$3:$AQ$44,$E89,I$67)&\"-\"&INDEX($B$3:$AQ$44,I$67,$E89)","v":"-"},{"$f":"INDEX($B$3:$AQ$44,$E89,J$67)&\"-\"&INDEX($B$3:$AQ$44,J$67,$E89)","v":"-"},{"$f":"INDEX($B$3:$AQ$44,$E89,K$67)&\"-\"&INDEX($B$3:$AQ$44,K$67,$E89)","v":"-"},{"$f":"INDEX($B$3:$AQ$44,$E89,L$67)&\"-\"&INDEX($B$3:$AQ$44,L$67,$E89)","v":"-"},{"$f":"INDEX($B$3:$AQ$44,$E89,M$67)&\"-\"&INDEX($B$3:$AQ$44,M$67,$E89)","v":"-"},{"$f":"INDEX($B$3:$AQ$44,$E89,N$67)&\"-\"&INDEX($B$3:$AQ$44,N$67,$E89)","v":"-"},{"$f":"INDEX($B$3:$AQ$44,$E89,O$67)&\"-\"&INDEX($B$3:$AQ$44,O$67,$E89)","v":"-"},{"$f":"INDEX($B$3:$AQ$44,$E89,P$67)&\"-\"&INDEX($B$3:$AQ$44,P$67,$E89)","v":"-"},{"$f":"INDEX($B$3:$AQ$44,$E89,Q$67)&\"-\"&INDEX($B$3:$AQ$44,Q$67,$E89)","v":"-"},{"$f":"INDEX($B$3:$AQ$44,$E89,R$67)&\"-\"&INDEX($B$3:$AQ$44,R$67,$E89)","v":"-"},{"$f":"INDEX($B$3:$AQ$44,$E89,S$67)&\"-\"&INDEX($B$3:$AQ$44,S$67,$E89)","v":"-"},{"$f":"INDEX($B$3:$AQ$44,$E89,T$67)&\"-\"&INDEX($B$3:$AQ$44,T$67,$E89)","v":"-"},{"$f":"INDEX($B$3:$AQ$44,$E89,U$67)&\"-\"&INDEX($B$3:$AQ$44,U$67,$E89)","v":"-"},{"$f":"INDEX($B$3:$AQ$44,$E89,V$67)&\"-\"&INDEX($B$3:$AQ$44,V$67,$E89)","v":"1-9"},{"$f":"INDEX($B$3:$AQ$44,$E89,W$67)&\"-\"&INDEX($B$3:$AQ$44,W$67,$E89)","v":"-"},{"$f":"INDEX($B$3:$AQ$44,$E89,X$67)&\"-\"&INDEX($B$3:$AQ$44,X$67,$E89)","v":"4-0"},{"$f":"INDEX($B$3:$AQ$44,$E89,Y$67)&\"-\"&INDEX($B$3:$AQ$44,Y$67,$E89)","v":"2-3"},{"$f":"INDEX($B$3:$AQ$44,$E89,Z$67)&\"-\"&INDEX($B$3:$AQ$44,Z$67,$E89)","v":"-"},{"$f":"INDEX($B$3:$AQ$44,$E89,AA$67)&\"-\"&INDEX($B$3:$AQ$44,AA$67,$E89)","v":"-"},{"$f":"INDEX($B$3:$AQ$44,$E89,AB$67)&\"-\"&INDEX($B$3:$AQ$44,AB$67,$E89)","v":"3-8"},{"$f":"INDEX($B$3:$AQ$44,$E89,AC$67)&\"-\"&INDEX($B$3:$AQ$44,AC$67,$E89)","v":"-"},{"$f":"INDEX($B$3:$AQ$44,$E89,AD$67)&\"-\"&INDEX($B$3:$AQ$44,AD$67,$E89)","v":"-"},{"$f":"INDEX($B$3:$AQ$44,$E89,AE$67)&\"-\"&INDEX($B$3:$AQ$44,AE$67,$E89)","v":"6-0"},{"$f":"INDEX($B$3:$AQ$44,$E89,AF$67)&\"-\"&INDEX($B$3:$AQ$44,AF$67,$E89)","v":"-"},{"$f":"INDEX($B$3:$AQ$44,$E89,AG$67)&\"-\"&INDEX($B$3:$AQ$44,AG$67,$E89)","v":"-"},{"$f":"INDEX($B$3:$AQ$44,$E89,AH$67)&\"-\"&INDEX($B$3:$AQ$44,AH$67,$E89)","v":"8-0"},{"$f":"INDEX($B$3:$AQ$44,$E89,AI$67)&\"-\"&INDEX($B$3:$AQ$44,AI$67,$E89)","v":"-"},{"$f":"INDEX($B$3:$AQ$44,$E89,AJ$67)&\"-\"&INDEX($B$3:$AQ$44,AJ$67,$E89)","v":"4-1"},{"$f":"INDEX($B$3:$AQ$44,$E89,AK$67)&\"-\"&INDEX($B$3:$AQ$44,AK$67,$E89)","v":"-"},{"$f":"INDEX($B$3:$AQ$44,$E89,AL$67)&\"-\"&INDEX($B$3:$AQ$44,AL$67,$E89)","v":"7-1"},{"$f":"INDEX($B$3:$AQ$44,$E89,AM$67)&\"-\"&INDEX($B$3:$AQ$44,AM$67,$E89)","v":"-"},{"$f":"INDEX($B$3:$AQ$44,$E89,AN$67)&\"-\"&INDEX($B$3:$AQ$44,AN$67,$E89)","v":"-"},{"$f":"INDEX($B$3:$AQ$44,$E89,AO$67)&\"-\"&INDEX($B$3:$AQ$44,AO$67,$E89)","v":"-"},"-","-","-","10-0","-","-","-"]
[22,22,22,18,18,"218",{"$f":"INDEX($B$3:$AQ$44,$E90,G$67)&\"-\"&INDEX($B$3:$AQ$44,G$67,$E90)","v":"-"},{"$f":"INDEX($B$3:$AQ$44,$E90,H$67)&\"-\"&INDEX($B$3:$AQ$44,H$67,$E90)","v":"-"},{"$f":"INDEX($B$3:$AQ$44,$E90,I$67)&\"-\"&INDEX($B$3:$AQ$44,I$67,$E90)","v":"-"},{"$f":"INDEX($B$3:$AQ$44,$E90,J$67)&\"-\"&INDEX($B$3:$AQ$44,J$67,$E90)","v":"-"},{"$f":"INDEX($B$3:$AQ$44,$E90,K$67)&\"-\"&INDEX($B$3:$AQ$44,K$67,$E90)","v":"-"},{"$f":"INDEX($B$3:$AQ$44,$E90,L$67)&\"-\"&INDEX($B$3:$AQ$44,L$67,$E90)","v":"-"},{"$f":"INDEX($B$3:$AQ$44,$E90,M$67)&\"-\"&INDEX($B$3:$AQ$44,M$67,$E90)","v":"-"},{"$f":"INDEX($B$3:$AQ$44,$E90,N$67)&\"-\"&INDEX($B$3:$AQ$44,N$67,$E90)","v":"-"},{"$f":"INDEX($B$3:$AQ$44,$E90,O$67)&\"-\"&INDEX($B$3:$AQ$44,O$67,$E90)","v":"-"},{"$f":"INDEX($B$3:$AQ$44,$E90,P$67)&\"-\"&INDEX($B$3:$AQ$44,P$67,$E90)","v":"-"},{"$f":"INDEX($B$3:$AQ$44,$E90,Q$67)&\"-\"&INDEX($B$3:$AQ$44,Q$67,$E90)","v":"-"},{"$f":"INDEX($B$3:$AQ$44,$E90,R$67)&\"-\"&INDEX($B$3:$AQ$44,R$67,$E90)","v":"-"},{"$f":"INDEX($B$3:$AQ$44,$E90,S$67)&\"-\"&INDEX($B$3:$AQ$44,S$67,$E90)","v":"1-7"},{"$f":"INDEX($B$3:$AQ$44,$E90,T$67)&\"-\"&INDEX($B$3:$AQ$44,T$67,$E90)","v":"-"},{"$f":"INDEX($B$3:$AQ$44,$E90,U$67)&\"-\"&INDEX($B$3:$AQ$44,U$67,$E90)","v":"-"},{"$f":"INDEX($B$3:$AQ$44,$E90,V$67)&\"-\"&INDEX($B$3:$AQ$44,V$67,$E90)","v":"-"},{"$f":"INDEX($B$3:$AQ$44,$E90,W$67)&\"-\"&INDEX($B$3:$AQ$44,W$67,$E90)","v":"3-8"},{"$f":"INDEX($B$3:$AQ$44,$E90,X$67)&\"-\"&INDEX($B$3:$AQ$44,X$67,$E90)","v":"2-12"},{"$f":"INDEX($B$3:$AQ$44,$E90,Y$67)&\"-\"&INDEX($B$3:$AQ$44,Y$67,$E90)","v":"2-3"},{"$f":"INDEX($B$3:$AQ$44,$E90,Z$67)&\"-\"&INDEX($B$3:$AQ$44,Z$67,$E90)","v":"-"},{"$f":"INDEX($B$3:$AQ$44,$E90,AA$67)&\"-\"&INDEX($B$3:$AQ$44,AA$67,$E90)","v":"8-3"},{"$f":"INDEX($B$3:$AQ$44,$E90,AB$67)&\"-\"&INDEX($B$3:$AQ$44,AB$67,$E90)","v":"-"},{"$f":"INDEX($B$3:$AQ$44,$E90,AC$67)&\"-\"&INDEX($B$3:$AQ$44,AC$67,$E90)","v":"5-6"},{"$f":"INDEX($B$3:$AQ$44,$E90,AD$67)&\"-\"&INDEX($B$3:$AQ$44,AD$67,$E90)","v":"5-4"},{"$f":"INDEX($B$3:$AQ$44,$E90,AE$67)&\"-\"&INDEX($B$3:$AQ$44,AE$67,$E90)","v":"-"},{"$f":"INDEX($B$3:$AQ$44,$E90,AF$67)&\"-\"&INDEX($B$3:$AQ$44,AF$67,$E90)","v":"-"},{"$f":"INDEX($B$3:$AQ$44,$E90,AG$67)&\"-\"&INDEX($B$3:$AQ$44,AG$67,$E90)","v":"-"},{"$f":"INDEX($B$3:$AQ$44,$E90,AH$67)&\"-\"&INDEX($B$3:$AQ$44,AH$67,$E90)","v":"-"},{"$f":"INDEX($B$3:$AQ$44,$E90,AI$67)&\"-\"&INDEX($B$3:$AQ$44,AI$67,$E90)","v":"-"},{"$f":"INDEX($B$3:$AQ$44,$E90,AJ$67)&\"-\"&INDEX($B$3:$AQ$44,AJ$67,$E90)","v":"-"},{"$f":"INDEX($B$3:$AQ$44,$E90,AK$67)&\"-\"&INDEX($B$3:$AQ$44,AK$67,$E90)","v":"-"},{"$f":"INDEX($B$3:$AQ$44,$E90,AL$67)&\"-\"&INDEX($B$3:$AQ$44,AL$67,$E90)","v":"-"},{"$f":"INDEX($B$3:$AQ$44,$E90,AM$67)&\"-\"&INDEX($B$3:$AQ$44,AM$67,$E90)","v":"-"},{"$f":"INDEX($B$3:$AQ$44,$E90,AN$67)&\"-\"&INDEX($B$3:$AQ$44,AN$67,$E90)","v":"-"},{"$f":"INDEX($B$3:$AQ$44,$E90,AO$67)&\"-\"&INDEX($B$3:$AQ$44,AO$67,$E90)","v":"-"},"-","-","-","-","-","-","-"]
[23,23,23,17,17,"217",{"$f":"INDEX($B$3:$AQ$44,$E91,G$67)&\"-\"&INDEX($B$3:$AQ$44,G$67,$E91)","v":"-"},{"$f":"INDEX($B$3:$AQ$44,$E91,H$67)&\"-\"&INDEX($B$3:$AQ$44,H$67,$E91)","v":"-"},{"$f":"INDEX($B$3:$AQ$44,$E91,I$67)&\"-\"&INDEX($B$3:$AQ$44,I$67,$E91)","v":"-"},{"$f":"INDEX($B$3:$AQ$44,$E91,J$67)&\"-\"&INDEX($B$3:$AQ$44,J$67,$E91)","v":"-"},{"$f":"INDEX($B$3:$AQ$44,$E91,K$67)&\"-\"&INDEX($B$3:$AQ$44,K$67,$E91)","v":"-"},{"$f":"INDEX($B$3:$AQ$44,$E91,L$67)&\"-\"&INDEX($B$3:$AQ$44,L$67,$E91)","v":"-"},{"$f":"INDEX($B$3:$AQ$44,$E91,M$67)&\"-\"&INDEX($B$3:$AQ$44,M$67,$E91)","v":"-"},{"$f":"INDEX($B$3:$AQ$44,$E91,N$67)&\"-\"&INDEX($B$3:$AQ$44,N$67,$E91)","v":"-"},{"$f":"INDEX($B$3:$AQ$44,$E91,O$67)&\"-\"&INDEX($B$3:$AQ$44,O$67,$E91)","v":"0-11"},{"$f":"INDEX($B$3:$AQ$44,$E91,P$67)&\"-\"&INDEX($B$3:$AQ$44,P$67,$E91)","v":"-"},{"$f":"INDEX($B$3:$AQ$44,$E91,Q$67)&\"-\"&INDEX($B$3:$AQ$44,Q$67,$E91)","v":"-"},{"$f":"INDEX($B$3:$AQ$44,$E91,R$67)&\"-\"&INDEX($B$3:$AQ$44,R$67,$E91)","v":"-"},{"$f":"INDEX($B$3:$AQ$44,$E91,S$67)&\"-\"&INDEX($B$3:$AQ$44,S$67,$E91)","v":"-"},{"$f":"INDEX($B$3:$AQ$44,$E91,T$67)&\"-\"&INDEX($B$3:$AQ$44,T$67,$E91)","v":"0-8"},{"$f":"INDEX($B$3:$AQ$44,$E91,U$67)&\"-\"&INDEX($B$3:$AQ$44,U$67,$E91)","v":"-"},{"$f":"INDEX($B$3:$AQ$44,$E91,V$67)&\"-\"&INDEX($B$3:$AQ$44,V$67,$E91)","v":"-"},{"$f":"INDEX($B$3:$AQ$44,$E91,W$67)&\"-\"&INDEX($B$3:$AQ$44,W$67,$E91)","v":"1-4"},{"$f":"INDEX($B$3:$AQ$44,$E91,X$67)&\"-\"&INDEX($B$3:$AQ$44,X$67,$E91)","v":"3-11"},{"$f":"INDEX($B$3:$AQ$44,$E91,Y$67)&\"-\"&INDEX($B$3:$AQ$44,Y$67,$E91)","v":"-"},{"$f":"INDEX($B$3:$AQ$44,$E91,Z$67)&\"-\"&INDEX($B$3:$AQ$44,Z$67,$E91)","v":"-"},{"$f":"INDEX($B$3:$AQ$44,$E91,AA$67)&\"-\"&INDEX($B$3:$AQ$44,AA$67,$E91)","v":"-"},{"$f":"INDEX($B$3:$AQ$44,$E91,AB$67)&\"-\"&INDEX($B$3:$AQ$44,AB$67,$E91)","v":"6-5"},{"$f":"INDEX($B$3:$AQ$44,$E91,AC$67)&\"-\"&INDEX($B$3:$AQ$44,AC$67,$E91)","v":"-"},{"$f":"INDEX($B$3:$AQ$44,$E91,AD$67)&\"-\"&INDEX($B$3:$AQ$44,AD$67,$E91)","v":"-"},{"$f":"INDEX($B$3:$AQ$44,$E91,AE$67)&\"-\"&INDEX($B$3:$AQ$44,AE$67,$E91)","v":"-"},{"$f":"INDEX($B$3:$AQ$44,$E91,AF$67)&\"-\"&INDEX($B$3:$AQ$44,AF$67,$E91)","v":"-"},{"$f":"INDEX($B$3:$AQ$44,$E91,AG$67)&\"-\"&INDEX($B$3:$AQ$44,AG$67,$E91)","v":"-"},{"$f":"INDEX($B$3:$AQ$44,$E91,AH$67)&\"-\"&INDEX($B$3:$AQ$44,AH$67,$E91)","v":"-"},{"$f":"INDEX($B$3:$AQ$44,$E91,AI$67)&\"-\"&INDEX($B$3:$AQ$44,AI$67,$E91)","v":"-"},{"$f":"INDEX($B$3:$AQ$44,$E91,AJ$67)&\"-\"&INDEX($B$3:$AQ$44,AJ$67,$E91)","v":"-"},{"$f":"INDEX($B$3:$AQ$44,$E91,AK$67)&\"-\"&INDEX($B$3:$AQ$44,AK$67,$E91)","v":"-"},{"$f":"INDEX($B$3:$AQ$44,$E91,AL$67)&\"-\"&INDEX($B$3:$AQ$44,AL$67,$E91)","v":"-"},{"$f":"INDEX($B$3:$AQ$44,$E91,AM$67)&\"-\"&INDEX($B$3:$AQ$44,AM$67,$E91)","v":"-"},{"$f":"INDEX($B$3:$AQ$44,$E91,AN$67)&\"-\"&INDEX($B$3:$AQ$44,AN$67,$E91)","v":"-"},{"$f":"INDEX($B$3:$AQ$44,$E91,AO$67)&\"-\"&INDEX($B$3:$AQ$44,AO$67,$E91)","v":"-"},"11-2","-","-","-","-","-","-"]
[24,24,24,29,29,"229",{"$f":"INDEX($B$3:$AQ$44,$E92,G$67)&\"-\"&INDEX($B$3:$AQ$44,G$67,$E92)","v":"-"},{"$f":"INDEX($B$3:$AQ$44,$E92,H$67)&\"-\"&INDEX($B$3:$AQ$44,H$67,$E92)","v":"-"},{"$f":"INDEX($B$3:$AQ$44,$E92,I$67)&\"-\"&INDEX($B$3:$AQ$44,I$67,$E92)","v":"-"},{"$f":"INDEX($B$3:$AQ$44,$E92,J$67)&\"-\"&INDEX($B$3:$AQ$44,J$67,$E92)","v":"-"},{"$f":"INDEX($B$3:$AQ$44,$E92,K$67)&\"-\"&INDEX($B$3:$AQ$44,K$67,$E92)","v":"-"},{"$f":"INDEX($B$3:$AQ$44,$E92,L$67)&\"-\"&INDEX($B$3:$AQ$44,L$67,$E92)","v":"-"},{"$f":"INDEX($B$3:$AQ$44,$E92,M$67)&\"-\"&INDEX($B$3:$AQ$44,M$67,$E92)","v":"-"},{"$f":"INDEX($B$3:$AQ$44,$E92,N$67)&\"-\"&INDEX($B$3:$AQ$44,N$67,$E92)","v":"-"},{"$f":"INDEX($B$3:$AQ$44,$E92,O$67)&\"-\"&INDEX($B$3:$AQ$44,O$67,$E92)","v":"-"},{"$f":"INDEX($B$3:$AQ$44,$E92,P$67)&\"-\"&INDEX($B$3:$AQ$44,P$67,$E92)","v":"-"},{"$f":"INDEX($B$3:$AQ$44,$E92,Q$67)&\"-\"&INDEX($B$3:$AQ$44,Q$67,$E92)","v":"-"},{"$f":"INDEX($B$3:$AQ$44,$E92,R$67)&\"-\"&INDEX($B$3:$AQ$44,R$67,$E92)","v":"-"},{"$f":"INDEX($B$3:$AQ$44,$E92,S$67)&\"-\"&INDEX($B$3:$AQ$44,S$67,$E92)","v":"-"},{"$f":"INDEX($B$3:$AQ$44,$E92,T$67)&\"-\"&INDEX($B$3:$AQ$44,T$67,$E92)","v":"-"},{"$f":"INDEX($B$3:$AQ$44,$E92,U$67)&\"-\"&INDEX($B$3:$AQ$44,U$67,$E92)","v":"-"},{"$f":"INDEX($B$3:$AQ$44,$E92,V$67)&\"-\"&INDEX($B$3:$AQ$44,V$67,$E92)","v":"-"},{"$f":"INDEX($B$3:$AQ$44,$E92,W$67)&\"-\"&INDEX($B$3:$AQ$44,W$67,$E92)","v":"-"},{"$f":"INDEX($B$3:$AQ$44,$E92,X$67)&\"-\"&INDEX($B$3:$AQ$44,X$67,$E92)","v":"-"},{"$f":"INDEX($B$3:$AQ$44,$E92,Y$67)&\"-\"&INDEX($B$3:$AQ$44,Y$67,$E92)","v":"-"},{"$f":"INDEX($B$3:$AQ$44,$E92,Z$67)&\"-\"&INDEX($B$3:$AQ$44,Z$67,$E92)","v":"-"},{"$f":"INDEX($B$3:$AQ$44,$E92,AA$67)&\"-\"&INDEX($B$3:$AQ$44,AA$67,$E92)","v":"-"},{"$f":"INDEX($B$3:$AQ$44,$E92,AB$67)&\"-\"&INDEX($B$3:$AQ$44,AB$67,$E92)","v":"4-5"},{"$f":"INDEX($B$3:$AQ$44,$E92,AC$67)&\"-\"&INDEX($B$3:$AQ$44,AC$67,$E92)","v":"-"},{"$f":"INDEX($B$3:$AQ$44,$E92,AD$67)&\"-\"&INDEX($B$3:$AQ$44,AD$67,$E92)","v":"-"},{"$f":"INDEX($B$3:$AQ$44,$E92,AE$67)&\"-\"&INDEX($B$3:$AQ$44,AE$67,$E92)","v":"3-3"},{"$f":"INDEX($B$3:$AQ$44,$E92,AF$67)&\"-\"&INDEX($B$3:$AQ$44,AF$67,$E92)","v":"4-7"},{"$f":"INDEX($B$3:$AQ$44,$E92,AG$67)&\"-\"&INDEX($B$3:$AQ$44,AG$67,$E92)","v":"10-2"},{"$f":"INDEX($B$3:$AQ$44,$E92,AH$67)&\"-\"&INDEX($B$3:$AQ$44,AH$67,$E92)","v":"5-3"},{"$f":"INDEX($B$3:$AQ$44,$E92,AI$67)&\"-\"&INDEX($B$3:$AQ$44,AI$67,$E92)","v":"-"},{"$f":"INDEX($B$3:$AQ$44,$E92,AJ$67)&\"-\"&INDEX($B$3:$AQ$44,AJ$67,$E92)","v":"5-0"},{"$f":"INDEX($B$3:$AQ$44,$E92,AK$67)&\"-\"&INDEX($B$3:$AQ$44,AK$67,$E92)","v":"-"},{"$f":"INDEX($B$3:$AQ$44,$E92,AL$67)&\"-\"&INDEX($B$3:$AQ$44,AL$67,$E92)","v":"7-2"},{"$f":"INDEX($B$3:$AQ$44,$E92,AM$67)&\"-\"&INDEX($B$3:$AQ$44,AM$67,$E92)","v":"1-1"},{"$f":"INDEX($B$3:$AQ$44,$E92,AN$67)&\"-\"&INDEX($B$3:$AQ$44,AN$67,$E92)","v":"10-1"},{"$f":"INDEX($B$3:$AQ$44,$E92,AO$67)&\"-\"&INDEX($B$3:$AQ$44,AO$67,$E92)","v":"-"},"9-0","-","-","-","-","-","-"]
[25,26,25,23,23,"223",{"$f":"INDEX($B$3:$AQ$44,$E93,G$67)&\"-\"&INDEX($B$3:$AQ$44,G$67,$E93)","v":"-"},{"$f":"INDEX($B$3:$AQ$44,$E93,H$67)&\"-\"&INDEX($B$3:$AQ$44,H$67,$E93)","v":"-"},{"$f":"INDEX($B$3:$AQ$44,$E93,I$67)&\"-\"&INDEX($B$3:$AQ$44,I$67,$E93)","v":"-"},{"$f":"INDEX($B$3:$AQ$44,$E93,J$67)&\"-\"&INDEX($B$3:$AQ$44,J$67,$E93)","v":"-"},{"$f":"INDEX($B$3:$AQ$44,$E93,K$67)&\"-\"&INDEX($B$3:$AQ$44,K$67,$E93)","v":"-"},{"$f":"INDEX($B$3:$AQ$44,$E93,L$67)&\"-\"&INDEX($B$3:$AQ$44,L$67,$E93)","v":"-"},{"$f":"INDEX($B$3:$AQ$44,$E93,M$67)&\"-\"&INDEX($B$3:$AQ$44,M$67,$E93)","v":"-"},{"$f":"INDEX($B$3:$AQ$44,$E93,N$67)&\"-\"&INDEX($B$3:$AQ$44,N$67,$E93)","v":"-"},{"$f":"INDEX($B$3:$AQ$44,$E93,O$67)&\"-\"&INDEX($B$3:$AQ$44,O$67,$E93)","v":"-"},{"$f":"INDEX($B$3:$AQ$44,$E93,P$67)&\"-\"&INDEX($B$3:$AQ$44,P$67,$E93)","v":"-"},{"$f":"INDEX($B$3:$AQ$44,$E93,Q$67)&\"-\"&INDEX($B$3:$AQ$44,Q$67,$E93)","v":"-"},{"$f":"INDEX($B$3:$AQ$44,$E93,R$67)&\"-\"&INDEX($B$3:$AQ$44,R$67,$E93)","v":"-"},{"$f":"INDEX($B$3:$AQ$44,$E93,S$67)&\"-\"&INDEX($B$3:$AQ$44,S$67,$E93)","v":"-"},{"$f":"INDEX($B$3:$AQ$44,$E93,T$67)&\"-\"&INDEX($B$3:$AQ$44,T$67,$E93)","v":"-"},{"$f":"INDEX($B$3:$AQ$44,$E93,U$67)&\"-\"&INDEX($B$3:$AQ$44,U$67,$E93)","v":"-"},{"$f":"INDEX($B$3:$AQ$44,$E93,V$67)&\"-\"&INDEX($B$3:$AQ$44,V$67,$E93)","v":"1-11"},{"$f":"INDEX($B$3:$AQ$44,$E93,W$67)&\"-\"&INDEX($B$3:$AQ$44,W$67,$E93)","v":"-"},{"$f":"INDEX($B$3:$AQ$44,$E93,X$67)&\"-\"&INDEX($B$3:$AQ$44,X$67,$E93)","v":"-"},{"$f":"INDEX($B$3:$AQ$44,$E93,Y$67)&\"-\"&INDEX($B$3:$AQ$44,Y$67,$E93)","v":"0-3"},{"$f":"INDEX($B$3:$AQ$44,$E93,Z$67)&\"-\"&INDEX($B$3:$AQ$44,Z$67,$E93)","v":"0-10"},{"$f":"INDEX($B$3:$AQ$44,$E93,AA$67)&\"-\"&INDEX($B$3:$AQ$44,AA$67,$E93)","v":"0-6"},{"$f":"INDEX($B$3:$AQ$44,$E93,AB$67)&\"-\"&INDEX($B$3:$AQ$44,AB$67,$E93)","v":"-"},{"$f":"INDEX($B$3:$AQ$44,$E93,AC$67)&\"-\"&INDEX($B$3:$AQ$44,AC$67,$E93)","v":"-"},{"$f":"INDEX($B$3:$AQ$44,$E93,AD$67)&\"-\"&INDEX($B$3:$AQ$44,AD$67,$E93)","v":"3-3"},{"$f":"INDEX($B$3:$AQ$44,$E93,AE$67)&\"-\"&INDEX($B$3:$AQ$44,AE$67,$E93)","v":"-"},{"$f":"INDEX($B$3:$AQ$44,$E93,AF$67)&\"-\"&INDEX($B$3:$AQ$44,AF$67,$E93)","v":"4-1"},{"$f":"INDEX($B$3:$AQ$44,$E93,AG$67)&\"-\"&INDEX($B$3:$AQ$44,AG$67,$E93)","v":"-"},{"$f":"INDEX($B$3:$AQ$44,$E93,AH$67)&\"-\"&INDEX($B$3:$AQ$44,AH$67,$E93)","v":"4-4"},{"$f":"INDEX($B$3:$AQ$44,$E93,AI$67)&\"-\"&INDEX($B$3:$AQ$44,AI$67,$E93)","v":"-"},{"$f":"INDEX($B$3:$AQ$44,$E93,AJ$67)&\"-\"&INDEX($B$3:$AQ$44,AJ$67,$E93)","v":"4-1"},{"$f":"INDEX($B$3:$AQ$44,$E93,AK$67)&\"-\"&INDEX($B$3:$AQ$44,AK$67,$E93)","v":"-"},{"$f":"INDEX($B$3:$AQ$44,$E93,AL$67)&\"-\"&INDEX($B$3:$AQ$44,AL$67,$E93)","v":"-"},{"$f":"INDEX($B$3:$AQ$44,$E93,AM$67)&\"-\"&INDEX($B$3:$AQ$44,AM$67,$E93)","v":"-"},{"$f":"INDEX($B$3:$AQ$44,$E93,AN$67)&\"-\"&INDEX($B$3:$AQ$44,AN$67,$E93)","v":"-"},{"$f":"INDEX($B$3:$AQ$44,$E93,AO$67)&\"-\"&INDEX($B$3:$AQ$44,AO$67,$E93)","v":"-"},"-","-","-","-","-","-","-"]
[26,28,26,28,28,"228",{"$f":"INDEX($B$3:$AQ$44,$E94,G$67)&\"-\"&INDEX($B$3:$AQ$44,G$67,$E94)","v":"-"},{"$f":"INDEX($B$3:$AQ$44,$E94,H$67)&\"-\"&INDEX($B$3:$AQ$44,H$67,$E94)","v":"-"},{"$f":"INDEX($B$3:$AQ$44,$E94,I$67)&\"-\"&INDEX($B$3:$AQ$44,I$67,$E94)","v":"-"},{"$f":"INDEX($B$3:$AQ$44,$E94,J$67)&\"-\"&INDEX($B$3:$AQ$44,J$67,$E94)","v":"-"},{"$f":"INDEX($B$3:$AQ$44,$E94,K$67)&\"-\"&INDEX($B$3:$AQ$44,K$67,$E94)","v":"-"},{"$f":"INDEX($B$3:$AQ$44,$E94,L$67)&\"-\"&INDEX($B$3:$AQ$44,L$67,$E94)","v":"-"},{"$f":"INDEX($B$3:$AQ$44,$E94,M$67)&\"-\"&INDEX($B$3:$AQ$44,M$67,$E94)","v":"-"},{"$f":"INDEX($B$3:$AQ$44,$E94,N$67)&\"-\"&INDEX($B$3:$AQ$44,N$67,$E94)","v":"-"},{"$f":"INDEX($B$3:$AQ$44,$E94,O$67)&\"-\"&INDEX($B$3:$AQ$44,O$67,$E94)","v":"-"},{"$f":"INDEX($B$3:$AQ$44,$E94,P$67)&\"-\"&INDEX($B$3:$AQ$44,P$67,$E94)","v":"-"},{"$f":"INDEX($B$3:$AQ$44,$E94,Q$67)&\"-\"&INDEX($B$3:$AQ$44,Q$67,$E94)","v":"-"},{"$f":"INDEX($B$3:$AQ$44,$E94,R$67)&\"-\"&INDEX($B$3:$AQ$44,R$67,$E94)","v":"-"},{"$f":"INDEX($B$3:$AQ$44,$E94,S$67)&\"-\"&INDEX($B$3:$AQ$44,S$67,$E94)","v":"-"},{"$f":"INDEX($B$3:$AQ$44,$E94,T$67)&\"-\"&INDEX($B$3:$AQ$44,T$67,$E94)","v":"-"},{"$f":"INDEX($B$3:$AQ$44,$E94,U$67)&\"-\"&INDEX($B$3:$AQ$44,U$67,$E94)","v":"-"},{"$f":"INDEX($B$3:$AQ$44,$E94,V$67)&\"-\"&INDEX($B$3:$AQ$44,V$67,$E94)","v":"-"},{"$f":"INDEX($B$3:$AQ$44,$E94,W$67)&\"-\"&INDEX($B$3:$AQ$44,W$67,$E94)","v":"-"},{"$f":"INDEX($B$3:$AQ$44,$E94,X$67)&\"-\"&INDEX($B$3:$AQ$44,X$67,$E94)","v":"-"},{"$f":"INDEX($B$3:$AQ$44,$E94,Y$67)&\"-\"&INDEX($B$3:$AQ$44,Y$67,$E94)","v":"-"},{"$f":"INDEX($B$3:$AQ$44,$E94,Z$67)&\"-\"&INDEX($B$3:$AQ$44,Z$67,$E94)","v":"-"},{"$f":"INDEX($B$3:$AQ$44,$E94,AA$67)&\"-\"&INDEX($B$3:$AQ$44,AA$67,$E94)","v":"-"},{"$f":"INDEX($B$3:$AQ$44,$E94,AB$67)&\"-\"&INDEX($B$3:$AQ$44,AB$67,$E94)","v":"-"},{"$f":"INDEX($B$3:$AQ$44,$E94,AC$67)&\"-\"&INDEX($B$3:$AQ$44,AC$67,$E94)","v":"-"},{"$f":"INDEX($B$3:$AQ$44,$E94,AD$67)&\"-\"&INDEX($B$3:$AQ$44,AD$67,$E94)","v":"7-4"},{"$f":"INDEX($B$3:$AQ$44,$E94,AE$67)&\"-\"&INDEX($B$3:$AQ$44,AE$67,$E94)","v":"1-4"},{"$f":"INDEX($B$3:$AQ$44,$E94,AF$67)&\"-\"&INDEX($B$3:$AQ$44,AF$67,$E94)","v":"-"},{"$f":"INDEX($B$3:$AQ$44,$E94,AG$67)&\"-\"&INDEX($B$3:$AQ$44,AG$67,$E94)","v":"2-4"},{"$f":"INDEX($B$3:$AQ$44,$E94,AH$67)&\"-\"&INDEX($B$3:$AQ$44,AH$67,$E94)","v":"4-0"},{"$f":"INDEX($B$3:$AQ$44,$E94,AI$67)&\"-\"&INDEX($B$3:$AQ$44,AI$67,$E94)","v":"5-5"},{"$f":"INDEX($B$3:$AQ$44,$E94,AJ$67)&\"-\"&INDEX($B$3:$AQ$44,AJ$67,$E94)","v":"3-3"},{"$f":"INDEX($B$3:$AQ$44,$E94,AK$67)&\"-\"&INDEX($B$3:$AQ$44,AK$67,$E94)","v":"-"},{"$f":"INDEX($B$3:$AQ$44,$E94,AL$67)&\"-\"&INDEX($B$3:$AQ$44,AL$67,$E94)","v":"5-4"},{"$f":"INDEX($B$3:$AQ$44,$E94,AM$67)&\"-\"&INDEX($B$3:$AQ$44,AM$67,$E94)","v":"-"},{"$f":"INDEX($B$3:$AQ$44,$E94,AN$67)&\"-\"&INDEX($B$3:$AQ$44,AN$67,$E94)","v":"5-2"},{"$f":"INDEX($B$3:$AQ$44,$E94,AO$67)&\"-\"&INDEX($B$3:$AQ$44,AO$67,$E94)","v":"-"},"10-0","-","-","-","-","-","-"]
[27,25,29,31,31,"231",{"$f":"INDEX($B$3:$AQ$44,$E95,G$67)&\"-\"&INDEX($B$3:$AQ$44,G$67,$E95)","v":"-"},{"$f":"INDEX($B$3:$AQ$44,$E95,H$67)&\"-\"&INDEX($B$3:$AQ$44,H$67,$E95)","v":"-"},{"$f":"INDEX($B$3:$AQ$44,$E95,I$67)&\"-\"&INDEX($B$3:$AQ$44,I$67,$E95)","v":"-"},{"$f":"INDEX($B$3:$AQ$44,$E95,J$67)&\"-\"&INDEX($B$3:$AQ$44,J$67,$E95)","v":"-"},{"$f":"INDEX($B$3:$AQ$44,$E95,K$67)&\"-\"&INDEX($B$3:$AQ$44,K$67,$E95)","v":"-"},{"$f":"INDEX($B$3:$AQ$44,$E95,L$67)&\"-\"&INDEX($B$3:$AQ$44,L$67,$E95)","v":"-"},{"$f":"INDEX($B$3:$AQ$44,$E95,M$67)&\"-\"&INDEX($B$3:$AQ$44,M$67,$E95)","v":"-"},{"$f":"INDEX($B$3:$AQ$44,$E95,N$67)&\"-\"&INDEX($B$3:$AQ$44,N$67,$E95)","v":"-"},{"$f":"INDEX($B$3:$AQ$44,$E95,O$67)&\"-\"&INDEX($B$3:$AQ$44,O$67,$E95)","v":"-"},{"$f":"INDEX($B$3:$AQ$44,$E95,P$67)&\"-\"&INDEX($B$3:$AQ$44,P$67,$E95)","v":"-"},{"$f":"INDEX($B$3:$AQ$44,$E95,Q$67)&\"-\"&INDEX($B$3:$AQ$44,Q$67,$E95)","v":"-"},{"$f":"INDEX($B$3:$AQ$44,$E95,R$67)&\"-\"&INDEX($B$3:$AQ$44,R$67,$E95)","v":"-"},{"$f":"INDEX($B$3:$AQ$44,$E95,S$67)&\"-\"&INDEX($B$3:$AQ$44,S$67,$E95)","v":"-"},{"$f":"INDEX($B$3:$AQ$44,$E95,T$67)&\"-\"&INDEX($B$3:$AQ$44,T$67,$E95)","v":"-"},{"$f":"INDEX($B$3:$AQ$44,$E95,U$67)&\"-\"&INDEX($B$3:$AQ$44,U$67,$E95)","v":"-"},{"$f":"INDEX($B$3:$AQ$44,$E95,V$67)&\"-\"&INDEX($B$3:$AQ$44,V$67,$E95)","v":"0-12"},{"$f":"INDEX($B$3:$AQ$44,$E95,W$67)&\"-\"&INDEX($B$3:$AQ$44,W$67,$E95)","v":"-"},{"$f":"INDEX($B$3:$AQ$44,$E95,X$67)&\"-\"&INDEX($B$3:$AQ$44,X$67,$E95)","v":"-"},{"$f":"INDEX($B$3:$AQ$44,$E95,Y$67)&\"-\"&INDEX($B$3:$AQ$44,Y$67,$E95)","v":"-"},{"$f":"INDEX($B$3:$AQ$44,$E95,Z$67)&\"-\"&INDEX($B$3:$AQ$44,Z$67,$E95)","v":"-"},{"$f":"INDEX($B$3:$AQ$44,$E95,AA$67)&\"-\"&INDEX($B$3:$AQ$44,AA$67,$E95)","v":"-"},{"$f":"INDEX($B$3:$AQ$44,$E95,AB$67)&\"-\"&INDEX($B$3:$AQ$44,AB$67,$E95)","v":"-"},{"$f":"INDEX($B$3:$AQ$44,$E95,AC$67)&\"-\"&INDEX($B$3:$AQ$44,AC$67,$E95)","v":"-"},{"$f":"INDEX($B$3:$AQ$44,$E95,AD$67)&\"-\"&INDEX($B$3:$AQ$44,AD$67,$E95)","v":"2-10"},{"$f":"INDEX($B$3:$AQ$44,$E95,AE$67)&\"-\"&INDEX($B$3:$AQ$44,AE$67,$E95)","v":"-"},{"$f":"INDEX($B$3:$AQ$44,$E95,AF$67)&\"-\"&INDEX($B$3:$AQ$44,AF$67,$E95)","v":"4-2"},{"$f":"INDEX($B$3:$AQ$44,$E95,AG$67)&\"-\"&INDEX($B$3:$AQ$44,AG$67,$E95)","v":"-"},{"$f":"INDEX($B$3:$AQ$44,$E95,AH$67)&\"-\"&INDEX($B$3:$AQ$44,AH$67,$E95)","v":"3-4"},{"$f":"INDEX($B$3:$AQ$44,$E95,AI$67)&\"-\"&INDEX($B$3:$AQ$44,AI$67,$E95)","v":"3-1"},{"$f":"INDEX($B$3:$AQ$44,$E95,AJ$67)&\"-\"&INDEX($B$3:$AQ$44,AJ$67,$E95)","v":"-"},{"$f":"INDEX($B$3:$AQ$44,$E95,AK$67)&\"-\"&INDEX($B$3:$AQ$44,AK$67,$E95)","v":"10-2"},{"$f":"INDEX($B$3:$AQ$44,$E95,AL$67)&\"-\"&INDEX($B$3:$AQ$44,AL$67,$E95)","v":"-"},{"$f":"INDEX($B$3:$AQ$44,$E95,AM$67)&\"-\"&INDEX($B$3:$AQ$44,AM$67,$E95)","v":"4-1"},{"$f":"INDEX($B$3:$AQ$44,$E95,AN$67)&\"-\"&INDEX($B$3:$AQ$44,AN$67,$E95)","v":"13-1"},{"$f":"INDEX($B$3:$AQ$44,$E95,AO$67)&\"-\"&INDEX($B$3:$AQ$44,AO$67,$E95)","v":"-"},"18-4","-","-","9-1","-","-","-"]
[28,29,27,25,25,"225",{"$f":"INDEX($B$3:$AQ$44,$E96,G$67)&\"-\"&INDEX($B$3:$AQ$44,G$67,$E96)","v":"-"},{"$f":"INDEX($B$3:$AQ$44,$E96,H$67)&\"-\"&INDEX($B$3:$AQ$44,H$67,$E96)","v":"-"},{"$f":"INDEX($B$3:$AQ$44,$E96,I$67)&\"-\"&INDEX($B$3:$AQ$44,I$67,$E96)","v":"-"},{"$f":"INDEX($B$3:$AQ$44,$E96,J$67)&\"-\"&INDEX($B$3:$AQ$44,J$67,$E96)","v":"-"},{"$f":"INDEX($B$3:$AQ$44,$E96,K$67)&\"-\"&INDEX($B$3:$AQ$44,K$67,$E96)","v":"-"},{"$f":"INDEX($B$3:$AQ$44,$E96,L$67)&\"-\"&INDEX($B$3:$AQ$44,L$67,$E96)","v":"-"},{"$f":"INDEX($B$3:$AQ$44,$E96,M$67)&\"-\"&INDEX($B$3:$AQ$44,M$67,$E96)","v":"-"},{"$f":"INDEX($B$3:$AQ$44,$E96,N$67)&\"-\"&INDEX($B$3:$AQ$44,N$67,$E96)","v":"-"},{"$f":"INDEX($B$3:$AQ$44,$E96,O$67)&\"-\"&INDEX($B$3:$AQ$44,O$67,$E96)","v":"-"},{"$f":"INDEX($B$3:$AQ$44,$E96,P$67)&\"-\"&INDEX($B$3:$AQ$44,P$67,$E96)","v":"-"},{"$f":"INDEX($B$3:$AQ$44,$E96,Q$67)&\"-\"&INDEX($B$3:$AQ$44,Q$67,$E96)","v":"-"},{"$f":"INDEX($B$3:$AQ$44,$E96,R$67)&\"-\"&INDEX($B$3:$AQ$44,R$67,$E96)","v":"-"},{"$f":"INDEX($B$3:$AQ$44,$E96,S$67)&\"-\"&INDEX($B$3:$AQ$44,S$67,$E96)","v":"-"},{"$f":"INDEX($B$3:$AQ$44,$E96,T$67)&\"-\"&INDEX($B$3:$AQ$44,T$67,$E96)","v":"-"},{"$f":"INDEX($B$3:$AQ$44,$E96,U$67)&\"-\"&INDEX($B$3:$AQ$44,U$67,$E96)","v":"-"},{"$f":"INDEX($B$3:$AQ$44,$E96,V$67)&\"-\"&INDEX($B$3:$AQ$44,V$67,$E96)","v":"-"},{"$f":"INDEX($B$3:$AQ$44,$E96,W$67)&\"-\"&INDEX($B$3:$AQ$44,W$67,$E96)","v":"-"},{"$f":"INDEX($B$3:$AQ$44,$E96,X$67)&\"-\"&INDEX($B$3:$AQ$44,X$67,$E96)","v":"-"},{"$f":"INDEX($B$3:$AQ$44,$E96,Y$67)&\"-\"&INDEX($B$3:$AQ$44,Y$67,$E96)","v":"-"},{"$f":"INDEX($B$3:$AQ$44,$E96,Z$67)&\"-\"&INDEX($B$3:$AQ$44,Z$67,$E96)","v":"-"},{"$f":"INDEX($B$3:$AQ$44,$E96,AA$67)&\"-\"&INDEX($B$3:$AQ$44,AA$67,$E96)","v":"0-8"},{"$f":"INDEX($B$3:$AQ$44,$E96,AB$67)&\"-\"&INDEX($B$3:$AQ$44,AB$67,$E96)","v":"-"},{"$f":"INDEX($B$3:$AQ$44,$E96,AC$67)&\"-\"&INDEX($B$3:$AQ$44,AC$67,$E96)","v":"-"},{"$f":"INDEX($B$3:$AQ$44,$E96,AD$67)&\"-\"&INDEX($B$3:$AQ$44,AD$67,$E96)","v":"3-5"},{"$f":"INDEX($B$3:$AQ$44,$E96,AE$67)&\"-\"&INDEX($B$3:$AQ$44,AE$67,$E96)","v":"4-4"},{"$f":"INDEX($B$3:$AQ$44,$E96,AF$67)&\"-\"&INDEX($B$3:$AQ$44,AF$67,$E96)","v":"0-4"},{"$f":"INDEX($B$3:$AQ$44,$E96,AG$67)&\"-\"&INDEX($B$3:$AQ$44,AG$67,$E96)","v":"4-3"},{"$f":"INDEX($B$3:$AQ$44,$E96,AH$67)&\"-\"&INDEX($B$3:$AQ$44,AH$67,$E96)","v":"-"},{"$f":"INDEX($B$3:$AQ$44,$E96,AI$67)&\"-\"&INDEX($B$3:$AQ$44,AI$67,$E96)","v":"1-1"},{"$f":"INDEX($B$3:$AQ$44,$E96,AJ$67)&\"-\"&INDEX($B$3:$AQ$44,AJ$67,$E96)","v":"3-0"},{"$f":"INDEX($B$3:$AQ$44,$E96,AK$67)&\"-\"&INDEX($B$3:$AQ$44,AK$67,$E96)","v":"-"},{"$f":"INDEX($B$3:$AQ$44,$E96,AL$67)&\"-\"&INDEX($B$3:$AQ$44,AL$67,$E96)","v":"7-4"},{"$f":"INDEX($B$3:$AQ$44,$E96,AM$67)&\"-\"&INDEX($B$3:$AQ$44,AM$67,$E96)","v":"-"},{"$f":"INDEX($B$3:$AQ$44,$E96,AN$67)&\"-\"&INDEX($B$3:$AQ$44,AN$67,$E96)","v":"-"},{"$f":"INDEX($B$3:$AQ$44,$E96,AO$67)&\"-\"&INDEX($B$3:$AQ$44,AO$67,$E96)","v":"-"},"-","-","-","-","-","-","-"]
[29,27,31,34,34,"234",{"$f":"INDEX($B$3:$AQ$44,$E97,G$67)&\"-\"&INDEX($B$3:$AQ$44,G$67,$E97)","v":"-"},{"$f":"INDEX($B$3:$AQ$44,$E97,H$67)&\"-\"&INDEX($B$3:$AQ$44,H$67,$E97)","v":"-"},{"$f":"INDEX($B$3:$AQ$44,$E97,I$67)&\"-\"&INDEX($B$3:$AQ$44,I$67,$E97)","v":"-"},{"$f":"INDEX($B$3:$AQ$44,$E97,J$67)&\"-\"&INDEX($B$3:$AQ$44,J$67,$E97)","v":"-"},{"$f":"INDEX($B$3:$AQ$44,$E97,K$67)&\"-\"&INDEX($B$3:$AQ$44,K$67,$E97)","v":"-"},{"$f":"INDEX($B$3:$AQ$44,$E97,L$67)&\"-\"&INDEX($B$3:$AQ$44,L$67,$E97)","v":"-"},{"$f":"INDEX($B$3:$AQ$44,$E97,M$67)&\"-\"&INDEX($B$3:$AQ$44,M$67,$E97)","v":"-"},{"$f":"INDEX($B$3:$AQ$44,$E97,N$67)&\"-\"&INDEX($B$3:$AQ$44,N$67,$E97)","v":"-"},{"$f":"INDEX($B$3:$AQ$44,$E97,O$67)&\"-\"&INDEX($B$3:$AQ$44,O$67,$E97)","v":"-"},{"$f":"INDEX($B$3:$AQ$44,$E97,P$67)&\"-\"&INDEX($B$3:$AQ$44,P$67,$E97)","v":"-"},{"$f":"INDEX($B$3:$AQ$44,$E97,Q$67)&\"-\"&INDEX($B$3:$AQ$44,Q$67,$E97)","v":"-"},{"$f":"INDEX($B$3:$AQ$44,$E97,R$67)&\"-\"&INDEX($B$3:$AQ$44,R$67,$E97)","v":"-"},{"$f":"INDEX($B$3:$AQ$44,$E97,S$67)&\"-\"&INDEX($B$3:$AQ$44,S$67,$E97)","v":"-"},{"$f":"INDEX($B$3:$AQ$44,$E97,T$67)&\"-\"&INDEX($B$3:$AQ$44,T$67,$E97)","v":"-"},{"$f":"INDEX($B$3:$AQ$44,$E97,U$67)&\"-\"&INDEX($B$3:$AQ$44,U$67,$E97)","v":"-"},{"$f":"INDEX($B$3:$AQ$44,$E97,V$67)&\"-\"&INDEX($B$3:$AQ$44,V$67,$E97)","v":"-"},{"$f":"INDEX($B$3:$AQ$44,$E97,W$67)&\"-\"&INDEX($B$3:$AQ$44,W$67,$E97)","v":"-"},{"$f":"INDEX($B$3:$AQ$44,$E97,X$67)&\"-\"&INDEX($B$3:$AQ$44,X$67,$E97)","v":"-"},{"$f":"INDEX($B$3:$AQ$44,$E97,Y$67)&\"-\"&INDEX($B$3:$AQ$44,Y$67,$E97)","v":"-"},{"$f":"INDEX($B$3:$AQ$44,$E97,Z$67)&\"-\"&INDEX($B$3:$AQ$44,Z$67,$E97)","v":"-"},{"$f":"INDEX($B$3:$AQ$44,$E97,AA$67)&\"-\"&INDEX($B$3:$AQ$44,AA$67,$E97)","v":"-"},{"$f":"INDEX($B$3:$AQ$44,$E97,AB$67)&\"-\"&INDEX($B$3:$AQ$44,AB$67,$E97)","v":"-"},{"$f":"INDEX($B$3:$AQ$44,$E97,AC$67)&\"-\"&INDEX($B$3:$AQ$44,AC$67,$E97)","v":"-"},{"$f":"INDEX($B$3:$AQ$44,$E97,AD$67)&\"-\"&INDEX($B$3:$AQ$44,AD$67,$E97)","v":"-"},{"$f":"INDEX($B$3:$AQ$44,$E97,AE$67)&\"-\"&INDEX($B$3:$AQ$44,AE$67,$E97)","v":"-"},{"$f":"INDEX($B$3:$AQ$44,$E97,AF$67)&\"-\"&INDEX($B$3:$AQ$44,AF$67,$E97)","v":"5-5"},{"$f":"INDEX($B$3:$AQ$44,$E97,AG$67)&\"-\"&INDEX($B$3:$AQ$44,AG$67,$E97)","v":"1-3"},{"$f":"INDEX($B$3:$AQ$44,$E97,AH$67)&\"-\"&INDEX($B$3:$AQ$44,AH$67,$E97)","v":"1-1"},{"$f":"INDEX($B$3:$AQ$44,$E97,AI$67)&\"-\"&INDEX($B$3:$AQ$44,AI$67,$E97)","v":"-"},{"$f":"INDEX($B$3:$AQ$44,$E97,AJ$67)&\"-\"&INDEX($B$3:$AQ$44,AJ$67,$E97)","v":"-"},{"$f":"INDEX($B$3:$AQ$44,$E97,AK$67)&\"-\"&INDEX($B$3:$AQ$44,AK$67,$E97)","v":"2-5"},{"$f":"INDEX($B$3:$AQ$44,$E97,AL$67)&\"-\"&INDEX($B$3:$AQ$44,AL$67,$E97)","v":"-"},{"$f":"INDEX($B$3:$AQ$44,$E97,AM$67)&\"-\"&INDEX($B$3:$AQ$44,AM$67,$E97)","v":"4-0"},{"$f":"INDEX($B$3:$AQ$44,$E97,AN$67)&\"-\"&INDEX($B$3:$AQ$44,AN$67,$E97)","v":"9-1"},{"$f":"INDEX($B$3:$AQ$44,$E97,AO$67)&\"-\"&INDEX($B$3:$AQ$44,AO$67,$E97)","v":"8-0"},"-","-","-","9-0","-","10-0","-"]
[30,31,28,26,26,"226",{"$f":"INDEX($B$3:$AQ$44,$E98,G$67)&\"-\"&INDEX($B$3:$AQ$44,G$67,$E98)","v":"-"},{"$f":"INDEX($B$3:$AQ$44,$E98,H$67)&\"-\"&INDEX($B$3:$AQ$44,H$67,$E98)","v":"-"},{"$f":"INDEX($B$3:$AQ$44,$E98,I$67)&\"-\"&INDEX($B$3:$AQ$44,I$67,$E98)","v":"-"},{"$f":"INDEX($B$3:$AQ$44,$E98,J$67)&\"-\"&INDEX($B$3:$AQ$44,J$67,$E98)","v":"-"},{"$f":"INDEX($B$3:$AQ$44,$E98,K$67)&\"-\"&INDEX($B$3:$AQ$44,K$67,$E98)","v":"-"},{"$f":"INDEX($B$3:$AQ$44,$E98,L$67)&\"-\"&INDEX($B$3:$AQ$44,L$67,$E98)","v":"-"},{"$f":"INDEX($B$3:$AQ$44,$E98,M$67)&\"-\"&INDEX($B$3:$AQ$44,M$67,$E98)","v":"-"},{"$f":"INDEX($B$3:$AQ$44,$E98,N$67)&\"-\"&INDEX($B$3:$AQ$44,N$67,$E98)","v":"-"},{"$f":"INDEX($B$3:$AQ$44,$E98,O$67)&\"-\"&INDEX($B$3:$AQ$44,O$67,$E98)","v":"-"},{"$f":"INDEX($B$3:$AQ$44,$E98,P$67)&\"-\"&INDEX($B$3:$AQ$44,P$67,$E98)","v":"-"},{"$f":"INDEX($B$3:$AQ$44,$E98,Q$67)&\"-\"&INDEX($B$3:$AQ$44,Q$67,$E98)","v":"-"},{"$f":"INDEX($B$3:$AQ$44,$E98,R$67)&\"-\"&INDEX($B$3:$AQ$44,R$67,$E98)","v":"-"},{"$f":"INDEX($B$3:$AQ$44,$E98,S$67)&\"-\"&INDEX($B$3:$AQ$44,S$67,$E98)","v":"-"},{"$f":"INDEX($B$3:$AQ$44,$E98,T$67)&\"-\"&INDEX($B$3:$AQ$44,T$67,$E98)","v":"-"},{"$f":"INDEX($B$3:$AQ$44,$E98,U$67)&\"-\"&INDEX($B$3:$AQ$44,U$67,$E98)","v":"-"},{"$f":"INDEX($B$3:$AQ$44,$E98,V$67)&\"-\"&INDEX($B$3:$AQ$44,V$67,$E98)","v":"-"},{"$f":"INDEX($B$3:$AQ$44,$E98,W$67)&\"-\"&INDEX($B$3:$AQ$44,W$67,$E98)","v":"-"},{"$f":"INDEX($B$3:$AQ$44,$E98,X$67)&\"-\"&INDEX($B$3:$AQ$44,X$67,$E98)","v":"-"},{"$f":"INDEX($B$3:$AQ$44,$E98,Y$67)&\"-\"&INDEX($B$3:$AQ$44,Y$67,$E98)","v":"1-9"},{"$f":"INDEX($B$3:$AQ$44,$E98,Z$67)&\"-\"&INDEX($B$3:$AQ$44,Z$67,$E98)","v":"-"},{"$f":"INDEX($B$3:$AQ$44,$E98,AA$67)&\"-\"&INDEX($B$3:$AQ$44,AA$67,$E98)","v":"1-4"},{"$f":"INDEX($B$3:$AQ$44,$E98,AB$67)&\"-\"&INDEX($B$3:$AQ$44,AB$67,$E98)","v":"-"},{"$f":"INDEX($B$3:$AQ$44,$E98,AC$67)&\"-\"&INDEX($B$3:$AQ$44,AC$67,$E98)","v":"-"},{"$f":"INDEX($B$3:$AQ$44,$E98,AD$67)&\"-\"&INDEX($B$3:$AQ$44,AD$67,$E98)","v":"0-5"},{"$f":"INDEX($B$3:$AQ$44,$E98,AE$67)&\"-\"&INDEX($B$3:$AQ$44,AE$67,$E98)","v":"1-4"},{"$f":"INDEX($B$3:$AQ$44,$E98,AF$67)&\"-\"&INDEX($B$3:$AQ$44,AF$67,$E98)","v":"3-3"},{"$f":"INDEX($B$3:$AQ$44,$E98,AG$67)&\"-\"&INDEX($B$3:$AQ$44,AG$67,$E98)","v":"-"},{"$f":"INDEX($B$3:$AQ$44,$E98,AH$67)&\"-\"&INDEX($B$3:$AQ$44,AH$67,$E98)","v":"0-3"},{"$f":"INDEX($B$3:$AQ$44,$E98,AI$67)&\"-\"&INDEX($B$3:$AQ$44,AI$67,$E98)","v":"-"},{"$f":"INDEX($B$3:$AQ$44,$E98,AJ$67)&\"-\"&INDEX($B$3:$AQ$44,AJ$67,$E98)","v":"-"},{"$f":"INDEX($B$3:$AQ$44,$E98,AK$67)&\"-\"&INDEX($B$3:$AQ$44,AK$67,$E98)","v":"-"},{"$f":"INDEX($B$3:$AQ$44,$E98,AL$67)&\"-\"&INDEX($B$3:$AQ$44,AL$67,$E98)","v":"6-2"},{"$f":"INDEX($B$3:$AQ$44,$E98,AM$67)&\"-\"&INDEX($B$3:$AQ$44,AM$67,$E98)","v":"-"},{"$f":"INDEX($B$3:$AQ$44,$E98,AN$67)&\"-\"&INDEX($B$3:$AQ$44,AN$67,$E98)","v":"-"},{"$f":"INDEX($B$3:$AQ$44,$E98,AO$67)&\"-\"&INDEX($B$3:$AQ$44,AO$67,$E98)","v":"-"},"-","-","-","-","-","-","-"]
[31,30,32,36,36,"236",{"$f":"INDEX($B$3:$AQ$44,$E99,G$67)&\"-\"&INDEX($B$3:$AQ$44,G$67,$E99)","v":"-"},{"$f":"INDEX($B$3:$AQ$44,$E99,H$67)&\"-\"&INDEX($B$3:$AQ$44,H$67,$E99)","v":"-"},{"$f":"INDEX($B$3:$AQ$44,$E99,I$67)&\"-\"&INDEX($B$3:$AQ$44,I$67,$E99)","v":"-"},{"$f":"INDEX($B$3:$AQ$44,$E99,J$67)&\"-\"&INDEX($B$3:$AQ$44,J$67,$E99)","v":"-"},{"$f":"INDEX($B$3:$AQ$44,$E99,K$67)&\"-\"&INDEX($B$3:$AQ$44,K$67,$E99)","v":"-"},{"$f":"INDEX($B$3:$AQ$44,$E99,L$67)&\"-\"&INDEX($B$3:$AQ$44,L$67,$E99)","v":"-"},{"$f":"INDEX($B$3:$AQ$44,$E99,M$67)&\"-\"&INDEX($B$3:$AQ$44,M$67,$E99)","v":"-"},{"$f":"INDEX($B$3:$AQ$44,$E99,N$67)&\"-\"&INDEX($B$3:$AQ$44,N$67,$E99)","v":"-"},{"$f":"INDEX($B$3:$AQ$44,$E99,O$67)&\"-\"&INDEX($B$3:$AQ$44,O$67,$E99)","v":"-"},{"$f":"INDEX($B$3:$AQ$44,$E99,P$67)&\"-\"&INDEX($B$3:$AQ$44,P$67,$E99)","v":"-"},{"$f":"INDEX($B$3:$AQ$44,$E99,Q$67)&\"-\"&INDEX($B$3:$AQ$44,Q$67,$E99)","v":"-"},{"$f":"INDEX($B$3:$AQ$44,$E99,R$67)&\"-\"&INDEX($B$3:$AQ$44,R$67,$E99)","v":"-"},{"$f":"INDEX($B$3:$AQ$44,$E99,S$67)&\"-\"&INDEX($B$3:$AQ$44,S$67,$E99)","v":"-"},{"$f":"INDEX($B$3:$AQ$44,$E99,T$67)&\"-\"&INDEX($B$3:$AQ$44,T$67,$E99)","v":"-"},{"$f":"INDEX($B$3:$AQ$44,$E99,U$67)&\"-\"&INDEX($B$3:$AQ$44,U$67,$E99)","v":"-"},{"$f":"INDEX($B$3:$AQ$44,$E99,V$67)&\"-\"&INDEX($B$3:$AQ$44,V$67,$E99)","v":"-"},{"$f":"INDEX($B$3:$AQ$44,$E99,W$67)&\"-\"&INDEX($B$3:$AQ$44,W$67,$E99)","v":"-"},{"$f":"INDEX($B$3:$AQ$44,$E99,X$67)&\"-\"&INDEX($B$3:$AQ$44,X$67,$E99)","v":"-"},{"$f":"INDEX($B$3:$AQ$44,$E99,Y$67)&\"-\"&INDEX($B$3:$AQ$44,Y$67,$E99)","v":"-"},{"$f":"INDEX($B$3:$AQ$44,$E99,Z$67)&\"-\"&INDEX($B$3:$AQ$44,Z$67,$E99)","v":"-"},{"$f":"INDEX($B$3:$AQ$44,$E99,AA$67)&\"-\"&INDEX($B$3:$AQ$44,AA$67,$E99)","v":"-"},{"$f":"INDEX($B$3:$AQ$44,$E99,AB$67)&\"-\"&INDEX($B$3:$AQ$44,AB$67,$E99)","v":"-"},{"$f":"INDEX($B$3:$AQ$44,$E99,AC$67)&\"-\"&INDEX($B$3:$AQ$44,AC$67,$E99)","v":"-"},{"$f":"INDEX($B$3:$AQ$44,$E99,AD$67)&\"-\"&INDEX($B$3:$AQ$44,AD$67,$E99)","v":"-"},{"$f":"INDEX($B$3:$AQ$44,$E99,AE$67)&\"-\"&INDEX($B$3:$AQ$44,AE$67,$E99)","v":"-"},{"$f":"INDEX($B$3:$AQ$44,$E99,AF$67)&\"-\"&INDEX($B$3:$AQ$44,AF$67,$E99)","v":"-"},{"$f":"INDEX($B$3:$AQ$44,$E99,AG$67)&\"-\"&INDEX($B$3:$AQ$44,AG$67,$E99)","v":"2-10"},{"$f":"INDEX($B$3:$AQ$44,$E99,AH$67)&\"-\"&INDEX($B$3:$AQ$44,AH$67,$E99)","v":"-"},{"$f":"INDEX($B$3:$AQ$44,$E99,AI$67)&\"-\"&INDEX($B$3:$AQ$44,AI$67,$E99)","v":"5-2"},{"$f":"INDEX($B$3:$AQ$44,$E99,AJ$67)&\"-\"&INDEX($B$3:$AQ$44,AJ$67,$E99)","v":"-"},{"$f":"INDEX($B$3:$AQ$44,$E99,AK$67)&\"-\"&INDEX($B$3:$AQ$44,AK$67,$E99)","v":"-"},{"$f":"INDEX($B$3:$AQ$44,$E99,AL$67)&\"-\"&INDEX($B$3:$AQ$44,AL$67,$E99)","v":"-"},{"$f":"INDEX($B$3:$AQ$44,$E99,AM$67)&\"-\"&INDEX($B$3:$AQ$44,AM$67,$E99)","v":"4-3"},{"$f":"INDEX($B$3:$AQ$44,$E99,AN$67)&\"-\"&INDEX($B$3:$AQ$44,AN$67,$E99)","v":"-"},{"$f":"INDEX($B$3:$AQ$44,$E99,AO$67)&\"-\"&INDEX($B$3:$AQ$44,AO$67,$E99)","v":"-"},"7-0","7-0","8-2","9-0","14-1","10-0","-"]
[32,32,30,27,27,"227",{"$f":"INDEX($B$3:$AQ$44,$E100,G$67)&\"-\"&INDEX($B$3:$AQ$44,G$67,$E100)","v":"-"},{"$f":"INDEX($B$3:$AQ$44,$E100,H$67)&\"-\"&INDEX($B$3:$AQ$44,H$67,$E100)","v":"-"},{"$f":"INDEX($B$3:$AQ$44,$E100,I$67)&\"-\"&INDEX($B$3:$AQ$44,I$67,$E100)","v":"-"},{"$f":"INDEX($B$3:$AQ$44,$E100,J$67)&\"-\"&INDEX($B$3:$AQ$44,J$67,$E100)","v":"-"},{"$f":"INDEX($B$3:$AQ$44,$E100,K$67)&\"-\"&INDEX($B$3:$AQ$44,K$67,$E100)","v":"-"},{"$f":"INDEX($B$3:$AQ$44,$E100,L$67)&\"-\"&INDEX($B$3:$AQ$44,L$67,$E100)","v":"-"},{"$f":"INDEX($B$3:$AQ$44,$E100,M$67)&\"-\"&INDEX($B$3:$AQ$44,M$67,$E100)","v":"-"},{"$f":"INDEX($B$3:$AQ$44,$E100,N$67)&\"-\"&INDEX($B$3:$AQ$44,N$67,$E100)","v":"-"},{"$f":"INDEX($B$3:$AQ$44,$E100,O$67)&\"-\"&INDEX($B$3:$AQ$44,O$67,$E100)","v":"-"},{"$f":"INDEX($B$3:$AQ$44,$E100,P$67)&\"-\"&INDEX($B$3:$AQ$44,P$67,$E100)","v":"-"},{"$f":"INDEX($B$3:$AQ$44,$E100,Q$67)&\"-\"&INDEX($B$3:$AQ$44,Q$67,$E100)","v":"-"},{"$f":"INDEX($B$3:$AQ$44,$E100,R$67)&\"-\"&INDEX($B$3:$AQ$44,R$67,$E100)","v":"-"},{"$f":"INDEX($B$3:$AQ$44,$E100,S$67)&\"-\"&INDEX($B$3:$AQ$44,S$67,$E100)","v":"-"},{"$f":"INDEX($B$3:$AQ$44,$E100,T$67)&\"-\"&INDEX($B$3:$AQ$44,T$67,$E100)","v":"-"},{"$f":"INDEX($B$3:$AQ$44,$E100,U$67)&\"-\"&INDEX($B$3:$AQ$44,U$67,$E100)","v":"-"},{"$f":"INDEX($B$3:$AQ$44,$E100,V$67)&\"-\"&INDEX($B$3:$AQ$44,V$67,$E100)","v":"-"},{"$f":"INDEX($B$3:$AQ$44,$E100,W$67)&\"-\"&INDEX($B$3:$AQ$44,W$67,$E100)","v":"-"},{"$f":"INDEX($B$3:$AQ$44,$E100,X$67)&\"-\"&INDEX($B$3:$AQ$44,X$67,$E100)","v":"-"},{"$f":"INDEX($B$3:$AQ$44,$E100,Y$67)&\"-\"&INDEX($B$3:$AQ$44,Y$67,$E100)","v":"-"},{"$f":"INDEX($B$3:$AQ$44,$E100,Z$67)&\"-\"&INDEX($B$3:$AQ$44,Z$67,$E100)","v":"-"},{"$f":"INDEX($B$3:$AQ$44,$E100,AA$67)&\"-\"&INDEX($B$3:$AQ$44,AA$67,$E100)","v":"1-7"},{"$f":"INDEX($B$3:$AQ$44,$E100,AB$67)&\"-\"&INDEX($B$3:$AQ$44,AB$67,$E100)","v":"-"},{"$f":"INDEX($B$3:$AQ$44,$E100,AC$67)&\"-\"&INDEX($B$3:$AQ$44,AC$67,$E100)","v":"-"},{"$f":"INDEX($B$3:$AQ$44,$E100,AD$67)&\"-\"&INDEX($B$3:$AQ$44,AD$67,$E100)","v":"2-7"},{"$f":"INDEX($B$3:$AQ$44,$E100,AE$67)&\"-\"&INDEX($B$3:$AQ$44,AE$67,$E100)","v":"-"},{"$f":"INDEX($B$3:$AQ$44,$E100,AF$67)&\"-\"&INDEX($B$3:$AQ$44,AF$67,$E100)","v":"4-5"},{"$f":"INDEX($B$3:$AQ$44,$E100,AG$67)&\"-\"&INDEX($B$3:$AQ$44,AG$67,$E100)","v":"-"},{"$f":"INDEX($B$3:$AQ$44,$E100,AH$67)&\"-\"&INDEX($B$3:$AQ$44,AH$67,$E100)","v":"4-7"},{"$f":"INDEX($B$3:$AQ$44,$E100,AI$67)&\"-\"&INDEX($B$3:$AQ$44,AI$67,$E100)","v":"-"},{"$f":"INDEX($B$3:$AQ$44,$E100,AJ$67)&\"-\"&INDEX($B$3:$AQ$44,AJ$67,$E100)","v":"2-6"},{"$f":"INDEX($B$3:$AQ$44,$E100,AK$67)&\"-\"&INDEX($B$3:$AQ$44,AK$67,$E100)","v":"-"},{"$f":"INDEX($B$3:$AQ$44,$E100,AL$67)&\"-\"&INDEX($B$3:$AQ$44,AL$67,$E100)","v":"-"},{"$f":"INDEX($B$3:$AQ$44,$E100,AM$67)&\"-\"&INDEX($B$3:$AQ$44,AM$67,$E100)","v":"-"},{"$f":"INDEX($B$3:$AQ$44,$E100,AN$67)&\"-\"&INDEX($B$3:$AQ$44,AN$67,$E100)","v":"6-1"},{"$f":"INDEX($B$3:$AQ$44,$E100,AO$67)&\"-\"&INDEX($B$3:$AQ$44,AO$67,$E100)","v":"-"},"12-3","-","-","-","-","-","-"]
[33,33,33,35,35,"235",{"$f":"INDEX($B$3:$AQ$44,$E101,G$67)&\"-\"&INDEX($B$3:$AQ$44,G$67,$E101)","v":"-"},{"$f":"INDEX($B$3:$AQ$44,$E101,H$67)&\"-\"&INDEX($B$3:$AQ$44,H$67,$E101)","v":"-"},{"$f":"INDEX($B$3:$AQ$44,$E101,I$67)&\"-\"&INDEX($B$3:$AQ$44,I$67,$E101)","v":"-"},{"$f":"INDEX($B$3:$AQ$44,$E101,J$67)&\"-\"&INDEX($B$3:$AQ$44,J$67,$E101)","v":"-"},{"$f":"INDEX($B$3:$AQ$44,$E101,K$67)&\"-\"&INDEX($B$3:$AQ$44,K$67,$E101)","v":"-"},{"$f":"INDEX($B$3:$AQ$44,$E101,L$67)&\"-\"&INDEX($B$3:$AQ$44,L$67,$E101)","v":"-"},{"$f":"INDEX($B$3:$AQ$44,$E101,M$67)&\"-\"&INDEX($B$3:$AQ$44,M$67,$E101)","v":"-"},{"$f":"INDEX($B$3:$AQ$44,$E101,N$67)&\"-\"&INDEX($B$3:$AQ$44,N$67,$E101)","v":"-"},{"$f":"INDEX($B$3:$AQ$44,$E101,O$67)&\"-\"&INDEX($B$3:$AQ$44,O$67,$E101)","v":"-"},{"$f":"INDEX($B$3:$AQ$44,$E101,P$67)&\"-\"&INDEX($B$3:$AQ$44,P$67,$E101)","v":"-"},{"$f":"INDEX($B$3:$AQ$44,$E101,Q$67)&\"-\"&INDEX($B$3:$AQ$44,Q$67,$E101)","v":"-"},{"$f":"INDEX($B$3:$AQ$44,$E101,R$67)&\"-\"&INDEX($B$3:$AQ$44,R$67,$E101)","v":"-"},{"$f":"INDEX($B$3:$AQ$44,$E101,S$67)&\"-\"&INDEX($B$3:$AQ$44,S$67,$E101)","v":"-"},{"$f":"INDEX($B$3:$AQ$44,$E101,T$67)&\"-\"&INDEX($B$3:$AQ$44,T$67,$E101)","v":"-"},{"$f":"INDEX($B$3:$AQ$44,$E101,U$67)&\"-\"&INDEX($B$3:$AQ$44,U$67,$E101)","v":"-"},{"$f":"INDEX($B$3:$AQ$44,$E101,V$67)&\"-\"&INDEX($B$3:$AQ$44,V$67,$E101)","v":"-"},{"$f":"INDEX($B$3:$AQ$44,$E101,W$67)&\"-\"&INDEX($B$3:$AQ$44,W$67,$E101)","v":"-"},{"$f":"INDEX($B$3:$AQ$44,$E101,X$67)&\"-\"&INDEX($B$3:$AQ$44,X$67,$E101)","v":"-"},{"$f":"INDEX($B$3:$AQ$44,$E101,Y$67)&\"-\"&INDEX($B$3:$AQ$44,Y$67,$E101)","v":"-"},{"$f":"INDEX($B$3:$AQ$44,$E101,Z$67)&\"-\"&INDEX($B$3:$AQ$44,Z$67,$E101)","v":"-"},{"$f":"INDEX($B$3:$AQ$44,$E101,AA$67)&\"-\"&INDEX($B$3:$AQ$44,AA$67,$E101)","v":"-"},{"$f":"INDEX($B$3:$AQ$44,$E101,AB$67)&\"-\"&INDEX($B$3:$AQ$44,AB$67,$E101)","v":"-"},{"$f":"INDEX($B$3:$AQ$44,$E101,AC$67)&\"-\"&INDEX($B$3:$AQ$44,AC$67,$E101)","v":"-"},{"$f":"INDEX($B$3:$AQ$44,$E101,AD$67)&\"-\"&INDEX($B$3:$AQ$44,AD$67,$E101)","v":"1-1"},{"$f":"INDEX($B$3:$AQ$44,$E101,AE$67)&\"-\"&INDEX($B$3:$AQ$44,AE$67,$E101)","v":"-"},{"$f":"INDEX($B$3:$AQ$44,$E101,AF$67)&\"-\"&INDEX($B$3:$AQ$44,AF$67,$E101)","v":"-"},{"$f":"INDEX($B$3:$AQ$44,$E101,AG$67)&\"-\"&INDEX($B$3:$AQ$44,AG$67,$E101)","v":"1-4"},{"$f":"INDEX($B$3:$AQ$44,$E101,AH$67)&\"-\"&INDEX($B$3:$AQ$44,AH$67,$E101)","v":"-"},{"$f":"INDEX($B$3:$AQ$44,$E101,AI$67)&\"-\"&INDEX($B$3:$AQ$44,AI$67,$E101)","v":"0-4"},{"$f":"INDEX($B$3:$AQ$44,$E101,AJ$67)&\"-\"&INDEX($B$3:$AQ$44,AJ$67,$E101)","v":"-"},{"$f":"INDEX($B$3:$AQ$44,$E101,AK$67)&\"-\"&INDEX($B$3:$AQ$44,AK$67,$E101)","v":"3-4"},{"$f":"INDEX($B$3:$AQ$44,$E101,AL$67)&\"-\"&INDEX($B$3:$AQ$44,AL$67,$E101)","v":"-"},{"$f":"INDEX($B$3:$AQ$44,$E101,AM$67)&\"-\"&INDEX($B$3:$AQ$44,AM$67,$E101)","v":"-"},{"$f":"INDEX($B$3:$AQ$44,$E101,AN$67)&\"-\"&INDEX($B$3:$AQ$44,AN$67,$E101)","v":"-"},{"$f":"INDEX($B$3:$AQ$44,$E101,AO$67)&\"-\"&INDEX($B$3:$AQ$44,AO$67,$E101)","v":"1-1"},{"$f":"INDEX($B$3:$AQ$44,$E101,AP$67)&\"-\"&INDEX($B$3:$AQ$44,AP$67,$E101)","v":"5-2"},"-","-","4-0","9-1","5-0","-"]
[34,36,34,32,32,"232",{"$f":"INDEX($B$3:$AQ$44,$E102,G$67)&\"-\"&INDEX($B$3:$AQ$44,G$67,$E102)","v":"-"},{"$f":"INDEX($B$3:$AQ$44,$E102,H$67)&\"-\"&INDEX($B$3:$AQ$44,H$67,$E102)","v":"-"},{"$f":"INDEX($B$3:$AQ$44,$E102,I$67)&\"-\"&INDEX($B$3:$AQ$44,I$67,$E102)","v":"-"},{"$f":"INDEX($B$3:$AQ$44,$E102,J$67)&\"-\"&INDEX($B$3:$AQ$44,J$67,$E102)","v":"-"},{"$f":"INDEX($B$3:$AQ$44,$E102,K$67)&\"-\"&INDEX($B$3:$AQ$44,K$67,$E102)","v":"-"},{"$f":"INDEX($B$3:$AQ$44,$E102,L$67)&\"-\"&INDEX($B$3:$AQ$44,L$67,$E102)","v":"-"},{"$f":"INDEX($B$3:$AQ$44,$E102,M$67)&\"-\"&INDEX($B$3:$AQ$44,M$67,$E102)","v":"-"},{"$f":"INDEX($B$3:$AQ$44,$E102,N$67)&\"-\"&INDEX($B$3:$AQ$44,N$67,$E102)","v":"-"},{"$f":"INDEX($B$3:$AQ$44,$E102,O$67)&\"-\"&INDEX($B$3:$AQ$44,O$67,$E102)","v":"-"},{"$f":"INDEX($B$3:$AQ$44,$E102,P$67)&\"-\"&INDEX($B$3:$AQ$44,P$67,$E102)","v":"-"},{"$f":"INDEX($B$3:$AQ$44,$E102,Q$67)&\"-\"&INDEX($B$3:$AQ$44,Q$67,$E102)","v":"-"},{"$f":"INDEX($B$3:$AQ$44,$E102,R$67)&\"-\"&INDEX($B$3:$AQ$44,R$67,$E102)","v":"-"},{"$f":"INDEX($B$3:$AQ$44,$E102,S$67)&\"-\"&INDEX($B$3:$AQ$44,S$67,$E102)","v":"-"},{"$f":"INDEX($B$3:$AQ$44,$E102,T$67)&\"-\"&INDEX($B$3:$AQ$44,T$67,$E102)","v":"-"},{"$f":"INDEX($B$3:$AQ$44,$E102,U$67)&\"-\"&INDEX($B$3:$AQ$44,U$67,$E102)","v":"-"},{"$f":"INDEX($B$3:$AQ$44,$E102,V$67)&\"-\"&INDEX($B$3:$AQ$44,V$67,$E102)","v":"-"},{"$f":"INDEX($B$3:$AQ$44,$E102,W$67)&\"-\"&INDEX($B$3:$AQ$44,W$67,$E102)","v":"-"},{"$f":"INDEX($B$3:$AQ$44,$E102,X$67)&\"-\"&INDEX($B$3:$AQ$44,X$67,$E102)","v":"-"},{"$f":"INDEX($B$3:$AQ$44,$E102,Y$67)&\"-\"&INDEX($B$3:$AQ$44,Y$67,$E102)","v":"-"},{"$f":"INDEX($B$3:$AQ$44,$E102,Z$67)&\"-\"&INDEX($B$3:$AQ$44,Z$67,$E102)","v":"-"},{"$f":"INDEX($B$3:$AQ$44,$E102,AA$67)&\"-\"&INDEX($B$3:$AQ$44,AA$67,$E102)","v":"-"},{"$f":"INDEX($B$3:$AQ$44,$E102,AB$67)&\"-\"&INDEX($B$3:$AQ$44,AB$67,$E102)","v":"-"},{"$f":"INDEX($B$3:$AQ$44,$E102,AC$67)&\"-\"&INDEX($B$3:$AQ$44,AC$67,$E102)","v":"-"},{"$f":"INDEX($B$3:$AQ$44,$E102,AD$67)&\"-\"&INDEX($B$3:$AQ$44,AD$67,$E102)","v":"1-10"},{"$f":"INDEX($B$3:$AQ$44,$E102,AE$67)&\"-\"&INDEX($B$3:$AQ$44,AE$67,$E102)","v":"-"},{"$f":"INDEX($B$3:$AQ$44,$E102,AF$67)&\"-\"&INDEX($B$3:$AQ$44,AF$67,$E102)","v":"2-5"},{"$f":"INDEX($B$3:$AQ$44,$E102,AG$67)&\"-\"&INDEX($B$3:$AQ$44,AG$67,$E102)","v":"1-13"},{"$f":"INDEX($B$3:$AQ$44,$E102,AH$67)&\"-\"&INDEX($B$3:$AQ$44,AH$67,$E102)","v":"-"},{"$f":"INDEX($B$3:$AQ$44,$E102,AI$67)&\"-\"&INDEX($B$3:$AQ$44,AI$67,$E102)","v":"1-9"},{"$f":"INDEX($B$3:$AQ$44,$E102,AJ$67)&\"-\"&INDEX($B$3:$AQ$44,AJ$67,$E102)","v":"-"},{"$f":"INDEX($B$3:$AQ$44,$E102,AK$67)&\"-\"&INDEX($B$3:$AQ$44,AK$67,$E102)","v":"-"},{"$f":"INDEX($B$3:$AQ$44,$E102,AL$67)&\"-\"&INDEX($B$3:$AQ$44,AL$67,$E102)","v":"1-6"},{"$f":"INDEX($B$3:$AQ$44,$E102,AM$67)&\"-\"&INDEX($B$3:$AQ$44,AM$67,$E102)","v":"-"},{"$f":"INDEX($B$3:$AQ$44,$E102,AN$67)&\"-\"&INDEX($B$3:$AQ$44,AN$67,$E102)","v":"-"},{"$f":"INDEX($B$3:$AQ$44,$E102,AO$67)&\"-\"&INDEX($B$3:$AQ$44,AO$67,$E102)","v":"-"},"6-5","-","-","6-3","-","-","-"]
[35,34,36,41,41,"241",{"$f":"INDEX($B$3:$AQ$44,$E103,G$67)&\"-\"&INDEX($B$3:$AQ$44,G$67,$E103)","v":"-"},{"$f":"INDEX($B$3:$AQ$44,$E103,H$67)&\"-\"&INDEX($B$3:$AQ$44,H$67,$E103)","v":"-"},{"$f":"INDEX($B$3:$AQ$44,$E103,I$67)&\"-\"&INDEX($B$3:$AQ$44,I$67,$E103)","v":"-"},{"$f":"INDEX($B$3:$AQ$44,$E103,J$67)&\"-\"&INDEX($B$3:$AQ$44,J$67,$E103)","v":"-"},{"$f":"INDEX($B$3:$AQ$44,$E103,K$67)&\"-\"&INDEX($B$3:$AQ$44,K$67,$E103)","v":"-"},{"$f":"INDEX($B$3:$AQ$44,$E103,L$67)&\"-\"&INDEX($B$3:$AQ$44,L$67,$E103)","v":"-"},{"$f":"INDEX($B$3:$AQ$44,$E103,M$67)&\"-\"&INDEX($B$3:$AQ$44,M$67,$E103)","v":"-"},{"$f":"INDEX($B$3:$AQ$44,$E103,N$67)&\"-\"&INDEX($B$3:$AQ$44,N$67,$E103)","v":"-"},{"$f":"INDEX($B$3:$AQ$44,$E103,O$67)&\"-\"&INDEX($B$3:$AQ$44,O$67,$E103)","v":"-"},{"$f":"INDEX($B$3:$AQ$44,$E103,P$67)&\"-\"&INDEX($B$3:$AQ$44,P$67,$E103)","v":"-"},{"$f":"INDEX($B$3:$AQ$44,$E103,Q$67)&\"-\"&INDEX($B$3:$AQ$44,Q$67,$E103)","v":"-"},{"$f":"INDEX($B$3:$AQ$44,$E103,R$67)&\"-\"&INDEX($B$3:$AQ$44,R$67,$E103)","v":"-"},{"$f":"INDEX($B$3:$AQ$44,$E103,S$67)&\"-\"&INDEX($B$3:$AQ$44,S$67,$E103)","v":"-"},{"$f":"INDEX($B$3:$AQ$44,$E103,T$67)&\"-\"&INDEX($B$3:$AQ$44,T$67,$E103)","v":"-"},{"$f":"INDEX($B$3:$AQ$44,$E103,U$67)&\"-\"&INDEX($B$3:$AQ$44,U$67,$E103)","v":"-"},{"$f":"INDEX($B$3:$AQ$44,$E103,V$67)&\"-\"&INDEX($B$3:$AQ$44,V$67,$E103)","v":"-"},{"$f":"INDEX($B$3:$AQ$44,$E103,W$67)&\"-\"&INDEX($B$3:$AQ$44,W$67,$E103)","v":"-"},{"$f":"INDEX($B$3:$AQ$44,$E103,X$67)&\"-\"&INDEX($B$3:$AQ$44,X$67,$E103)","v":"-"},{"$f":"INDEX($B$3:$AQ$44,$E103,Y$67)&\"-\"&INDEX($B$3:$AQ$44,Y$67,$E103)","v":"-"},{"$f":"INDEX($B$3:$AQ$44,$E103,Z$67)&\"-\"&INDEX($B$3:$AQ$44,Z$67,$E103)","v":"-"},{"$f":"INDEX($B$3:$AQ$44,$E103,AA$67)&\"-\"&INDEX($B$3:$AQ$44,AA$67,$E103)","v":"-"},{"$f":"INDEX($B$3:$AQ$44,$E103,AB$67)&\"-\"&INDEX($B$3:$AQ$44,AB$67,$E103)","v":"-"},{"$f":"INDEX($B$3:$AQ$44,$E103,AC$67)&\"-\"&INDEX($B$3:$AQ$44,AC$67,$E103)","v":"-"},{"$f":"INDEX($B$3:$AQ$44,$E103,AD$67)&\"-\"&INDEX($B$3:$AQ$44,AD$67,$E103)","v":"-"},{"$f":"INDEX($B$3:$AQ$44,$E103,AE$67)&\"-\"&INDEX($B$3:$AQ$44,AE$67,$E103)","v":"-"},{"$f":"INDEX($B$3:$AQ$44,$E103,AF$67)&\"-\"&INDEX($B$3:$AQ$44,AF$67,$E103)","v":"-"},{"$f":"INDEX($B$3:$AQ$44,$E103,AG$67)&\"-\"&INDEX($B$3:$AQ$44,AG$67,$E103)","v":"-"},{"$f":"INDEX($B$3:$AQ$44,$E103,AH$67)&\"-\"&INDEX($B$3:$AQ$44,AH$67,$E103)","v":"-"},{"$f":"INDEX($B$3:$AQ$44,$E103,AI$67)&\"-\"&INDEX($B$3:$AQ$44,AI$67,$E103)","v":"0-8"},{"$f":"INDEX($B$3:$AQ$44,$E103,AJ$67)&\"-\"&INDEX($B$3:$AQ$44,AJ$67,$E103)","v":"-"},{"$f":"INDEX($B$3:$AQ$44,$E103,AK$67)&\"-\"&INDEX($B$3:$AQ$44,AK$67,$E103)","v":"-"},{"$f":"INDEX($B$3:$AQ$44,$E103,AL$67)&\"-\"&INDEX($B$3:$AQ$44,AL$67,$E103)","v":"-"},{"$f":"INDEX($B$3:$AQ$44,$E103,AM$67)&\"-\"&INDEX($B$3:$AQ$44,AM$67,$E103)","v":"1-1"},{"$f":"INDEX($B$3:$AQ$44,$E103,AN$67)&\"-\"&INDEX($B$3:$AQ$44,AN$67,$E103)","v":"-"},{"$f":"INDEX($B$3:$AQ$44,$E103,AO$67)&\"-\"&INDEX($B$3:$AQ$44,AO$67,$E103)","v":"-"},"-","1-3","8-1","-","7-1","6-1","9-0"]
[36,37,35,30,30,"230",{"$f":"INDEX($B$3:$AQ$44,$E104,G$67)&\"-\"&INDEX($B$3:$AQ$44,G$67,$E104)","v":"-"},"-","-","-","-","-","-","-","-","-","-","-","-","-","-","-",{"$f":"INDEX($B$3:$AQ$44,$E104,W$67)&\"-\"&INDEX($B$3:$AQ$44,W$67,$E104)","v":"-"},"-","-","0-12","-","-","2-11","0-9","-","0-10","4-18","-","-","-","0-7","3-12",{"$f":"INDEX($B$3:$AQ$44,$E104,AM$67)&\"-\"&INDEX($B$3:$AQ$44,AM$67,$E104)","v":"2-5"},"5-6","-",{"$f":"INDEX($B$3:$AQ$44,$E104,AP$67)&\"-\"&INDEX($B$3:$AQ$44,AP$67,$E104)","v":"-"},"-","-","-","-","-","-"]
[37,35,37,39,39,"239","-","-","-","-","-","-","-","-","-","-","-","-","-","-","-","-","-","-","-","-","-","-","-","-","-","-","-","-","-","-","0-7","-","-","-","3-1","-",{"$f":"INDEX($B$3:$AQ$44,$E105,AQ$67)&\"-\"&INDEX($B$3:$AQ$44,AQ$67,$E105)","v":"-"},"6-2","-","4-2","7-1","8-0"]
[38,38,38,38,38,"238","-","-","-","-","-","-","-","-","-","-","-","-","-","-","-","-","-","-","-","-","-","-","-","-","-","-","-","-","-","-","2-8","-","-","-","1-8","-","2-6",{"$f":"INDEX($B$3:$AQ$44,$E106,AR$67)&\"-\"&INDEX($B$3:$AQ$44,AR$67,$E106)","v":"-"},"-","11-1","7-1","9-0"]
[39,39,39,33,33,"233","-","-","-","-","-","-","-","-","-","-","-","-","-","-","-","-","-","-","-","-","0-10","-","-","-","-","-","1-9","-","0-9","-","0-9","-","0-4","3-6","-","-","-","-",{"$f":"INDEX($B$3:$AQ$44,$E107,AS$67)&\"-\"&INDEX($B$3:$AQ$44,AS$67,$E107)","v":"-"},"-","-","9-0"]
[40,41,40,42,42,"242","-","-","-","-","-","-","-","-","-","-","-","-","-","-","-","-","-","-","-","-","-","-","-","-","-","-","-","-","-","-","1-14","-","1-9","-","1-7","-","2-4","1-11","-",{"$f":"INDEX($B$3:$AQ$44,$E108,AT$67)&\"-\"&INDEX($B$3:$AQ$44,AT$67,$E108)","v":"-"},"4-7","5-1"]
[41,40,41,37,37,"237","-","-","-","-","-","-","-","-","-","-","-","-","-","-","-","-","-","-","-","-","-","-","-","-","-","-","-","-","0-10","-","0-10","-","0-5","-","1-6","-","1-7","1-7","-","7-4",{"$f":"INDEX($B$3:$AQ$44,$E109,AU$67)&\"-\"&INDEX($B$3:$AQ$44,AU$67,$E109)","v":"-"},"7-1"]
[42,42,42,40,40,"240","-","-","-","-","-","-","-","-","-","-","-","-","-","-","-","-","-","-","-","-","-","-","-","-","-","-","-","-","-","-","-","-","-","-","0-9","-","0-8","0-9","0-9","1-5","1-7",{"$f":"INDEX($B$3:$AQ$44,$E110,AV$67)&\"-\"&INDEX($B$3:$AQ$44,AV$67,$E110)","v":"-"}]

{"sheet":"PeeWeeGamesMatrix","index":3,"n_rows":94,"n_cols":40,"rows_kept":94,"cut":false,"hidden":false,"merged":[]}
["Leave this blank line in here!!!!!"]
["Teams","301","302","303","304","305","306","307","308","309","310","311","312","313","314","315","316","317","318","319","320","321","322","323","324","325","326","327","328","329","330","331","332","333","334"]
["301",null,5,2,0,3,null,6,4]
["302",1,null,5,2,2,null,null,3,6,null,7,6,null,null,6]
["303",10,10,null,8,3,7,null,10,null,null,7]
["304",0,4,0,null,null,3,4,null,null,null,5]
["305",1,5,1,null,null,3,6,4,null,8,null,null,null,3,3]
["306",null,null,3,4,3,null,9,2,7,8,6,2]
["307",1,null,null,3,2,1,null,1,7,5,1,3,null,6]
["308",1,6,0,null,2,1,2,null,3,3,2]
["309",null,1,null,null,null,1,4,2,null,2,3,1,null,7,0]
["310",null,null,null,null,4,1,2,2,3,null,0,5,7,null,4,null,null,null,12]
["311",null,3,1,3,null,3,10,2,5,6,null,0,null,null,null,null,null,6]
["312",null,5,null,null,null,1,6,null,3,7,2,null,5,8,null,null,9]
["313",null,null,null,null,null,null,null,null,null,1,null,1,null,3,3,4,7,3,7,7]
["314",null,null,null,null,0,null,3,null,0,null,null,2,2,null,null,5,1,3,null,null,null,null,5]
["315",null,0,null,null,2,null,null,null,6,1,null,null,9,null,null,6,10,8]
["316",null,null,null,null,null,null,null,null,null,null,null,null,0,3,0,null,4,0,2,null,null,null,null,null,1]
["317",null,null,null,null,null,null,null,null,null,null,null,3,0,8,1,3,null,2,4,8,10,7]
["318",null,null,null,null,null,null,null,null,null,null,5,null,1,6,4,10,7,null,8,5,null,null,null,null,null,12]
["319",null,null,null,null,null,null,null,null,null,2,null,null,6,null,null,10,6,3,null,10,8,11,null,null,10]
["320",null,null,null,null,null,null,null,null,null,null,null,null,3,null,null,null,1,1,3,null,5,4,null,null,null,null,null,null,7]
["321",null,null,null,null,null,null,null,null,null,null,null,null,null,null,null,null,0,null,3,1,null,2,2,14,3,null,null,null,null,null,2]
["322",null,null,null,null,null,null,null,null,null,null,null,null,null,null,null,null,3,null,1,3,2,null,0,5]
["323",null,null,null,null,null,null,null,null,null,null,null,null,null,3,null,null,null,null,null,null,2,2,null,4,2]
["324",null,null,null,null,null,null,null,null,null,null,null,null,null,null,null,null,null,null,null,null,1,0,2,null,0,2,8,1]
["325",null,null,null,null,null,null,null,null,null,null,null,null,null,null,null,1,null,null,8,null,6,null,6,10,null,null,12,null,null,8,null,10]
["326",null,null,null,null,null,null,null,null,null,null,null,null,null,null,null,null,null,0,null,null,null,null,null,3,null,null,0,1,1,null,null,null,1]
["327",null,null,null,null,null,null,null,null,null,null,null,null,null,null,null,null,null,null,null,null,null,null,null,1,2,2,null,0,2,3,1,null,1,8]
["328",null,null,null,null,null,null,null,null,null,null,null,null,null,null,null,null,null,null,null,null,null,null,null,9,null,17,12,null,null,1,9,10,null,9]
["329",null,null,null,null,null,null,null,null,null,null,null,null,null,null,null,null,null,null,null,1,null,null,null,null,null,5,11,null,null,11,5,8,null,7]
["330",null,null,null,null,null,null,null,null,null,null,null,null,null,null,null,null,null,null,null,null,null,null,null,null,1,null,6,0,1,null,4,2,1,1]
["331",null,null,null,null,null,null,null,null,null,null,null,null,null,null,null,null,null,null,null,null,4,null,null,null,null,null,7,1,2,1,null,10,9,3]
["332",null,null,null,null,null,null,null,null,null,null,null,null,null,null,null,null,null,null,null,null,null,null,null,null,0,null,null,0,0,4,1,null,1,0]
["333",null,null,null,null,null,null,null,null,null,null,null,null,null,null,null,null,null,null,null,null,null,null,null,null,null,9,10,null,null,20,4,8,null,9]
["334",null,null,null,null,null,null,null,null,null,null,null,null,null,null,null,null,null,null,null,null,null,null,null,null,null,null,7,1,2,0,4,10,1]
[]
[]
[]
[]
[]
[]
[]
[]
[]
[]
[]
[]
[null,null,null,null,null,null,null,null,null,null,null,null,"From -->","B3:AJ37"]
[null,null,null,null,null,null,null,null,null,null,null,null,"To -->","B3:AI36"]
[]
[]
[]
[null,null,null,null,null,null,1,2,3,4,5,6,7,8,9,10,11,12,13,14,15,16,17,18,19,20,21,22,23,24,25,26,27,28,29,30,31,32,33,34]
[null,null,null,null,null,"CSHL",1,2,3,4,5,6,7,8,9,10,11,12,13,14,15,16,17,18,19,20,21,22,23,24,25,26,27,28,29,30,31,32,33,34]
[null,null,null,null,null,"MW",1,2,3,4,6,5,7,8,9,10,11,12,13,14,15,16,17,18,19,22,21,20,25,23,24,26,27,28,29,30,31,33,32,34]
[null,null,null,null,null,"Walkush",1,2,3,4,5,6,7,9,8,11,10,12,13,14,15,16,17,18,20,19,21,27,22,24,26,23,25,28,29,30,31,32,34,33]
[null,null,null,null,null,"Custom",3,1,6,5,2,4,12,11,8,15,10,7,9,18,13,19,17,14,25,20,16,28,23,33,29,22,21,31,30,34,24,27,26,32]
[null,null,null,null,null,"Index",3,1,6,5,2,4,12,11,8,15,10,7,9,18,13,19,17,14,25,20,16,28,23,33,29,22,21,31,30,34,24,27,26,32]
["CSHL","MW","Walkush","Custom","Index","Team","303","301","306","305","302","304","312","311","308","315","310","307","309","318","313","319","317","314","325","320","316","328","323","333","329","322","321","331","330","334","324","327","326","332"]
[1,1,1,3,3,"303",{"$f":"INDEX($B$3:$AI$36,$E61,G$59)&\"-\"&INDEX($B$3:$AI$36,G$59,$E61)","v":"-"},{"$f":"INDEX($B$3:$AI$36,$E61,H$59)&\"-\"&INDEX($B$3:$AI$36,H$59,$E61)","v":"10-2"},{"$f":"INDEX($B$3:$AI$36,$E61,I$59)&\"-\"&INDEX($B$3:$AI$36,I$59,$E61)","v":"7-3"},{"$f":"INDEX($B$3:$AI$36,$E61,J$59)&\"-\"&INDEX($B$3:$AI$36,J$59,$E61)","v":"3-1"},{"$f":"INDEX($B$3:$AI$36,$E61,K$59)&\"-\"&INDEX($B$3:$AI$36,K$59,$E61)","v":"10-5"},{"$f":"INDEX($B$3:$AI$36,$E61,L$59)&\"-\"&INDEX($B$3:$AI$36,L$59,$E61)","v":"8-0"},{"$f":"INDEX($B$3:$AI$36,$E61,M$59)&\"-\"&INDEX($B$3:$AI$36,M$59,$E61)","v":"-"},{"$f":"INDEX($B$3:$AI$36,$E61,N$59)&\"-\"&INDEX($B$3:$AI$36,N$59,$E61)","v":"7-1"},{"$f":"INDEX($B$3:$AI$36,$E61,O$59)&\"-\"&INDEX($B$3:$AI$36,O$59,$E61)","v":"10-0"},{"$f":"INDEX($B$3:$AI$36,$E61,P$59)&\"-\"&INDEX($B$3:$AI$36,P$59,$E61)","v":"-"},{"$f":"INDEX($B$3:$AI$36,$E61,Q$59)&\"-\"&INDEX($B$3:$AI$36,Q$59,$E61)","v":"-"},{"$f":"INDEX($B$3:$AI$36,$E61,R$59)&\"-\"&INDEX($B$3:$AI$36,R$59,$E61)","v":"-"},{"$f":"INDEX($B$3:$AI$36,$E61,S$59)&\"-\"&INDEX($B$3:$AI$36,S$59,$E61)","v":"-"},{"$f":"INDEX($B$3:$AI$36,$E61,T$59)&\"-\"&INDEX($B$3:$AI$36,T$59,$E61)","v":"-"},{"$f":"INDEX($B$3:$AI$36,$E61,U$59)&\"-\"&INDEX($B$3:$AI$36,U$59,$E61)","v":"-"},{"$f":"INDEX($B$3:$AI$36,$E61,V$59)&\"-\"&INDEX($B$3:$AI$36,V$59,$E61)","v":"-"},{"$f":"INDEX($B$3:$AI$36,$E61,W$59)&\"-\"&INDEX($B$3:$AI$36,W$59,$E61)","v":"-"},{"$f":"INDEX($B$3:$AI$36,$E61,X$59)&\"-\"&INDEX($B$3:$AI$36,X$59,$E61)","v":"-"},{"$f":"INDEX($B$3:$AI$36,$E61,Y$59)&\"-\"&INDEX($B$3:$AI$36,Y$59,$E61)","v":"-"},{"$f":"INDEX($B$3:$AI$36,$E61,Z$59)&\"-\"&INDEX($B$3:$AI$36,Z$59,$E61)","v":"-"},{"$f":"INDEX($B$3:$AI$36,$E61,AA$59)&\"-\"&INDEX($B$3:$AI$36,AA$59,$E61)","v":"-"},{"$f":"INDEX($B$3:$AI$36,$E61,AB$59)&\"-\"&INDEX($B$3:$AI$36,AB$59,$E61)","v":"-"},{"$f":"INDEX($B$3:$AI$36,$E61,AC$59)&\"-\"&INDEX($B$3:$AI$36,AC$59,$E61)","v":"-"},{"$f":"INDEX($B$3:$AI$36,$E61,AD$59)&\"-\"&INDEX($B$3:$AI$36,AD$59,$E61)","v":"-"},{"$f":"INDEX($B$3:$AI$36,$E61,AE$59)&\"-\"&INDEX($B$3:$AI$36,AE$59,$E61)","v":"-"},{"$f":"INDEX($B$3:$AI$36,$E61,AF$59)&\"-\"&INDEX($B$3:$AI$36,AF$59,$E61)","v":"-"},{"$f":"INDEX($B$3:$AI$36,$E61,AG$59)&\"-\"&INDEX($B$3:$AI$36,AG$59,$E61)","v":"-"},{"$f":"INDEX($B$3:$AI$36,$E61,AH$59)&\"-\"&INDEX($B$3:$AI$36,AH$59,$E61)","v":"-"},{"$f":"INDEX($B$3:$AI$36,$E61,AI$59)&\"-\"&INDEX($B$3:$AI$36,AI$59,$E61)","v":"-"},{"$f":"INDEX($B$3:$AI$36,$E61,AJ$59)&\"-\"&INDEX($B$3:$AI$36,AJ$59,$E61)","v":"-"},{"$f":"INDEX($B$3:$AI$36,$E61,AK$59)&\"-\"&INDEX($B$3:$AI$36,AK$59,$E61)","v":"-"},{"$f":"INDEX($B$3:$AI$36,$E61,AL$59)&\"-\"&INDEX($B$3:$AI$36,AL$59,$E61)","v":"-"},{"$f":"INDEX($B$3:$AI$36,$E61,AM$59)&\"-\"&INDEX($B$3:$AI$36,AM$59,$E61)","v":"-"},{"$f":"INDEX($B$3:$AI$36,$E61,AN$59)&\"-\"&INDEX($B$3:$AI$36,AN$59,$E61)","v":"-"}]
[2,2,2,1,1,"301",{"$f":"INDEX($B$3:$AI$36,$E62,G$59)&\"-\"&INDEX($B$3:$AI$36,G$59,$E62)","v":"2-10"},{"$f":"INDEX($B$3:$AI$36,$E62,H$59)&\"-\"&INDEX($B$3:$AI$36,H$59,$E62)","v":"-"},{"$f":"INDEX($B$3:$AI$36,$E62,I$59)&\"-\"&INDEX($B$3:$AI$36,I$59,$E62)","v":"-"},{"$f":"INDEX($B$3:$AI$36,$E62,J$59)&\"-\"&INDEX($B$3:$AI$36,J$59,$E62)","v":"3-1"},{"$f":"INDEX($B$3:$AI$36,$E62,K$59)&\"-\"&INDEX($B$3:$AI$36,K$59,$E62)","v":"5-1"},{"$f":"INDEX($B$3:$AI$36,$E62,L$59)&\"-\"&INDEX($B$3:$AI$36,L$59,$E62)","v":"0-0"},{"$f":"INDEX($B$3:$AI$36,$E62,M$59)&\"-\"&INDEX($B$3:$AI$36,M$59,$E62)","v":"-"},{"$f":"INDEX($B$3:$AI$36,$E62,N$59)&\"-\"&INDEX($B$3:$AI$36,N$59,$E62)","v":"-"},{"$f":"INDEX($B$3:$AI$36,$E62,O$59)&\"-\"&INDEX($B$3:$AI$36,O$59,$E62)","v":"4-1"},{"$f":"INDEX($B$3:$AI$36,$E62,P$59)&\"-\"&INDEX($B$3:$AI$36,P$59,$E62)","v":"-"},{"$f":"INDEX($B$3:$AI$36,$E62,Q$59)&\"-\"&INDEX($B$3:$AI$36,Q$59,$E62)","v":"-"},{"$f":"INDEX($B$3:$AI$36,$E62,R$59)&\"-\"&INDEX($B$3:$AI$36,R$59,$E62)","v":"6-1"},{"$f":"INDEX($B$3:$AI$36,$E62,S$59)&\"-\"&INDEX($B$3:$AI$36,S$59,$E62)","v":"-"},{"$f":"INDEX($B$3:$AI$36,$E62,T$59)&\"-\"&INDEX($B$3:$AI$36,T$59,$E62)","v":"-"},{"$f":"INDEX($B$3:$AI$36,$E62,U$59)&\"-\"&INDEX($B$3:$AI$36,U$59,$E62)","v":"-"},{"$f":"INDEX($B$3:$AI$36,$E62,V$59)&\"-\"&INDEX($B$3:$AI$36,V$59,$E62)","v":"-"},{"$f":"INDEX($B$3:$AI$36,$E62,W$59)&\"-\"&INDEX($B$3:$AI$36,W$59,$E62)","v":"-"},{"$f":"INDEX($B$3:$AI$36,$E62,X$59)&\"-\"&INDEX($B$3:$AI$36,X$59,$E62)","v":"-"},{"$f":"INDEX($B$3:$AI$36,$E62,Y$59)&\"-\"&INDEX($B$3:$AI$36,Y$59,$E62)","v":"-"},{"$f":"INDEX($B$3:$AI$36,$E62,Z$59)&\"-\"&INDEX($B$3:$AI$36,Z$59,$E62)","v":"-"},{"$f":"INDEX($B$3:$AI$36,$E62,AA$59)&\"-\"&INDEX($B$3:$AI$36,AA$59,$E62)","v":"-"},{"$f":"INDEX($B$3:$AI$36,$E62,AB$59)&\"-\"&INDEX($B$3:$AI$36,AB$59,$E62)","v":"-"},{"$f":"INDEX($B$3:$AI$36,$E62,AC$59)&\"-\"&INDEX($B$3:$AI$36,AC$59,$E62)","v":"-"},{"$f":"INDEX($B$3:$AI$36,$E62,AD$59)&\"-\"&INDEX($B$3:$AI$36,AD$59,$E62)","v":"-"},{"$f":"INDEX($B$3:$AI$36,$E62,AE$59)&\"-\"&INDEX($B$3:$AI$36,AE$59,$E62)","v":"-"},{"$f":"INDEX($B$3:$AI$36,$E62,AF$59)&\"-\"&INDEX($B$3:$AI$36,AF$59,$E62)","v":"-"},{"$f":"INDEX($B$3:$AI$36,$E62,AG$59)&\"-\"&INDEX($B$3:$AI$36,AG$59,$E62)","v":"-"},{"$f":"INDEX($B$3:$AI$36,$E62,AH$59)&\"-\"&INDEX($B$3:$AI$36,AH$59,$E62)","v":"-"},{"$f":"INDEX($B$3:$AI$36,$E62,AI$59)&\"-\"&INDEX($B$3:$AI$36,AI$59,$E62)","v":"-"},{"$f":"INDEX($B$3:$AI$36,$E62,AJ$59)&\"-\"&INDEX($B$3:$AI$36,AJ$59,$E62)","v":"-"},{"$f":"INDEX($B$3:$AI$36,$E62,AK$59)&\"-\"&INDEX($B$3:$AI$36,AK$59,$E62)","v":"-"},{"$f":"INDEX($B$3:$AI$36,$E62,AL$59)&\"-\"&INDEX($B$3:$AI$36,AL$59,$E62)","v":"-"},{"$f":"INDEX($B$3:$AI$36,$E62,AM$59)&\"-\"&INDEX($B$3:$AI$36,AM$59,$E62)","v":"-"},{"$f":"INDEX($B$3:$AI$36,$E62,AN$59)&\"-\"&INDEX($B$3:$AI$36,AN$59,$E62)","v":"-"}]
[3,3,3,6,6,"306",{"$f":"INDEX($B$3:$AI$36,$E63,G$59)&\"-\"&INDEX($B$3:$AI$36,G$59,$E63)","v":"3-7"},{"$f":"INDEX($B$3:$AI$36,$E63,H$59)&\"-\"&INDEX($B$3:$AI$36,H$59,$E63)","v":"-"},{"$f":"INDEX($B$3:$AI$36,$E63,I$59)&\"-\"&INDEX($B$3:$AI$36,I$59,$E63)","v":"-"},{"$f":"INDEX($B$3:$AI$36,$E63,J$59)&\"-\"&INDEX($B$3:$AI$36,J$59,$E63)","v":"3-3"},{"$f":"INDEX($B$3:$AI$36,$E63,K$59)&\"-\"&INDEX($B$3:$AI$36,K$59,$E63)","v":"-"},{"$f":"INDEX($B$3:$AI$36,$E63,L$59)&\"-\"&INDEX($B$3:$AI$36,L$59,$E63)","v":"4-3"},{"$f":"INDEX($B$3:$AI$36,$E63,M$59)&\"-\"&INDEX($B$3:$AI$36,M$59,$E63)","v":"2-1"},{"$f":"INDEX($B$3:$AI$36,$E63,N$59)&\"-\"&INDEX($B$3:$AI$36,N$59,$E63)","v":"6-3"},{"$f":"INDEX($B$3:$AI$36,$E63,O$59)&\"-\"&INDEX($B$3:$AI$36,O$59,$E63)","v":"2-1"},{"$f":"INDEX($B$3:$AI$36,$E63,P$59)&\"-\"&INDEX($B$3:$AI$36,P$59,$E63)","v":"-"},{"$f":"INDEX($B$3:$AI$36,$E63,Q$59)&\"-\"&INDEX($B$3:$AI$36,Q$59,$E63)","v":"8-1"},{"$f":"INDEX($B$3:$AI$36,$E63,R$59)&\"-\"&INDEX($B$3:$AI$36,R$59,$E63)","v":"9-1"},{"$f":"INDEX($B$3:$AI$36,$E63,S$59)&\"-\"&INDEX($B$3:$AI$36,S$59,$E63)","v":"7-1"},{"$f":"INDEX($B$3:$AI$36,$E63,T$59)&\"-\"&INDEX($B$3:$AI$36,T$59,$E63)","v":"-"},{"$f":"INDEX($B$3:$AI$36,$E63,U$59)&\"-\"&INDEX($B$3:$AI$36,U$59,$E63)","v":"-"},{"$f":"INDEX($B$3:$AI$36,$E63,V$59)&\"-\"&INDEX($B$3:$AI$36,V$59,$E63)","v":"-"},{"$f":"INDEX($B$3:$AI$36,$E63,W$59)&\"-\"&INDEX($B$3:$AI$36,W$59,$E63)","v":"-"},{"$f":"INDEX($B$3:$AI$36,$E63,X$59)&\"-\"&INDEX($B$3:$AI$36,X$59,$E63)","v":"-"},{"$f":"INDEX($B$3:$AI$36,$E63,Y$59)&\"-\"&INDEX($B$3:$AI$36,Y$59,$E63)","v":"-"},{"$f":"INDEX($B$3:$AI$36,$E63,Z$59)&\"-\"&INDEX($B$3:$AI$36,Z$59,$E63)","v":"-"},{"$f":"INDEX($B$3:$AI$36,$E63,AA$59)&\"-\"&INDEX($B$3:$AI$36,AA$59,$E63)","v":"-"},{"$f":"INDEX($B$3:$AI$36,$E63,AB$59)&\"-\"&INDEX($B$3:$AI$36,AB$59,$E63)","v":"-"},{"$f":"INDEX($B$3:$AI$36,$E63,AC$59)&\"-\"&INDEX($B$3:$AI$36,AC$59,$E63)","v":"-"},{"$f":"INDEX($B$3:$AI$36,$E63,AD$59)&\"-\"&INDEX($B$3:$AI$36,AD$59,$E63)","v":"-"},{"$f":"INDEX($B$3:$AI$36,$E63,AE$59)&\"-\"&INDEX($B$3:$AI$36,AE$59,$E63)","v":"-"},{"$f":"INDEX($B$3:$AI$36,$E63,AF$59)&\"-\"&INDEX($B$3:$AI$36,AF$59,$E63)","v":"-"},{"$f":"INDEX($B$3:$AI$36,$E63,AG$59)&\"-\"&INDEX($B$3:$AI$36,AG$59,$E63)","v":"-"},{"$f":"INDEX($B$3:$AI$36,$E63,AH$59)&\"-\"&INDEX($B$3:$AI$36,AH$59,$E63)","v":"-"},{"$f":"INDEX($B$3:$AI$36,$E63,AI$59)&\"-\"&INDEX($B$3:$AI$36,AI$59,$E63)","v":"-"},{"$f":"INDEX($B$3:$AI$36,$E63,AJ$59)&\"-\"&INDEX($B$3:$AI$36,AJ$59,$E63)","v":"-"},{"$f":"INDEX($B$3:$AI$36,$E63,AK$59)&\"-\"&INDEX($B$3:$AI$36,AK$59,$E63)","v":"-"},{"$f":"INDEX($B$3:$AI$36,$E63,AL$59)&\"-\"&INDEX($B$3:$AI$36,AL$59,$E63)","v":"-"},{"$f":"INDEX($B$3:$AI$36,$E63,AM$59)&\"-\"&INDEX($B$3:$AI$36,AM$59,$E63)","v":"-"},{"$f":"INDEX($B$3:$AI$36,$E63,AN$59)&\"-\"&INDEX($B$3:$AI$36,AN$59,$E63)","v":"-"}]
[4,4,4,5,5,"305",{"$f":"INDEX($B$3:$AI$36,$E64,G$59)&\"-\"&INDEX($B$3:$AI$36,G$59,$E64)","v":"1-3"},{"$f":"INDEX($B$3:$AI$36,$E64,H$59)&\"-\"&INDEX($B$3:$AI$36,H$59,$E64)","v":"1-3"},{"$f":"INDEX($B$3:$AI$36,$E64,I$59)&\"-\"&INDEX($B$3:$AI$36,I$59,$E64)","v":"3-3"},{"$f":"INDEX($B$3:$AI$36,$E64,J$59)&\"-\"&INDEX($B$3:$AI$36,J$59,$E64)","v":"-"},{"$f":"INDEX($B$3:$AI$36,$E64,K$59)&\"-\"&INDEX($B$3:$AI$36,K$59,$E64)","v":"5-2"},{"$f":"INDEX($B$3:$AI$36,$E64,L$59)&\"-\"&INDEX($B$3:$AI$36,L$59,$E64)","v":"-"},{"$f":"INDEX($B$3:$AI$36,$E64,M$59)&\"-\"&INDEX($B$3:$AI$36,M$59,$E64)","v":"-"},{"$f":"INDEX($B$3:$AI$36,$E64,N$59)&\"-\"&INDEX($B$3:$AI$36,N$59,$E64)","v":"-"},{"$f":"INDEX($B$3:$AI$36,$E64,O$59)&\"-\"&INDEX($B$3:$AI$36,O$59,$E64)","v":"4-2"},{"$f":"INDEX($B$3:$AI$36,$E64,P$59)&\"-\"&INDEX($B$3:$AI$36,P$59,$E64)","v":"3-2"},{"$f":"INDEX($B$3:$AI$36,$E64,Q$59)&\"-\"&INDEX($B$3:$AI$36,Q$59,$E64)","v":"8-4"},{"$f":"INDEX($B$3:$AI$36,$E64,R$59)&\"-\"&INDEX($B$3:$AI$36,R$59,$E64)","v":"6-2"},{"$f":"INDEX($B$3:$AI$36,$E64,S$59)&\"-\"&INDEX($B$3:$AI$36,S$59,$E64)","v":"-"},{"$f":"INDEX($B$3:$AI$36,$E64,T$59)&\"-\"&INDEX($B$3:$AI$36,T$59,$E64)","v":"-"},{"$f":"INDEX($B$3:$AI$36,$E64,U$59)&\"-\"&INDEX($B$3:$AI$36,U$59,$E64)","v":"-"},{"$f":"INDEX($B$3:$AI$36,$E64,V$59)&\"-\"&INDEX($B$3:$AI$36,V$59,$E64)","v":"-"},{"$f":"INDEX($B$3:$AI$36,$E64,W$59)&\"-\"&INDEX($B$3:$AI$36,W$59,$E64)","v":"-"},{"$f":"INDEX($B$3:$AI$36,$E64,X$59)&\"-\"&INDEX($B$3:$AI$36,X$59,$E64)","v":"3-0"},{"$f":"INDEX($B$3:$AI$36,$E64,Y$59)&\"-\"&INDEX($B$3:$AI$36,Y$59,$E64)","v":"-"},{"$f":"INDEX($B$3:$AI$36,$E64,Z$59)&\"-\"&INDEX($B$3:$AI$36,Z$59,$E64)","v":"-"},{"$f":"INDEX($B$3:$AI$36,$E64,AA$59)&\"-\"&INDEX($B$3:$AI$36,AA$59,$E64)","v":"-"},{"$f":"INDEX($B$3:$AI$36,$E64,AB$59)&\"-\"&INDEX($B$3:$AI$36,AB$59,$E64)","v":"-"},{"$f":"INDEX($B$3:$AI$36,$E64,AC$59)&\"-\"&INDEX($B$3:$AI$36,AC$59,$E64)","v":"-"},{"$f":"INDEX($B$3:$AI$36,$E64,AD$59)&\"-\"&INDEX($B$3:$AI$36,AD$59,$E64)","v":"-"},{"$f":"INDEX($B$3:$AI$36,$E64,AE$59)&\"-\"&INDEX($B$3:$AI$36,AE$59,$E64)","v":"-"},{"$f":"INDEX($B$3:$AI$36,$E64,AF$59)&\"-\"&INDEX($B$3:$AI$36,AF$59,$E64)","v":"-"},{"$f":"INDEX($B$3:$AI$36,$E64,AG$59)&\"-\"&INDEX($B$3:$AI$36,AG$59,$E64)","v":"-"},{"$f":"INDEX($B$3:$AI$36,$E64,AH$59)&\"-\"&INDEX($B$3:$AI$36,AH$59,$E64)","v":"-"},{"$f":"INDEX($B$3:$AI$36,$E64,AI$59)&\"-\"&INDEX($B$3:$AI$36,AI$59,$E64)","v":"-"},{"$f":"INDEX($B$3:$AI$36,$E64,AJ$59)&\"-\"&INDEX($B$3:$AI$36,AJ$59,$E64)","v":"-"},{"$f":"INDEX($B$3:$AI$36,$E64,AK$59)&\"-\"&INDEX($B$3:$AI$36,AK$59,$E64)","v":"-"},{"$f":"INDEX($B$3:$AI$36,$E64,AL$59)&\"-\"&INDEX($B$3:$AI$36,AL$59,$E64)","v":"-"},{"$f":"INDEX($B$3:$AI$36,$E64,AM$59)&\"-\"&INDEX($B$3:$AI$36,AM$59,$E64)","v":"-"},{"$f":"INDEX($B$3:$AI$36,$E64,AN$59)&\"-\"&INDEX($B$3:$AI$36,AN$59,$E64)","v":"-"}]
[5,6,5,2,2,"302",{"$f":"INDEX($B$3:$AI$36,$E65,G$59)&\"-\"&INDEX($B$3:$AI$36,G$59,$E65)","v":"5-10"},{"$f":"INDEX($B$3:$AI$36,$E65,H$59)&\"-\"&INDEX($B$3:$AI$36,H$59,$E65)","v":"1-5"},{"$f":"INDEX($B$3:$AI$36,$E65,I$59)&\"-\"&INDEX($B$3:$AI$36,I$59,$E65)","v":"-"},{"$f":"INDEX($B$3:$AI$36,$E65,J$59)&\"-\"&INDEX($B$3:$AI$36,J$59,$E65)","v":"2-5"},{"$f":"INDEX($B$3:$AI$36,$E65,K$59)&\"-\"&INDEX($B$3:$AI$36,K$59,$E65)","v":"-"},{"$f":"INDEX($B$3:$AI$36,$E65,L$59)&\"-\"&INDEX($B$3:$AI$36,L$59,$E65)","v":"2-4"},{"$f":"INDEX($B$3:$AI$36,$E65,M$59)&\"-\"&INDEX($B$3:$AI$36,M$59,$E65)","v":"6-5"},{"$f":"INDEX($B$3:$AI$36,$E65,N$59)&\"-\"&INDEX($B$3:$AI$36,N$59,$E65)","v":"7-3"},{"$f":"INDEX($B$3:$AI$36,$E65,O$59)&\"-\"&INDEX($B$3:$AI$36,O$59,$E65)","v":"3-6"},{"$f":"INDEX($B$3:$AI$36,$E65,P$59)&\"-\"&INDEX($B$3:$AI$36,P$59,$E65)","v":"6-0"},{"$f":"INDEX($B$3:$AI$36,$E65,Q$59)&\"-\"&INDEX($B$3:$AI$36,Q$59,$E65)","v":"-"},{"$f":"INDEX($B$3:$AI$36,$E65,R$59)&\"-\"&INDEX($B$3:$AI$36,R$59,$E65)","v":"-"},{"$f":"INDEX($B$3:$AI$36,$E65,S$59)&\"-\"&INDEX($B$3:$AI$36,S$59,$E65)","v":"6-1"},{"$f":"INDEX($B$3:$AI$36,$E65,T$59)&\"-\"&INDEX($B$3:$AI$36,T$59,$E65)","v":"-"},{"$f":"INDEX($B$3:$AI$36,$E65,U$59)&\"-\"&INDEX($B$3:$AI$36,U$59,$E65)","v":"-"},{"$f":"INDEX($B$3:$AI$36,$E65,V$59)&\"-\"&INDEX($B$3:$AI$36,V$59,$E65)","v":"-"},{"$f":"INDEX($B$3:$AI$36,$E65,W$59)&\"-\"&INDEX($B$3:$AI$36,W$59,$E65)","v":"-"},{"$f":"INDEX($B$3:$AI$36,$E65,X$59)&\"-\"&INDEX($B$3:$AI$36,X$59,$E65)","v":"-"},{"$f":"INDEX($B$3:$AI$36,$E65,Y$59)&\"-\"&INDEX($B$3:$AI$36,Y$59,$E65)","v":"-"},{"$f":"INDEX($B$3:$AI$36,$E65,Z$59)&\"-\"&INDEX($B$3:$AI$36,Z$59,$E65)","v":"-"},{"$f":"INDEX($B$3:$AI$36,$E65,AA$59)&\"-\"&INDEX($B$3:$AI$36,AA$59,$E65)","v":"-"},{"$f":"INDEX($B$3:$AI$36,$E65,AB$59)&\"-\"&INDEX($B$3:$AI$36,AB$59,$E65)","v":"-"},{"$f":"INDEX($B$3:$AI$36,$E65,AC$59)&\"-\"&INDEX($B$3:$AI$36,AC$59,$E65)","v":"-"},{"$f":"INDEX($B$3:$AI$36,$E65,AD$59)&\"-\"&INDEX($B$3:$AI$36,AD$59,$E65)","v":"-"},{"$f":"INDEX($B$3:$AI$36,$E65,AE$59)&\"-\"&INDEX($B$3:$AI$36,AE$59,$E65)","v":"-"},{"$f":"INDEX($B$3:$AI$36,$E65,AF$59)&\"-\"&INDEX($B$3:$AI$36,AF$59,$E65)","v":"-"},{"$f":"INDEX($B$3:$AI$36,$E65,AG$59)&\"-\"&INDEX($B$3:$AI$36,AG$59,$E65)","v":"-"},{"$f":"INDEX($B$3:$AI$36,$E65,AH$59)&\"-\"&INDEX($B$3:$AI$36,AH$59,$E65)","v":"-"},{"$f":"INDEX($B$3:$AI$36,$E65,AI$59)&\"-\"&INDEX($B$3:$AI$36,AI$59,$E65)","v":"-"},{"$f":"INDEX($B$3:$AI$36,$E65,AJ$59)&\"-\"&INDEX($B$3:$AI$36,AJ$59,$E65)","v":"-"},{"$f":"INDEX($B$3:$AI$36,$E65,AK$59)&\"-\"&INDEX($B$3:$AI$36,AK$59,$E65)","v":"-"},{"$f":"INDEX($B$3:$AI$36,$E65,AL$59)&\"-\"&INDEX($B$3:$AI$36,AL$59,$E65)","v":"-"},{"$f":"INDEX($B$3:$AI$36,$E65,AM$59)&\"-\"&INDEX($B$3:$AI$36,AM$59,$E65)","v":"-"},{"$f":"INDEX($B$3:$AI$36,$E65,AN$59)&\"-\"&INDEX($B$3:$AI$36,AN$59,$E65)","v":"-"}]
[6,5,6,4,4,"304",{"$f":"INDEX($B$3:$AI$36,$E66,G$59)&\"-\"&INDEX($B$3:$AI$36,G$59,$E66)","v":"0-8"},{"$f":"INDEX($B$3:$AI$36,$E66,H$59)&\"-\"&INDEX($B$3:$AI$36,H$59,$E66)","v":"0-0"},{"$f":"INDEX($B$3:$AI$36,$E66,I$59)&\"-\"&INDEX($B$3:$AI$36,I$59,$E66)","v":"3-4"},{"$f":"INDEX($B$3:$AI$36,$E66,J$59)&\"-\"&INDEX($B$3:$AI$36,J$59,$E66)","v":"-"},{"$f":"INDEX($B$3:$AI$36,$E66,K$59)&\"-\"&INDEX($B$3:$AI$36,K$59,$E66)","v":"4-2"},{"$f":"INDEX($B$3:$AI$36,$E66,L$59)&\"-\"&INDEX($B$3:$AI$36,L$59,$E66)","v":"-"},{"$f":"INDEX($B$3:$AI$36,$E66,M$59)&\"-\"&INDEX($B$3:$AI$36,M$59,$E66)","v":"-"},{"$f":"INDEX($B$3:$AI$36,$E66,N$59)&\"-\"&INDEX($B$3:$AI$36,N$59,$E66)","v":"5-3"},{"$f":"INDEX($B$3:$AI$36,$E66,O$59)&\"-\"&INDEX($B$3:$AI$36,O$59,$E66)","v":"-"},{"$f":"INDEX($B$3:$AI$36,$E66,P$59)&\"-\"&INDEX($B$3:$AI$36,P$59,$E66)","v":"-"},{"$f":"INDEX($B$3:$AI$36,$E66,Q$59)&\"-\"&INDEX($B$3:$AI$36,Q$59,$E66)","v":"-"},{"$f":"INDEX($B$3:$AI$36,$E66,R$59)&\"-\"&INDEX($B$3:$AI$36,R$59,$E66)","v":"4-3"},{"$f":"INDEX($B$3:$AI$36,$E66,S$59)&\"-\"&INDEX($B$3:$AI$36,S$59,$E66)","v":"-"},{"$f":"INDEX($B$3:$AI$36,$E66,T$59)&\"-\"&INDEX($B$3:$AI$36,T$59,$E66)","v":"-"},{"$f":"INDEX($B$3:$AI$36,$E66,U$59)&\"-\"&INDEX($B$3:$AI$36,U$59,$E66)","v":"-"},{"$f":"INDEX($B$3:$AI$36,$E66,V$59)&\"-\"&INDEX($B$3:$AI$36,V$59,$E66)","v":"-"},{"$f":"INDEX($B$3:$AI$36,$E66,W$59)&\"-\"&INDEX($B$3:$AI$36,W$59,$E66)","v":"-"},{"$f":"INDEX($B$3:$AI$36,$E66,X$59)&\"-\"&INDEX($B$3:$AI$36,X$59,$E66)","v":"-"},{"$f":"INDEX($B$3:$AI$36,$E66,Y$59)&\"-\"&INDEX($B$3:$AI$36,Y$59,$E66)","v":"-"},{"$f":"INDEX($B$3:$AI$36,$E66,Z$59)&\"-\"&INDEX($B$3:$AI$36,Z$59,$E66)","v":"-"},{"$f":"INDEX($B$3:$AI$36,$E66,AA$59)&\"-\"&INDEX($B$3:$AI$36,AA$59,$E66)","v":"-"},{"$f":"INDEX($B$3:$AI$36,$E66,AB$59)&\"-\"&INDEX($B$3:$AI$36,AB$59,$E66)","v":"-"},{"$f":"INDEX($B$3:$AI$36,$E66,AC$59)&\"-\"&INDEX($B$3:$AI$36,AC$59,$E66)","v":"-"},{"$f":"INDEX($B$3:$AI$36,$E66,AD$59)&\"-\"&INDEX($B$3:$AI$36,AD$59,$E66)","v":"-"},{"$f":"INDEX($B$3:$AI$36,$E66,AE$59)&\"-\"&INDEX($B$3:$AI$36,AE$59,$E66)","v":"-"},{"$f":"INDEX($B$3:$AI$36,$E66,AF$59)&\"-\"&INDEX($B$3:$AI$36,AF$59,$E66)","v":"-"},{"$f":"INDEX($B$3:$AI$36,$E66,AG$59)&\"-\"&INDEX($B$3:$AI$36,AG$59,$E66)","v":"-"},{"$f":"INDEX($B$3:$AI$36,$E66,AH$59)&\"-\"&INDEX($B$3:$AI$36,AH$59,$E66)","v":"-"},{"$f":"INDEX($B$3:$AI$36,$E66,AI$59)&\"-\"&INDEX($B$3:$AI$36,AI$59,$E66)","v":"-"},{"$f":"INDEX($B$3:$AI$36,$E66,AJ$59)&\"-\"&INDEX($B$3:$AI$36,AJ$59,$E66)","v":"-"},{"$f":"INDEX($B$3:$AI$36,$E66,AK$59)&\"-\"&INDEX($B$3:$AI$36,AK$59,$E66)","v":"-"},{"$f":"INDEX($B$3:$AI$36,$E66,AL$59)&\"-\"&INDEX($B$3:$AI$36,AL$59,$E66)","v":"-"},{"$f":"INDEX($B$3:$AI$36,$E66,AM$59)&\"-\"&INDEX($B$3:$AI$36,AM$59,$E66)","v":"-"},{"$f":"INDEX($B$3:$AI$36,$E66,AN$59)&\"-\"&INDEX($B$3:$AI$36,AN$59,$E66)","v":"-"}]
[7,7,7,12,12,"312",{"$f":"INDEX($B$3:$AI$36,$E67,G$59)&\"-\"&INDEX($B$3:$AI$36,G$59,$E67)","v":"-"},{"$f":"INDEX($B$3:$AI$36,$E67,H$59)&\"-\"&INDEX($B$3:$AI$36,H$59,$E67)","v":"-"},{"$f":"INDEX($B$3:$AI$36,$E67,I$59)&\"-\"&INDEX($B$3:$AI$36,I$59,$E67)","v":"1-2"},{"$f":"INDEX($B$3:$AI$36,$E67,J$59)&\"-\"&INDEX($B$3:$AI$36,J$59,$E67)","v":"-"},{"$f":"INDEX($B$3:$AI$36,$E67,K$59)&\"-\"&INDEX($B$3:$AI$36,K$59,$E67)","v":"5-6"},{"$f":"INDEX($B$3:$AI$36,$E67,L$59)&\"-\"&INDEX($B$3:$AI$36,L$59,$E67)","v":"-"},{"$f":"INDEX($B$3:$AI$36,$E67,M$59)&\"-\"&INDEX($B$3:$AI$36,M$59,$E67)","v":"-"},{"$f":"INDEX($B$3:$AI$36,$E67,N$59)&\"-\"&INDEX($B$3:$AI$36,N$59,$E67)","v":"2-0"},{"$f":"INDEX($B$3:$AI$36,$E67,O$59)&\"-\"&INDEX($B$3:$AI$36,O$59,$E67)","v":"-"},{"$f":"INDEX($B$3:$AI$36,$E67,P$59)&\"-\"&INDEX($B$3:$AI$36,P$59,$E67)","v":"-"},{"$f":"INDEX($B$3:$AI$36,$E67,Q$59)&\"-\"&INDEX($B$3:$AI$36,Q$59,$E67)","v":"7-5"},{"$f":"INDEX($B$3:$AI$36,$E67,R$59)&\"-\"&INDEX($B$3:$AI$36,R$59,$E67)","v":"6-3"},{"$f":"INDEX($B$3:$AI$36,$E67,S$59)&\"-\"&INDEX($B$3:$AI$36,S$59,$E67)","v":"3-1"},{"$f":"INDEX($B$3:$AI$36,$E67,T$59)&\"-\"&INDEX($B$3:$AI$36,T$59,$E67)","v":"-"},{"$f":"INDEX($B$3:$AI$36,$E67,U$59)&\"-\"&INDEX($B$3:$AI$36,U$59,$E67)","v":"5-1"},{"$f":"INDEX($B$3:$AI$36,$E67,V$59)&\"-\"&INDEX($B$3:$AI$36,V$59,$E67)","v":"-"},{"$f":"INDEX($B$3:$AI$36,$E67,W$59)&\"-\"&INDEX($B$3:$AI$36,W$59,$E67)","v":"9-3"},{"$f":"INDEX($B$3:$AI$36,$E67,X$59)&\"-\"&INDEX($B$3:$AI$36,X$59,$E67)","v":"8-2"},{"$f":"INDEX($B$3:$AI$36,$E67,Y$59)&\"-\"&INDEX($B$3:$AI$36,Y$59,$E67)","v":"-"},{"$f":"INDEX($B$3:$AI$36,$E67,Z$59)&\"-\"&INDEX($B$3:$AI$36,Z$59,$E67)","v":"-"},{"$f":"INDEX($B$3:$AI$36,$E67,AA$59)&\"-\"&INDEX($B$3:$AI$36,AA$59,$E67)","v":"-"},{"$f":"INDEX($B$3:$AI$36,$E67,AB$59)&\"-\"&INDEX($B$3:$AI$36,AB$59,$E67)","v":"-"},{"$f":"INDEX($B$3:$AI$36,$E67,AC$59)&\"-\"&INDEX($B$3:$AI$36,AC$59,$E67)","v":"-"},{"$f":"INDEX($B$3:$AI$36,$E67,AD$59)&\"-\"&INDEX($B$3:$AI$36,AD$59,$E67)","v":"-"},{"$f":"INDEX($B$3:$AI$36,$E67,AE$59)&\"-\"&INDEX($B$3:$AI$36,AE$59,$E67)","v":"-"},{"$f":"INDEX($B$3:$AI$36,$E67,AF$59)&\"-\"&INDEX($B$3:$AI$36,AF$59,$E67)","v":"-"},{"$f":"INDEX($B$3:$AI$36,$E67,AG$59)&\"-\"&INDEX($B$3:$AI$36,AG$59,$E67)","v":"-"},{"$f":"INDEX($B$3:$AI$36,$E67,AH$59)&\"-\"&INDEX($B$3:$AI$36,AH$59,$E67)","v":"-"},{"$f":"INDEX($B$3:$AI$36,$E67,AI$59)&\"-\"&INDEX($B$3:$AI$36,AI$59,$E67)","v":"-"},{"$f":"INDEX($B$3:$AI$36,$E67,AJ$59)&\"-\"&INDEX($B$3:$AI$36,AJ$59,$E67)","v":"-"},{"$f":"INDEX($B$3:$AI$36,$E67,AK$59)&\"-\"&INDEX($B$3:$AI$36,AK$59,$E67)","v":"-"},{"$f":"INDEX($B$3:$AI$36,$E67,AL$59)&\"-\"&INDEX($B$3:$AI$36,AL$59,$E67)","v":"-"},{"$f":"INDEX($B$3:$AI$36,$E67,AM$59)&\"-\"&INDEX($B$3:$AI$36,AM$59,$E67)","v":"-"},{"$f":"INDEX($B$3:$AI$36,$E67,AN$59)&\"-\"&INDEX($B$3:$AI$36,AN$59,$E67)","v":"-"}]
[8,8,9,11,11,"311",{"$f":"INDEX($B$3:$AI$36,$E68,G$59)&\"-\"&INDEX($B$3:$AI$36,G$59,$E68)","v":"1-7"},{"$f":"INDEX($B$3:$AI$36,$E68,H$59)&\"-\"&INDEX($B$3:$AI$36,H$59,$E68)","v":"-"},{"$f":"INDEX($B$3:$AI$36,$E68,I$59)&\"-\"&INDEX($B$3:$AI$36,I$59,$E68)","v":"3-6"},{"$f":"INDEX($B$3:$AI$36,$E68,J$59)&\"-\"&INDEX($B$3:$AI$36,J$59,$E68)","v":"-"},{"$f":"INDEX($B$3:$AI$36,$E68,K$59)&\"-\"&INDEX($B$3:$AI$36,K$59,$E68)","v":"3-7"},{"$f":"INDEX($B$3:$AI$36,$E68,L$59)&\"-\"&INDEX($B$3:$AI$36,L$59,$E68)","v":"3-5"},{"$f":"INDEX($B$3:$AI$36,$E68,M$59)&\"-\"&INDEX($B$3:$AI$36,M$59,$E68)","v":"0-2"},{"$f":"INDEX($B$3:$AI$36,$E68,N$59)&\"-\"&INDEX($B$3:$AI$36,N$59,$E68)","v":"-"},{"$f":"INDEX($B$3:$AI$36,$E68,O$59)&\"-\"&INDEX($B$3:$AI$36,O$59,$E68)","v":"2-2"},{"$f":"INDEX($B$3:$AI$36,$E68,P$59)&\"-\"&INDEX($B$3:$AI$36,P$59,$E68)","v":"-"},{"$f":"INDEX($B$3:$AI$36,$E68,Q$59)&\"-\"&INDEX($B$3:$AI$36,Q$59,$E68)","v":"6-0"},{"$f":"INDEX($B$3:$AI$36,$E68,R$59)&\"-\"&INDEX($B$3:$AI$36,R$59,$E68)","v":"10-1"},{"$f":"INDEX($B$3:$AI$36,$E68,S$59)&\"-\"&INDEX($B$3:$AI$36,S$59,$E68)","v":"5-3"},{"$f":"INDEX($B$3:$AI$36,$E68,T$59)&\"-\"&INDEX($B$3:$AI$36,T$59,$E68)","v":"6-5"},{"$f":"INDEX($B$3:$AI$36,$E68,U$59)&\"-\"&INDEX($B$3:$AI$36,U$59,$E68)","v":"-"},{"$f":"INDEX($B$3:$AI$36,$E68,V$59)&\"-\"&INDEX($B$3:$AI$36,V$59,$E68)","v":"-"},{"$f":"INDEX($B$3:$AI$36,$E68,W$59)&\"-\"&INDEX($B$3:$AI$36,W$59,$E68)","v":"-"},{"$f":"INDEX($B$3:$AI$36,$E68,X$59)&\"-\"&INDEX($B$3:$AI$36,X$59,$E68)","v":"-"},{"$f":"INDEX($B$3:$AI$36,$E68,Y$59)&\"-\"&INDEX($B$3:$AI$36,Y$59,$E68)","v":"-"},{"$f":"INDEX($B$3:$AI$36,$E68,Z$59)&\"-\"&INDEX($B$3:$AI$36,Z$59,$E68)","v":"-"},{"$f":"INDEX($B$3:$AI$36,$E68,AA$59)&\"-\"&INDEX($B$3:$AI$36,AA$59,$E68)","v":"-"},{"$f":"INDEX($B$3:$AI$36,$E68,AB$59)&\"-\"&INDEX($B$3:$AI$36,AB$59,$E68)","v":"-"},{"$f":"INDEX($B$3:$AI$36,$E68,AC$59)&\"-\"&INDEX($B$3:$AI$36,AC$59,$E68)","v":"-"},{"$f":"INDEX($B$3:$AI$36,$E68,AD$59)&\"-\"&INDEX($B$3:$AI$36,AD$59,$E68)","v":"-"},{"$f":"INDEX($B$3:$AI$36,$E68,AE$59)&\"-\"&INDEX($B$3:$AI$36,AE$59,$E68)","v":"-"},{"$f":"INDEX($B$3:$AI$36,$E68,AF$59)&\"-\"&INDEX($B$3:$AI$36,AF$59,$E68)","v":"-"},{"$f":"INDEX($B$3:$AI$36,$E68,AG$59)&\"-\"&INDEX($B$3:$AI$36,AG$59,$E68)","v":"-"},{"$f":"INDEX($B$3:$AI$36,$E68,AH$59)&\"-\"&INDEX($B$3:$AI$36,AH$59,$E68)","v":"-"},{"$f":"INDEX($B$3:$AI$36,$E68,AI$59)&\"-\"&INDEX($B$3:$AI$36,AI$59,$E68)","v":"-"},{"$f":"INDEX($B$3:$AI$36,$E68,AJ$59)&\"-\"&INDEX($B$3:$AI$36,AJ$59,$E68)","v":"-"},{"$f":"INDEX($B$3:$AI$36,$E68,AK$59)&\"-\"&INDEX($B$3:$AI$36,AK$59,$E68)","v":"-"},{"$f":"INDEX($B$3:$AI$36,$E68,AL$59)&\"-\"&INDEX($B$3:$AI$36,AL$59,$E68)","v":"-"},{"$f":"INDEX($B$3:$AI$36,$E68,AM$59)&\"-\"&INDEX($B$3:$AI$36,AM$59,$E68)","v":"-"},{"$f":"INDEX($B$3:$AI$36,$E68,AN$59)&\"-\"&INDEX($B$3:$AI$36,AN$59,$E68)","v":"-"}]
[9,9,8,8,8,"308",{"$f":"INDEX($B$3:$AI$36,$E69,G$59)&\"-\"&INDEX($B$3:$AI$36,G$59,$E69)","v":"0-10"},{"$f":"INDEX($B$3:$AI$36,$E69,H$59)&\"-\"&INDEX($B$3:$AI$36,H$59,$E69)","v":"1-4"},{"$f":"INDEX($B$3:$AI$36,$E69,I$59)&\"-\"&INDEX($B$3:$AI$36,I$59,$E69)","v":"1-2"},{"$f":"INDEX($B$3:$AI$36,$E69,J$59)&\"-\"&INDEX($B$3:$AI$36,J$59,$E69)","v":"2-4"},{"$f":"INDEX($B$3:$AI$36,$E69,K$59)&\"-\"&INDEX($B$3:$AI$36,K$59,$E69)","v":"6-3"},{"$f":"INDEX($B$3:$AI$36,$E69,L$59)&\"-\"&INDEX($B$3:$AI$36,L$59,$E69)","v":"-"},{"$f":"INDEX($B$3:$AI$36,$E69,M$59)&\"-\"&INDEX($B$3:$AI$36,M$59,$E69)","v":"-"},{"$f":"INDEX($B$3:$AI$36,$E69,N$59)&\"-\"&INDEX($B$3:$AI$36,N$59,$E69)","v":"2-2"},{"$f":"INDEX($B$3:$AI$36,$E69,O$59)&\"-\"&INDEX($B$3:$AI$36,O$59,$E69)","v":"-"},{"$f":"INDEX($B$3:$AI$36,$E69,P$59)&\"-\"&INDEX($B$3:$AI$36,P$59,$E69)","v":"-"},{"$f":"INDEX($B$3:$AI$36,$E69,Q$59)&\"-\"&INDEX($B$3:$AI$36,Q$59,$E69)","v":"3-2"},{"$f":"INDEX($B$3:$AI$36,$E69,R$59)&\"-\"&INDEX($B$3:$AI$36,R$59,$E69)","v":"2-1"},{"$f":"INDEX($B$3:$AI$36,$E69,S$59)&\"-\"&INDEX($B$3:$AI$36,S$59,$E69)","v":"3-2"},{"$f":"INDEX($B$3:$AI$36,$E69,T$59)&\"-\"&INDEX($B$3:$AI$36,T$59,$E69)","v":"-"},{"$f":"INDEX($B$3:$AI$36,$E69,U$59)&\"-\"&INDEX($B$3:$AI$36,U$59,$E69)","v":"-"},{"$f":"INDEX($B$3:$AI$36,$E69,V$59)&\"-\"&INDEX($B$3:$AI$36,V$59,$E69)","v":"-"},{"$f":"INDEX($B$3:$AI$36,$E69,W$59)&\"-\"&INDEX($B$3:$AI$36,W$59,$E69)","v":"-"},{"$f":"INDEX($B$3:$AI$36,$E69,X$59)&\"-\"&INDEX($B$3:$AI$36,X$59,$E69)","v":"-"},{"$f":"INDEX($B$3:$AI$36,$E69,Y$59)&\"-\"&INDEX($B$3:$AI$36,Y$59,$E69)","v":"-"},{"$f":"INDEX($B$3:$AI$36,$E69,Z$59)&\"-\"&INDEX($B$3:$AI$36,Z$59,$E69)","v":"-"},{"$f":"INDEX($B$3:$AI$36,$E69,AA$59)&\"-\"&INDEX($B$3:$AI$36,AA$59,$E69)","v":"-"},{"$f":"INDEX($B$3:$AI$36,$E69,AB$59)&\"-\"&INDEX($B$3:$AI$36,AB$59,$E69)","v":"-"},{"$f":"INDEX($B$3:$AI$36,$E69,AC$59)&\"-\"&INDEX($B$3:$AI$36,AC$59,$E69)","v":"-"},{"$f":"INDEX($B$3:$AI$36,$E69,AD$59)&\"-\"&INDEX($B$3:$AI$36,AD$59,$E69)","v":"-"},{"$f":"INDEX($B$3:$AI$36,$E69,AE$59)&\"-\"&INDEX($B$3:$AI$36,AE$59,$E69)","v":"-"},{"$f":"INDEX($B$3:$AI$36,$E69,AF$59)&\"-\"&INDEX($B$3:$AI$36,AF$59,$E69)","v":"-"},{"$f":"INDEX($B$3:$AI$36,$E69,AG$59)&\"-\"&INDEX($B$3:$AI$36,AG$59,$E69)","v":"-"},{"$f":"INDEX($B$3:$AI$36,$E69,AH$59)&\"-\"&INDEX($B$3:$AI$36,AH$59,$E69)","v":"-"},{"$f":"INDEX($B$3:$AI$36,$E69,AI$59)&\"-\"&INDEX($B$3:$AI$36,AI$59,$E69)","v":"-"},{"$f":"INDEX($B$3:$AI$36,$E69,AJ$59)&\"-\"&INDEX($B$3:$AI$36,AJ$59,$E69)","v":"-"},{"$f":"INDEX($B$3:$AI$36,$E69,AK$59)&\"-\"&INDEX($B$3:$AI$36,AK$59,$E69)","v":"-"},{"$f":"INDEX($B$3:$AI$36,$E69,AL$59)&\"-\"&INDEX($B$3:$AI$36,AL$59,$E69)","v":"-"},{"$f":"INDEX($B$3:$AI$36,$E69,AM$59)&\"-\"&INDEX($B$3:$AI$36,AM$59,$E69)","v":"-"},{"$f":"INDEX($B$3:$AI$36,$E69,AN$59)&\"-\"&INDEX($B$3:$AI$36,AN$59,$E69)","v":"-"}]
[10,10,11,15,15,"315",{"$f":"INDEX($B$3:$AI$36,$E70,G$59)&\"-\"&INDEX($B$3:$AI$36,G$59,$E70)","v":"-"},{"$f":"INDEX($B$3:$AI$36,$E70,H$59)&\"-\"&INDEX($B$3:$AI$36,H$59,$E70)","v":"-"},{"$f":"INDEX($B$3:$AI$36,$E70,I$59)&\"-\"&INDEX($B$3:$AI$36,I$59,$E70)","v":"-"},{"$f":"INDEX($B$3:$AI$36,$E70,J$59)&\"-\"&INDEX($B$3:$AI$36,J$59,$E70)","v":"2-3"},{"$f":"INDEX($B$3:$AI$36,$E70,K$59)&\"-\"&INDEX($B$3:$AI$36,K$59,$E70)","v":"0-6"},{"$f":"INDEX($B$3:$AI$36,$E70,L$59)&\"-\"&INDEX($B$3:$AI$36,L$59,$E70)","v":"-"},{"$f":"INDEX($B$3:$AI$36,$E70,M$59)&\"-\"&INDEX($B$3:$AI$36,M$59,$E70)","v":"-"},{"$f":"INDEX($B$3:$AI$36,$E70,N$59)&\"-\"&INDEX($B$3:$AI$36,N$59,$E70)","v":"-"},{"$f":"INDEX($B$3:$AI$36,$E70,O$59)&\"-\"&INDEX($B$3:$AI$36,O$59,$E70)","v":"-"},{"$f":"INDEX($B$3:$AI$36,$E70,P$59)&\"-\"&INDEX($B$3:$AI$36,P$59,$E70)","v":"-"},{"$f":"INDEX($B$3:$AI$36,$E70,Q$59)&\"-\"&INDEX($B$3:$AI$36,Q$59,$E70)","v":"1-4"},{"$f":"INDEX($B$3:$AI$36,$E70,R$59)&\"-\"&INDEX($B$3:$AI$36,R$59,$E70)","v":"-"},{"$f":"INDEX($B$3:$AI$36,$E70,S$59)&\"-\"&INDEX($B$3:$AI$36,S$59,$E70)","v":"6-0"},{"$f":"INDEX($B$3:$AI$36,$E70,T$59)&\"-\"&INDEX($B$3:$AI$36,T$59,$E70)","v":"8-4"},{"$f":"INDEX($B$3:$AI$36,$E70,U$59)&\"-\"&INDEX($B$3:$AI$36,U$59,$E70)","v":"9-3"},{"$f":"INDEX($B$3:$AI$36,$E70,V$59)&\"-\"&INDEX($B$3:$AI$36,V$59,$E70)","v":"-"},{"$f":"INDEX($B$3:$AI$36,$E70,W$59)&\"-\"&INDEX($B$3:$AI$36,W$59,$E70)","v":"10-1"},{"$f":"INDEX($B$3:$AI$36,$E70,X$59)&\"-\"&INDEX($B$3:$AI$36,X$59,$E70)","v":"-"},{"$f":"INDEX($B$3:$AI$36,$E70,Y$59)&\"-\"&INDEX($B$3:$AI$36,Y$59,$E70)","v":"-"},{"$f":"INDEX($B$3:$AI$36,$E70,Z$59)&\"-\"&INDEX($B$3:$AI$36,Z$59,$E70)","v":"-"},{"$f":"INDEX($B$3:$AI$36,$E70,AA$59)&\"-\"&INDEX($B$3:$AI$36,AA$59,$E70)","v":"6-0"},{"$f":"INDEX($B$3:$AI$36,$E70,AB$59)&\"-\"&INDEX($B$3:$AI$36,AB$59,$E70)","v":"-"},{"$f":"INDEX($B$3:$AI$36,$E70,AC$59)&\"-\"&INDEX($B$3:$AI$36,AC$59,$E70)","v":"-"},{"$f":"INDEX($B$3:$AI$36,$E70,AD$59)&\"-\"&INDEX($B$3:$AI$36,AD$59,$E70)","v":"-"},{"$f":"INDEX($B$3:$AI$36,$E70,AE$59)&\"-\"&INDEX($B$3:$AI$36,AE$59,$E70)","v":"-"},{"$f":"INDEX($B$3:$AI$36,$E70,AF$59)&\"-\"&INDEX($B$3:$AI$36,AF$59,$E70)","v":"-"},{"$f":"INDEX($B$3:$AI$36,$E70,AG$59)&\"-\"&INDEX($B$3:$AI$36,AG$59,$E70)","v":"-"},{"$f":"INDEX($B$3:$AI$36,$E70,AH$59)&\"-\"&INDEX($B$3:$AI$36,AH$59,$E70)","v":"-"},{"$f":"INDEX($B$3:$AI$36,$E70,AI$59)&\"-\"&INDEX($B$3:$AI$36,AI$59,$E70)","v":"-"},{"$f":"INDEX($B$3:$AI$36,$E70,AJ$59)&\"-\"&INDEX($B$3:$AI$36,AJ$59,$E70)","v":"-"},{"$f":"INDEX($B$3:$AI$36,$E70,AK$59)&\"-\"&INDEX($B$3:$AI$36,AK$59,$E70)","v":"-"},{"$f":"INDEX($B$3:$AI$36,$E70,AL$59)&\"-\"&INDEX($B$3:$AI$36,AL$59,$E70)","v":"-"},{"$f":"INDEX($B$3:$AI$36,$E70,AM$59)&\"-\"&INDEX($B$3:$AI$36,AM$59,$E70)","v":"-"},{"$f":"INDEX($B$3:$AI$36,$E70,AN$59)&\"-\"&INDEX($B$3:$AI$36,AN$59,$E70)","v":"-"}]
[11,11,10,10,10,"310",{"$f":"INDEX($B$3:$AI$36,$E71,G$59)&\"-\"&INDEX($B$3:$AI$36,G$59,$E71)","v":"-"},{"$f":"INDEX($B$3:$AI$36,$E71,H$59)&\"-\"&INDEX($B$3:$AI$36,H$59,$E71)","v":"-"},{"$f":"INDEX($B$3:$AI$36,$E71,I$59)&\"-\"&INDEX($B$3:$AI$36,I$59,$E71)","v":"1-8"},{"$f":"INDEX($B$3:$AI$36,$E71,J$59)&\"-\"&INDEX($B$3:$AI$36,J$59,$E71)","v":"4-8"},{"$f":"INDEX($B$3:$AI$36,$E71,K$59)&\"-\"&INDEX($B$3:$AI$36,K$59,$E71)","v":"-"},{"$f":"INDEX($B$3:$AI$36,$E71,L$59)&\"-\"&INDEX($B$3:$AI$36,L$59,$E71)","v":"-"},{"$f":"INDEX($B$3:$AI$36,$E71,M$59)&\"-\"&INDEX($B$3:$AI$36,M$59,$E71)","v":"5-7"},{"$f":"INDEX($B$3:$AI$36,$E71,N$59)&\"-\"&INDEX($B$3:$AI$36,N$59,$E71)","v":"0-6"},{"$f":"INDEX($B$3:$AI$36,$E71,O$59)&\"-\"&INDEX($B$3:$AI$36,O$59,$E71)","v":"2-3"},{"$f":"INDEX($B$3:$AI$36,$E71,P$59)&\"-\"&INDEX($B$3:$AI$36,P$59,$E71)","v":"4-1"},{"$f":"INDEX($B$3:$AI$36,$E71,Q$59)&\"-\"&INDEX($B$3:$AI$36,Q$59,$E71)","v":"-"},{"$f":"INDEX($B$3:$AI$36,$E71,R$59)&\"-\"&INDEX($B$3:$AI$36,R$59,$E71)","v":"2-5"},{"$f":"INDEX($B$3:$AI$36,$E71,S$59)&\"-\"&INDEX($B$3:$AI$36,S$59,$E71)","v":"3-2"},{"$f":"INDEX($B$3:$AI$36,$E71,T$59)&\"-\"&INDEX($B$3:$AI$36,T$59,$E71)","v":"-"},{"$f":"INDEX($B$3:$AI$36,$E71,U$59)&\"-\"&INDEX($B$3:$AI$36,U$59,$E71)","v":"7-1"},{"$f":"INDEX($B$3:$AI$36,$E71,V$59)&\"-\"&INDEX($B$3:$AI$36,V$59,$E71)","v":"12-2"},{"$f":"INDEX($B$3:$AI$36,$E71,W$59)&\"-\"&INDEX($B$3:$AI$36,W$59,$E71)","v":"-"},{"$f":"INDEX($B$3:$AI$36,$E71,X$59)&\"-\"&INDEX($B$3:$AI$36,X$59,$E71)","v":"-"},{"$f":"INDEX($B$3:$AI$36,$E71,Y$59)&\"-\"&INDEX($B$3:$AI$36,Y$59,$E71)","v":"-"},{"$f":"INDEX($B$3:$AI$36,$E71,Z$59)&\"-\"&INDEX($B$3:$AI$36,Z$59,$E71)","v":"-"},{"$f":"INDEX($B$3:$AI$36,$E71,AA$59)&\"-\"&INDEX($B$3:$AI$36,AA$59,$E71)","v":"-"},{"$f":"INDEX($B$3:$AI$36,$E71,AB$59)&\"-\"&INDEX($B$3:$AI$36,AB$59,$E71)","v":"-"},{"$f":"INDEX($B$3:$AI$36,$E71,AC$59)&\"-\"&INDEX($B$3:$AI$36,AC$59,$E71)","v":"-"},{"$f":"INDEX($B$3:$AI$36,$E71,AD$59)&\"-\"&INDEX($B$3:$AI$36,AD$59,$E71)","v":"-"},{"$f":"INDEX($B$3:$AI$36,$E71,AE$59)&\"-\"&INDEX($B$3:$AI$36,AE$59,$E71)","v":"-"},{"$f":"INDEX($B$3:$AI$36,$E71,AF$59)&\"-\"&INDEX($B$3:$AI$36,AF$59,$E71)","v":"-"},{"$f":"INDEX($B$3:$AI$36,$E71,AG$59)&\"-\"&INDEX($B$3:$AI$36,AG$59,$E71)","v":"-"},{"$f":"INDEX($B$3:$AI$36,$E71,AH$59)&\"-\"&INDEX($B$3:$AI$36,AH$59,$E71)","v":"-"},{"$f":"INDEX($B$3:$AI$36,$E71,AI$59)&\"-\"&INDEX($B$3:$AI$36,AI$59,$E71)","v":"-"},{"$f":"INDEX($B$3:$AI$36,$E71,AJ$59)&\"-\"&INDEX($B$3:$AI$36,AJ$59,$E71)","v":"-"},{"$f":"INDEX($B$3:$AI$36,$E71,AK$59)&\"-\"&INDEX($B$3:$AI$36,AK$59,$E71)","v":"-"},{"$f":"INDEX($B$3:$AI$36,$E71,AL$59)&\"-\"&INDEX($B$3:$AI$36,AL$59,$E71)","v":"-"},{"$f":"INDEX($B$3:$AI$36,$E71,AM$59)&\"-\"&INDEX($B$3:$AI$36,AM$59,$E71)","v":"-"},{"$f":"INDEX($B$3:$AI$36,$E71,AN$59)&\"-\"&INDEX($B$3:$AI$36,AN$59,$E71)","v":"-"}]
[12,12,12,7,7,"307",{"$f":"INDEX($B$3:$AI$36,$E72,G$59)&\"-\"&INDEX($B$3:$AI$36,G$59,$E72)","v":"-"},{"$f":"INDEX($B$3:$AI$36,$E72,H$59)&\"-\"&INDEX($B$3:$AI$36,H$59,$E72)","v":"1-6"},{"$f":"INDEX($B$3:$AI$36,$E72,I$59)&\"-\"&INDEX($B$3:$AI$36,I$59,$E72)","v":"1-9"},{"$f":"INDEX($B$3:$AI$36,$E72,J$59)&\"-\"&INDEX($B$3:$AI$36,J$59,$E72)","v":"2-6"},{"$f":"INDEX($B$3:$AI$36,$E72,K$59)&\"-\"&INDEX($B$3:$AI$36,K$59,$E72)","v":"-"},{"$f":"INDEX($B$3:$AI$36,$E72,L$59)&\"-\"&INDEX($B$3:$AI$36,L$59,$E72)","v":"3-4"},{"$f":"INDEX($B$3:$AI$36,$E72,M$59)&\"-\"&INDEX($B$3:$AI$36,M$59,$E72)","v":"3-6"},{"$f":"INDEX($B$3:$AI$36,$E72,N$59)&\"-\"&INDEX($B$3:$AI$36,N$59,$E72)","v":"1-10"},{"$f":"INDEX($B$3:$AI$36,$E72,O$59)&\"-\"&INDEX($B$3:$AI$36,O$59,$E72)","v":"1-2"},{"$f":"INDEX($B$3:$AI$36,$E72,P$59)&\"-\"&INDEX($B$3:$AI$36,P$59,$E72)","v":"-"},{"$f":"INDEX($B$3:$AI$36,$E72,Q$59)&\"-\"&INDEX($B$3:$AI$36,Q$59,$E72)","v":"5-2"},{"$f":"INDEX($B$3:$AI$36,$E72,R$59)&\"-\"&INDEX($B$3:$AI$36,R$59,$E72)","v":"-"},{"$f":"INDEX($B$3:$AI$36,$E72,S$59)&\"-\"&INDEX($B$3:$AI$36,S$59,$E72)","v":"7-4"},{"$f":"INDEX($B$3:$AI$36,$E72,T$59)&\"-\"&INDEX($B$3:$AI$36,T$59,$E72)","v":"-"},{"$f":"INDEX($B$3:$AI$36,$E72,U$59)&\"-\"&INDEX($B$3:$AI$36,U$59,$E72)","v":"-"},{"$f":"INDEX($B$3:$AI$36,$E72,V$59)&\"-\"&INDEX($B$3:$AI$36,V$59,$E72)","v":"-"},{"$f":"INDEX($B$3:$AI$36,$E72,W$59)&\"-\"&INDEX($B$3:$AI$36,W$59,$E72)","v":"-"},{"$f":"INDEX($B$3:$AI$36,$E72,X$59)&\"-\"&INDEX($B$3:$AI$36,X$59,$E72)","v":"6-3"},{"$f":"INDEX($B$3:$AI$36,$E72,Y$59)&\"-\"&INDEX($B$3:$AI$36,Y$59,$E72)","v":"-"},{"$f":"INDEX($B$3:$AI$36,$E72,Z$59)&\"-\"&INDEX($B$3:$AI$36,Z$59,$E72)","v":"-"},{"$f":"INDEX($B$3:$AI$36,$E72,AA$59)&\"-\"&INDEX($B$3:$AI$36,AA$59,$E72)","v":"-"},{"$f":"INDEX($B$3:$AI$36,$E72,AB$59)&\"-\"&INDEX($B$3:$AI$36,AB$59,$E72)","v":"-"},{"$f":"INDEX($B$3:$AI$36,$E72,AC$59)&\"-\"&INDEX($B$3:$AI$36,AC$59,$E72)","v":"-"},{"$f":"INDEX($B$3:$AI$36,$E72,AD$59)&\"-\"&INDEX($B$3:$AI$36,AD$59,$E72)","v":"-"},{"$f":"INDEX($B$3:$AI$36,$E72,AE$59)&\"-\"&INDEX($B$3:$AI$36,AE$59,$E72)","v":"-"},{"$f":"INDEX($B$3:$AI$36,$E72,AF$59)&\"-\"&INDEX($B$3:$AI$36,AF$59,$E72)","v":"-"},{"$f":"INDEX($B$3:$AI$36,$E72,AG$59)&\"-\"&INDEX($B$3:$AI$36,AG$59,$E72)","v":"-"},{"$f":"INDEX($B$3:$AI$36,$E72,AH$59)&\"-\"&INDEX($B$3:$AI$36,AH$59,$E72)","v":"-"},{"$f":"INDEX($B$3:$AI$36,$E72,AI$59)&\"-\"&INDEX($B$3:$AI$36,AI$59,$E72)","v":"-"},{"$f":"INDEX($B$3:$AI$36,$E72,AJ$59)&\"-\"&INDEX($B$3:$AI$36,AJ$59,$E72)","v":"-"},{"$f":"INDEX($B$3:$AI$36,$E72,AK$59)&\"-\"&INDEX($B$3:$AI$36,AK$59,$E72)","v":"-"},{"$f":"INDEX($B$3:$AI$36,$E72,AL$59)&\"-\"&INDEX($B$3:$AI$36,AL$59,$E72)","v":"-"},{"$f":"INDEX($B$3:$AI$36,$E72,AM$59)&\"-\"&INDEX($B$3:$AI$36,AM$59,$E72)","v":"-"},{"$f":"INDEX($B$3:$AI$36,$E72,AN$59)&\"-\"&INDEX($B$3:$AI$36,AN$59,$E72)","v":"-"}]
[13,13,13,9,9,"309",{"$f":"INDEX($B$3:$AI$36,$E73,G$59)&\"-\"&INDEX($B$3:$AI$36,G$59,$E73)","v":"-"},{"$f":"INDEX($B$3:$AI$36,$E73,H$59)&\"-\"&INDEX($B$3:$AI$36,H$59,$E73)","v":"-"},{"$f":"INDEX($B$3:$AI$36,$E73,I$59)&\"-\"&INDEX($B$3:$AI$36,I$59,$E73)","v":"1-7"},{"$f":"INDEX($B$3:$AI$36,$E73,J$59)&\"-\"&INDEX($B$3:$AI$36,J$59,$E73)","v":"-"},{"$f":"INDEX($B$3:$AI$36,$E73,K$59)&\"-\"&INDEX($B$3:$AI$36,K$59,$E73)","v":"1-6"},{"$f":"INDEX($B$3:$AI$36,$E73,L$59)&\"-\"&INDEX($B$3:$AI$36,L$59,$E73)","v":"-"},{"$f":"INDEX($B$3:$AI$36,$E73,M$59)&\"-\"&INDEX($B$3:$AI$36,M$59,$E73)","v":"1-3"},{"$f":"INDEX($B$3:$AI$36,$E73,N$59)&\"-\"&INDEX($B$3:$AI$36,N$59,$E73)","v":"3-5"},{"$f":"INDEX($B$3:$AI$36,$E73,O$59)&\"-\"&INDEX($B$3:$AI$36,O$59,$E73)","v":"2-3"},{"$f":"INDEX($B$3:$AI$36,$E73,P$59)&\"-\"&INDEX($B$3:$AI$36,P$59,$E73)","v":"0-6"},{"$f":"INDEX($B$3:$AI$36,$E73,Q$59)&\"-\"&INDEX($B$3:$AI$36,Q$59,$E73)","v":"2-3"},{"$f":"INDEX($B$3:$AI$36,$E73,R$59)&\"-\"&INDEX($B$3:$AI$36,R$59,$E73)","v":"4-7"},{"$f":"INDEX($B$3:$AI$36,$E73,S$59)&\"-\"&INDEX($B$3:$AI$36,S$59,$E73)","v":"-"},{"$f":"INDEX($B$3:$AI$36,$E73,T$59)&\"-\"&INDEX($B$3:$AI$36,T$59,$E73)","v":"-"},{"$f":"INDEX($B$3:$AI$36,$E73,U$59)&\"-\"&INDEX($B$3:$AI$36,U$59,$E73)","v":"-"},{"$f":"INDEX($B$3:$AI$36,$E73,V$59)&\"-\"&INDEX($B$3:$AI$36,V$59,$E73)","v":"-"},{"$f":"INDEX($B$3:$AI$36,$E73,W$59)&\"-\"&INDEX($B$3:$AI$36,W$59,$E73)","v":"-"},{"$f":"INDEX($B$3:$AI$36,$E73,X$59)&\"-\"&INDEX($B$3:$AI$36,X$59,$E73)","v":"7-0"},{"$f":"INDEX($B$3:$AI$36,$E73,Y$59)&\"-\"&INDEX($B$3:$AI$36,Y$59,$E73)","v":"-"},{"$f":"INDEX($B$3:$AI$36,$E73,Z$59)&\"-\"&INDEX($B$3:$AI$36,Z$59,$E73)","v":"-"},{"$f":"INDEX($B$3:$AI$36,$E73,AA$59)&\"-\"&INDEX($B$3:$AI$36,AA$59,$E73)","v":"-"},{"$f":"INDEX($B$3:$AI$36,$E73,AB$59)&\"-\"&INDEX($B$3:$AI$36,AB$59,$E73)","v":"-"},{"$f":"INDEX($B$3:$AI$36,$E73,AC$59)&\"-\"&INDEX($B$3:$AI$36,AC$59,$E73)","v":"-"},{"$f":"INDEX($B$3:$AI$36,$E73,AD$59)&\"-\"&INDEX($B$3:$AI$36,AD$59,$E73)","v":"-"},{"$f":"INDEX($B$3:$AI$36,$E73,AE$59)&\"-\"&INDEX($B$3:$AI$36,AE$59,$E73)","v":"-"},{"$f":"INDEX($B$3:$AI$36,$E73,AF$59)&\"-\"&INDEX($B$3:$AI$36,AF$59,$E73)","v":"-"},{"$f":"INDEX($B$3:$AI$36,$E73,AG$59)&\"-\"&INDEX($B$3:$AI$36,AG$59,$E73)","v":"-"},{"$f":"INDEX($B$3:$AI$36,$E73,AH$59)&\"-\"&INDEX($B$3:$AI$36,AH$59,$E73)","v":"-"},{"$f":"INDEX($B$3:$AI$36,$E73,AI$59)&\"-\"&INDEX($B$3:$AI$36,AI$59,$E73)","v":"-"},{"$f":"INDEX($B$3:$AI$36,$E73,AJ$59)&\"-\"&INDEX($B$3:$AI$36,AJ$59,$E73)","v":"-"},{"$f":"INDEX($B$3:$AI$36,$E73,AK$59)&\"-\"&INDEX($B$3:$AI$36,AK$59,$E73)","v":"-"},{"$f":"INDEX($B$3:$AI$36,$E73,AL$59)&\"-\"&INDEX($B$3:$AI$36,AL$59,$E73)","v":"-"},{"$f":"INDEX($B$3:$AI$36,$E73,AM$59)&\"-\"&INDEX($B$3:$AI$36,AM$59,$E73)","v":"-"},{"$f":"INDEX($B$3:$AI$36,$E73,AN$59)&\"-\"&INDEX($B$3:$AI$36,AN$59,$E73)","v":"-"}]
[14,14,14,18,18,"318",{"$f":"INDEX($B$3:$AI$36,$E74,G$59)&\"-\"&INDEX($B$3:$AI$36,G$59,$E74)","v":"-"},{"$f":"INDEX($B$3:$AI$36,$E74,H$59)&\"-\"&INDEX($B$3:$AI$36,H$59,$E74)","v":"-"},{"$f":"INDEX($B$3:$AI$36,$E74,I$59)&\"-\"&INDEX($B$3:$AI$36,I$59,$E74)","v":"-"},{"$f":"INDEX($B$3:$AI$36,$E74,J$59)&\"-\"&INDEX($B$3:$AI$36,J$59,$E74)","v":"-"},{"$f":"INDEX($B$3:$AI$36,$E74,K$59)&\"-\"&INDEX($B$3:$AI$36,K$59,$E74)","v":"-"},{"$f":"INDEX($B$3:$AI$36,$E74,L$59)&\"-\"&INDEX($B$3:$AI$36,L$59,$E74)","v":"-"},{"$f":"INDEX($B$3:$AI$36,$E74,M$59)&\"-\"&INDEX($B$3:$AI$36,M$59,$E74)","v":"-"},{"$f":"INDEX($B$3:$AI$36,$E74,N$59)&\"-\"&INDEX($B$3:$AI$36,N$59,$E74)","v":"5-6"},{"$f":"INDEX($B$3:$AI$36,$E74,O$59)&\"-\"&INDEX($B$3:$AI$36,O$59,$E74)","v":"-"},{"$f":"INDEX($B$3:$AI$36,$E74,P$59)&\"-\"&INDEX($B$3:$AI$36,P$59,$E74)","v":"4-8"},{"$f":"INDEX($B$3:$AI$36,$E74,Q$59)&\"-\"&INDEX($B$3:$AI$36,Q$59,$E74)","v":"-"},{"$f":"INDEX($B$3:$AI$36,$E74,R$59)&\"-\"&INDEX($B$3:$AI$36,R$59,$E74)","v":"-"},{"$f":"INDEX($B$3:$AI$36,$E74,S$59)&\"-\"&INDEX($B$3:$AI$36,S$59,$E74)","v":"-"},{"$f":"INDEX($B$3:$AI$36,$E74,T$59)&\"-\"&INDEX($B$3:$AI$36,T$59,$E74)","v":"-"},{"$f":"INDEX($B$3:$AI$36,$E74,U$59)&\"-\"&INDEX($B$3:$AI$36,U$59,$E74)","v":"1-3"},{"$f":"INDEX($B$3:$AI$36,$E74,V$59)&\"-\"&INDEX($B$3:$AI$36,V$59,$E74)","v":"8-3"},{"$f":"INDEX($B$3:$AI$36,$E74,W$59)&\"-\"&INDEX($B$3:$AI$36,W$59,$E74)","v":"7-2"},{"$f":"INDEX($B$3:$AI$36,$E74,X$59)&\"-\"&INDEX($B$3:$AI$36,X$59,$E74)","v":"6-3"},{"$f":"INDEX($B$3:$AI$36,$E74,Y$59)&\"-\"&INDEX($B$3:$AI$36,Y$59,$E74)","v":"-"},{"$f":"INDEX($B$3:$AI$36,$E74,Z$59)&\"-\"&INDEX($B$3:$AI$36,Z$59,$E74)","v":"5-1"},{"$f":"INDEX($B$3:$AI$36,$E74,AA$59)&\"-\"&INDEX($B$3:$AI$36,AA$59,$E74)","v":"10-0"},{"$f":"INDEX($B$3:$AI$36,$E74,AB$59)&\"-\"&INDEX($B$3:$AI$36,AB$59,$E74)","v":"-"},{"$f":"INDEX($B$3:$AI$36,$E74,AC$59)&\"-\"&INDEX($B$3:$AI$36,AC$59,$E74)","v":"-"},{"$f":"INDEX($B$3:$AI$36,$E74,AD$59)&\"-\"&INDEX($B$3:$AI$36,AD$59,$E74)","v":"-"},{"$f":"INDEX($B$3:$AI$36,$E74,AE$59)&\"-\"&INDEX($B$3:$AI$36,AE$59,$E74)","v":"-"},{"$f":"INDEX($B$3:$AI$36,$E74,AF$59)&\"-\"&INDEX($B$3:$AI$36,AF$59,$E74)","v":"-"},{"$f":"INDEX($B$3:$AI$36,$E74,AG$59)&\"-\"&INDEX($B$3:$AI$36,AG$59,$E74)","v":"-"},{"$f":"INDEX($B$3:$AI$36,$E74,AH$59)&\"-\"&INDEX($B$3:$AI$36,AH$59,$E74)","v":"-"},{"$f":"INDEX($B$3:$AI$36,$E74,AI$59)&\"-\"&INDEX($B$3:$AI$36,AI$59,$E74)","v":"-"},{"$f":"INDEX($B$3:$AI$36,$E74,AJ$59)&\"-\"&INDEX($B$3:$AI$36,AJ$59,$E74)","v":"-"},{"$f":"INDEX($B$3:$AI$36,$E74,AK$59)&\"-\"&INDEX($B$3:$AI$36,AK$59,$E74)","v":"-"},{"$f":"INDEX($B$3:$AI$36,$E74,AL$59)&\"-\"&INDEX($B$3:$AI$36,AL$59,$E74)","v":"-"},{"$f":"INDEX($B$3:$AI$36,$E74,AM$59)&\"-\"&INDEX($B$3:$AI$36,AM$59,$E74)","v":"12-0"},{"$f":"INDEX($B$3:$AI$36,$E74,AN$59)&\"-\"&INDEX($B$3:$AI$36,AN$59,$E74)","v":"-"}]
[15,15,15,13,13,"313",{"$f":"INDEX($B$3:$AI$36,$E75,G$59)&\"-\"&INDEX($B$3:$AI$36,G$59,$E75)","v":"-"},{"$f":"INDEX($B$3:$AI$36,$E75,H$59)&\"-\"&INDEX($B$3:$AI$36,H$59,$E75)","v":"-"},{"$f":"INDEX($B$3:$AI$36,$E75,I$59)&\"-\"&INDEX($B$3:$AI$36,I$59,$E75)","v":"-"},{"$f":"INDEX($B$3:$AI$36,$E75,J$59)&\"-\"&INDEX($B$3:$AI$36,J$59,$E75)","v":"-"},{"$f":"INDEX($B$3:$AI$36,$E75,K$59)&\"-\"&INDEX($B$3:$AI$36,K$59,$E75)","v":"-"},{"$f":"INDEX($B$3:$AI$36,$E75,L$59)&\"-\"&INDEX($B$3:$AI$36,L$59,$E75)","v":"-"},{"$f":"INDEX($B$3:$AI$36,$E75,M$59)&\"-\"&INDEX($B$3:$AI$36,M$59,$E75)","v":"1-5"},{"$f":"INDEX($B$3:$AI$36,$E75,N$59)&\"-\"&INDEX($B$3:$AI$36,N$59,$E75)","v":"-"},{"$f":"INDEX($B$3:$AI$36,$E75,O$59)&\"-\"&INDEX($B$3:$AI$36,O$59,$E75)","v":"-"},{"$f":"INDEX($B$3:$AI$36,$E75,P$59)&\"-\"&INDEX($B$3:$AI$36,P$59,$E75)","v":"3-9"},{"$f":"INDEX($B$3:$AI$36,$E75,Q$59)&\"-\"&INDEX($B$3:$AI$36,Q$59,$E75)","v":"1-7"},{"$f":"INDEX($B$3:$AI$36,$E75,R$59)&\"-\"&INDEX($B$3:$AI$36,R$59,$E75)","v":"-"},{"$f":"INDEX($B$3:$AI$36,$E75,S$59)&\"-\"&INDEX($B$3:$AI$36,S$59,$E75)","v":"-"},{"$f":"INDEX($B$3:$AI$36,$E75,T$59)&\"-\"&INDEX($B$3:$AI$36,T$59,$E75)","v":"3-1"},{"$f":"INDEX($B$3:$AI$36,$E75,U$59)&\"-\"&INDEX($B$3:$AI$36,U$59,$E75)","v":"-"},{"$f":"INDEX($B$3:$AI$36,$E75,V$59)&\"-\"&INDEX($B$3:$AI$36,V$59,$E75)","v":"7-6"},{"$f":"INDEX($B$3:$AI$36,$E75,W$59)&\"-\"&INDEX($B$3:$AI$36,W$59,$E75)","v":"7-0"},{"$f":"INDEX($B$3:$AI$36,$E75,X$59)&\"-\"&INDEX($B$3:$AI$36,X$59,$E75)","v":"3-2"},{"$f":"INDEX($B$3:$AI$36,$E75,Y$59)&\"-\"&INDEX($B$3:$AI$36,Y$59,$E75)","v":"-"},{"$f":"INDEX($B$3:$AI$36,$E75,Z$59)&\"-\"&INDEX($B$3:$AI$36,Z$59,$E75)","v":"7-3"},{"$f":"INDEX($B$3:$AI$36,$E75,AA$59)&\"-\"&INDEX($B$3:$AI$36,AA$59,$E75)","v":"4-0"},{"$f":"INDEX($B$3:$AI$36,$E75,AB$59)&\"-\"&INDEX($B$3:$AI$36,AB$59,$E75)","v":"-"},{"$f":"INDEX($B$3:$AI$36,$E75,AC$59)&\"-\"&INDEX($B$3:$AI$36,AC$59,$E75)","v":"-"},{"$f":"INDEX($B$3:$AI$36,$E75,AD$59)&\"-\"&INDEX($B$3:$AI$36,AD$59,$E75)","v":"-"},{"$f":"INDEX($B$3:$AI$36,$E75,AE$59)&\"-\"&INDEX($B$3:$AI$36,AE$59,$E75)","v":"-"},{"$f":"INDEX($B$3:$AI$36,$E75,AF$59)&\"-\"&INDEX($B$3:$AI$36,AF$59,$E75)","v":"-"},{"$f":"INDEX($B$3:$AI$36,$E75,AG$59)&\"-\"&INDEX($B$3:$AI$36,AG$59,$E75)","v":"-"},{"$f":"INDEX($B$3:$AI$36,$E75,AH$59)&\"-\"&INDEX($B$3:$AI$36,AH$59,$E75)","v":"-"},{"$f":"INDEX($B$3:$AI$36,$E75,AI$59)&\"-\"&INDEX($B$3:$AI$36,AI$59,$E75)","v":"-"},{"$f":"INDEX($B$3:$AI$36,$E75,AJ$59)&\"-\"&INDEX($B$3:$AI$36,AJ$59,$E75)","v":"-"},{"$f":"INDEX($B$3:$AI$36,$E75,AK$59)&\"-\"&INDEX($B$3:$AI$36,AK$59,$E75)","v":"-"},{"$f":"INDEX($B$3:$AI$36,$E75,AL$59)&\"-\"&INDEX($B$3:$AI$36,AL$59,$E75)","v":"-"},{"$f":"INDEX($B$3:$AI$36,$E75,AM$59)&\"-\"&INDEX($B$3:$AI$36,AM$59,$E75)","v":"-"},{"$f":"INDEX($B$3:$AI$36,$E75,AN$59)&\"-\"&INDEX($B$3:$AI$36,AN$59,$E75)","v":"-"}]
[16,16,16,19,19,"319",{"$f":"INDEX($B$3:$AI$36,$E76,G$59)&\"-\"&INDEX($B$3:$AI$36,G$59,$E76)","v":"-"},{"$f":"INDEX($B$3:$AI$36,$E76,H$59)&\"-\"&INDEX($B$3:$AI$36,H$59,$E76)","v":"-"},{"$f":"INDEX($B$3:$AI$36,$E76,I$59)&\"-\"&INDEX($B$3:$AI$36,I$59,$E76)","v":"-"},{"$f":"INDEX($B$3:$AI$36,$E76,J$59)&\"-\"&INDEX($B$3:$AI$36,J$59,$E76)","v":"-"},{"$f":"INDEX($B$3:$AI$36,$E76,K$59)&\"-\"&INDEX($B$3:$AI$36,K$59,$E76)","v":"-"},{"$f":"INDEX($B$3:$AI$36,$E76,L$59)&\"-\"&INDEX($B$3:$AI$36,L$59,$E76)","v":"-"},{"$f":"INDEX($B$3:$AI$36,$E76,M$59)&\"-\"&INDEX($B$3:$AI$36,M$59,$E76)","v":"-"},{"$f":"INDEX($B$3:$AI$36,$E76,N$59)&\"-\"&INDEX($B$3:$AI$36,N$59,$E76)","v":"-"},{"$f":"INDEX($B$3:$AI$36,$E76,O$59)&\"-\"&INDEX($B$3:$AI$36,O$59,$E76)","v":"-"},{"$f":"INDEX($B$3:$AI$36,$E76,P$59)&\"-\"&INDEX($B$3:$AI$36,P$59,$E76)","v":"-"},{"$f":"INDEX($B$3:$AI$36,$E76,Q$59)&\"-\"&INDEX($B$3:$AI$36,Q$59,$E76)","v":"2-12"},{"$f":"INDEX($B$3:$AI$36,$E76,R$59)&\"-\"&INDEX($B$3:$AI$36,R$59,$E76)","v":"-"},{"$f":"INDEX($B$3:$AI$36,$E76,S$59)&\"-\"&INDEX($B$3:$AI$36,S$59,$E76)","v":"-"},{"$f":"INDEX($B$3:$AI$36,$E76,T$59)&\"-\"&INDEX($B$3:$AI$36,T$59,$E76)","v":"3-8"},{"$f":"INDEX($B$3:$AI$36,$E76,U$59)&\"-\"&INDEX($B$3:$AI$36,U$59,$E76)","v":"6-7"},{"$f":"INDEX($B$3:$AI$36,$E76,V$59)&\"-\"&INDEX($B$3:$AI$36,V$59,$E76)","v":"-"},{"$f":"INDEX($B$3:$AI$36,$E76,W$59)&\"-\"&INDEX($B$3:$AI$36,W$59,$E76)","v":"6-4"},{"$f":"INDEX($B$3:$AI$36,$E76,X$59)&\"-\"&INDEX($B$3:$AI$36,X$59,$E76)","v":"-"},{"$f":"INDEX($B$3:$AI$36,$E76,Y$59)&\"-\"&INDEX($B$3:$AI$36,Y$59,$E76)","v":"10-8"},{"$f":"INDEX($B$3:$AI$36,$E76,Z$59)&\"-\"&INDEX($B$3:$AI$36,Z$59,$E76)","v":"10-3"},{"$f":"INDEX($B$3:$AI$36,$E76,AA$59)&\"-\"&INDEX($B$3:$AI$36,AA$59,$E76)","v":"10-2"},{"$f":"INDEX($B$3:$AI$36,$E76,AB$59)&\"-\"&INDEX($B$3:$AI$36,AB$59,$E76)","v":"-"},{"$f":"INDEX($B$3:$AI$36,$E76,AC$59)&\"-\"&INDEX($B$3:$AI$36,AC$59,$E76)","v":"-"},{"$f":"INDEX($B$3:$AI$36,$E76,AD$59)&\"-\"&INDEX($B$3:$AI$36,AD$59,$E76)","v":"-"},{"$f":"INDEX($B$3:$AI$36,$E76,AE$59)&\"-\"&INDEX($B$3:$AI$36,AE$59,$E76)","v":"-"},{"$f":"INDEX($B$3:$AI$36,$E76,AF$59)&\"-\"&INDEX($B$3:$AI$36,AF$59,$E76)","v":"11-1"},{"$f":"INDEX($B$3:$AI$36,$E76,AG$59)&\"-\"&INDEX($B$3:$AI$36,AG$59,$E76)","v":"8-3"},{"$f":"INDEX($B$3:$AI$36,$E76,AH$59)&\"-\"&INDEX($B$3:$AI$36,AH$59,$E76)","v":"-"},{"$f":"INDEX($B$3:$AI$36,$E76,AI$59)&\"-\"&INDEX($B$3:$AI$36,AI$59,$E76)","v":"-"},{"$f":"INDEX($B$3:$AI$36,$E76,AJ$59)&\"-\"&INDEX($B$3:$AI$36,AJ$59,$E76)","v":"-"},{"$f":"INDEX($B$3:$AI$36,$E76,AK$59)&\"-\"&INDEX($B$3:$AI$36,AK$59,$E76)","v":"-"},{"$f":"INDEX($B$3:$AI$36,$E76,AL$59)&\"-\"&INDEX($B$3:$AI$36,AL$59,$E76)","v":"-"},{"$f":"INDEX($B$3:$AI$36,$E76,AM$59)&\"-\"&INDEX($B$3:$AI$36,AM$59,$E76)","v":"-"},{"$f":"INDEX($B$3:$AI$36,$E76,AN$59)&\"-\"&INDEX($B$3:$AI$36,AN$59,$E76)","v":"-"}]
[17,17,17,17,17,"317",{"$f":"INDEX($B$3:$AI$36,$E77,G$59)&\"-\"&INDEX($B$3:$AI$36,G$59,$E77)","v":"-"},{"$f":"INDEX($B$3:$AI$36,$E77,H$59)&\"-\"&INDEX($B$3:$AI$36,H$59,$E77)","v":"-"},{"$f":"INDEX($B$3:$AI$36,$E77,I$59)&\"-\"&INDEX($B$3:$AI$36,I$59,$E77)","v":"-"},{"$f":"INDEX($B$3:$AI$36,$E77,J$59)&\"-\"&INDEX($B$3:$AI$36,J$59,$E77)","v":"-"},{"$f":"INDEX($B$3:$AI$36,$E77,K$59)&\"-\"&INDEX($B$3:$AI$36,K$59,$E77)","v":"-"},{"$f":"INDEX($B$3:$AI$36,$E77,L$59)&\"-\"&INDEX($B$3:$AI$36,L$59,$E77)","v":"-"},{"$f":"INDEX($B$3:$AI$36,$E77,M$59)&\"-\"&INDEX($B$3:$AI$36,M$59,$E77)","v":"3-9"},{"$f":"INDEX($B$3:$AI$36,$E77,N$59)&\"-\"&INDEX($B$3:$AI$36,N$59,$E77)","v":"-"},{"$f":"INDEX($B$3:$AI$36,$E77,O$59)&\"-\"&INDEX($B$3:$AI$36,O$59,$E77)","v":"-"},{"$f":"INDEX($B$3:$AI$36,$E77,P$59)&\"-\"&INDEX($B$3:$AI$36,P$59,$E77)","v":"1-10"},{"$f":"INDEX($B$3:$AI$36,$E77,Q$59)&\"-\"&INDEX($B$3:$AI$36,Q$59,$E77)","v":"-"},{"$f":"INDEX($B$3:$AI$36,$E77,R$59)&\"-\"&INDEX($B$3:$AI$36,R$59,$E77)","v":"-"},{"$f":"INDEX($B$3:$AI$36,$E77,S$59)&\"-\"&INDEX($B$3:$AI$36,S$59,$E77)","v":"-"},{"$f":"INDEX($B$3:$AI$36,$E77,T$59)&\"-\"&INDEX($B$3:$AI$36,T$59,$E77)","v":"2-7"},{"$f":"INDEX($B$3:$AI$36,$E77,U$59)&\"-\"&INDEX($B$3:$AI$36,U$59,$E77)","v":"0-7"},{"$f":"INDEX($B$3:$AI$36,$E77,V$59)&\"-\"&INDEX($B$3:$AI$36,V$59,$E77)","v":"4-6"},{"$f":"INDEX($B$3:$AI$36,$E77,W$59)&\"-\"&INDEX($B$3:$AI$36,W$59,$E77)","v":"-"},{"$f":"INDEX($B$3:$AI$36,$E77,X$59)&\"-\"&INDEX($B$3:$AI$36,X$59,$E77)","v":"8-1"},{"$f":"INDEX($B$3:$AI$36,$E77,Y$59)&\"-\"&INDEX($B$3:$AI$36,Y$59,$E77)","v":"-"},{"$f":"INDEX($B$3:$AI$36,$E77,Z$59)&\"-\"&INDEX($B$3:$AI$36,Z$59,$E77)","v":"8-1"},{"$f":"INDEX($B$3:$AI$36,$E77,AA$59)&\"-\"&INDEX($B$3:$AI$36,AA$59,$E77)","v":"3-4"},{"$f":"INDEX($B$3:$AI$36,$E77,AB$59)&\"-\"&INDEX($B$3:$AI$36,AB$59,$E77)","v":"-"},{"$f":"INDEX($B$3:$AI$36,$E77,AC$59)&\"-\"&INDEX($B$3:$AI$36,AC$59,$E77)","v":"-"},{"$f":"INDEX($B$3:$AI$36,$E77,AD$59)&\"-\"&INDEX($B$3:$AI$36,AD$59,$E77)","v":"-"},{"$f":"INDEX($B$3:$AI$36,$E77,AE$59)&\"-\"&INDEX($B$3:$AI$36,AE$59,$E77)","v":"-"},{"$f":"INDEX($B$3:$AI$36,$E77,AF$59)&\"-\"&INDEX($B$3:$AI$36,AF$59,$E77)","v":"7-3"},{"$f":"INDEX($B$3:$AI$36,$E77,AG$59)&\"-\"&INDEX($B$3:$AI$36,AG$59,$E77)","v":"10-0"},{"$f":"INDEX($B$3:$AI$36,$E77,AH$59)&\"-\"&INDEX($B$3:$AI$36,AH$59,$E77)","v":"-"},{"$f":"INDEX($B$3:$AI$36,$E77,AI$59)&\"-\"&INDEX($B$3:$AI$36,AI$59,$E77)","v":"-"},{"$f":"INDEX($B$3:$AI$36,$E77,AJ$59)&\"-\"&INDEX($B$3:$AI$36,AJ$59,$E77)","v":"-"},{"$f":"INDEX($B$3:$AI$36,$E77,AK$59)&\"-\"&INDEX($B$3:$AI$36,AK$59,$E77)","v":"-"},{"$f":"INDEX($B$3:$AI$36,$E77,AL$59)&\"-\"&INDEX($B$3:$AI$36,AL$59,$E77)","v":"-"},{"$f":"INDEX($B$3:$AI$36,$E77,AM$59)&\"-\"&INDEX($B$3:$AI$36,AM$59,$E77)","v":"-"},{"$f":"INDEX($B$3:$AI$36,$E77,AN$59)&\"-\"&INDEX($B$3:$AI$36,AN$59,$E77)","v":"-"}]
[18,18,18,14,14,"314",{"$f":"INDEX($B$3:$AI$36,$E78,G$59)&\"-\"&INDEX($B$3:$AI$36,G$59,$E78)","v":"-"},{"$f":"INDEX($B$3:$AI$36,$E78,H$59)&\"-\"&INDEX($B$3:$AI$36,H$59,$E78)","v":"-"},{"$f":"INDEX($B$3:$AI$36,$E78,I$59)&\"-\"&INDEX($B$3:$AI$36,I$59,$E78)","v":"-"},{"$f":"INDEX($B$3:$AI$36,$E78,J$59)&\"-\"&INDEX($B$3:$AI$36,J$59,$E78)","v":"0-3"},{"$f":"INDEX($B$3:$AI$36,$E78,K$59)&\"-\"&INDEX($B$3:$AI$36,K$59,$E78)","v":"-"},{"$f":"INDEX($B$3:$AI$36,$E78,L$59)&\"-\"&INDEX($B$3:$AI$36,L$59,$E78)","v":"-"},{"$f":"INDEX($B$3:$AI$36,$E78,M$59)&\"-\"&INDEX($B$3:$AI$36,M$59,$E78)","v":"2-8"},{"$f":"INDEX($B$3:$AI$36,$E78,N$59)&\"-\"&INDEX($B$3:$AI$36,N$59,$E78)","v":"-"},{"$f":"INDEX($B$3:$AI$36,$E78,O$59)&\"-\"&INDEX($B$3:$AI$36,O$59,$E78)","v":"-"},{"$f":"INDEX($B$3:$AI$36,$E78,P$59)&\"-\"&INDEX($B$3:$AI$36,P$59,$E78)","v":"-"},{"$f":"INDEX($B$3:$AI$36,$E78,Q$59)&\"-\"&INDEX($B$3:$AI$36,Q$59,$E78)","v":"-"},{"$f":"INDEX($B$3:$AI$36,$E78,R$59)&\"-\"&INDEX($B$3:$AI$36,R$59,$E78)","v":"3-6"},{"$f":"INDEX($B$3:$AI$36,$E78,S$59)&\"-\"&INDEX($B$3:$AI$36,S$59,$E78)","v":"0-7"},{"$f":"INDEX($B$3:$AI$36,$E78,T$59)&\"-\"&INDEX($B$3:$AI$36,T$59,$E78)","v":"3-6"},{"$f":"INDEX($B$3:$AI$36,$E78,U$59)&\"-\"&INDEX($B$3:$AI$36,U$59,$E78)","v":"2-3"},{"$f":"INDEX($B$3:$AI$36,$E78,V$59)&\"-\"&INDEX($B$3:$AI$36,V$59,$E78)","v":"-"},{"$f":"INDEX($B$3:$AI$36,$E78,W$59)&\"-\"&INDEX($B$3:$AI$36,W$59,$E78)","v":"1-8"},{"$f":"INDEX($B$3:$AI$36,$E78,X$59)&\"-\"&INDEX($B$3:$AI$36,X$59,$E78)","v":"-"},{"$f":"INDEX($B$3:$AI$36,$E78,Y$59)&\"-\"&INDEX($B$3:$AI$36,Y$59,$E78)","v":"-"},{"$f":"INDEX($B$3:$AI$36,$E78,Z$59)&\"-\"&INDEX($B$3:$AI$36,Z$59,$E78)","v":"-"},{"$f":"INDEX($B$3:$AI$36,$E78,AA$59)&\"-\"&INDEX($B$3:$AI$36,AA$59,$E78)","v":"5-3"},{"$f":"INDEX($B$3:$AI$36,$E78,AB$59)&\"-\"&INDEX($B$3:$AI$36,AB$59,$E78)","v":"-"},{"$f":"INDEX($B$3:$AI$36,$E78,AC$59)&\"-\"&INDEX($B$3:$AI$36,AC$59,$E78)","v":"5-3"},{"$f":"INDEX($B$3:$AI$36,$E78,AD$59)&\"-\"&INDEX($B$3:$AI$36,AD$59,$E78)","v":"-"},{"$f":"INDEX($B$3:$AI$36,$E78,AE$59)&\"-\"&INDEX($B$3:$AI$36,AE$59,$E78)","v":"-"},{"$f":"INDEX($B$3:$AI$36,$E78,AF$59)&\"-\"&INDEX($B$3:$AI$36,AF$59,$E78)","v":"-"},{"$f":"INDEX($B$3:$AI$36,$E78,AG$59)&\"-\"&INDEX($B$3:$AI$36,AG$59,$E78)","v":"-"},{"$f":"INDEX($B$3:$AI$36,$E78,AH$59)&\"-\"&INDEX($B$3:$AI$36,AH$59,$E78)","v":"-"},{"$f":"INDEX($B$3:$AI$36,$E78,AI$59)&\"-\"&INDEX($B$3:$AI$36,AI$59,$E78)","v":"-"},{"$f":"INDEX($B$3:$AI$36,$E78,AJ$59)&\"-\"&INDEX($B$3:$AI$36,AJ$59,$E78)","v":"-"},{"$f":"INDEX($B$3:$AI$36,$E78,AK$59)&\"-\"&INDEX($B$3:$AI$36,AK$59,$E78)","v":"-"},{"$f":"INDEX($B$3:$AI$36,$E78,AL$59)&\"-\"&INDEX($B$3:$AI$36,AL$59,$E78)","v":"-"},{"$f":"INDEX($B$3:$AI$36,$E78,AM$59)&\"-\"&INDEX($B$3:$AI$36,AM$59,$E78)","v":"-"},{"$f":"INDEX($B$3:$AI$36,$E78,AN$59)&\"-\"&INDEX($B$3:$AI$36,AN$59,$E78)","v":"-"}]
[19,19,20,25,25,"325",{"$f":"INDEX($B$3:$AI$36,$E79,G$59)&\"-\"&INDEX($B$3:$AI$36,G$59,$E79)","v":"-"},{"$f":"INDEX($B$3:$AI$36,$E79,H$59)&\"-\"&INDEX($B$3:$AI$36,H$59,$E79)","v":"-"},{"$f":"INDEX($B$3:$AI$36,$E79,I$59)&\"-\"&INDEX($B$3:$AI$36,I$59,$E79)","v":"-"},{"$f":"INDEX($B$3:$AI$36,$E79,J$59)&\"-\"&INDEX($B$3:$AI$36,J$59,$E79)","v":"-"},{"$f":"INDEX($B$3:$AI$36,$E79,K$59)&\"-\"&INDEX($B$3:$AI$36,K$59,$E79)","v":"-"},{"$f":"INDEX($B$3:$AI$36,$E79,L$59)&\"-\"&INDEX($B$3:$AI$36,L$59,$E79)","v":"-"},{"$f":"INDEX($B$3:$AI$36,$E79,M$59)&\"-\"&INDEX($B$3:$AI$36,M$59,$E79)","v":"-"},{"$f":"INDEX($B$3:$AI$36,$E79,N$59)&\"-\"&INDEX($B$3:$AI$36,N$59,$E79)","v":"-"},{"$f":"INDEX($B$3:$AI$36,$E79,O$59)&\"-\"&INDEX($B$3:$AI$36,O$59,$E79)","v":"-"},{"$f":"INDEX($B$3:$AI$36,$E79,P$59)&\"-\"&INDEX($B$3:$AI$36,P$59,$E79)","v":"-"},{"$f":"INDEX($B$3:$AI$36,$E79,Q$59)&\"-\"&INDEX($B$3:$AI$36,Q$59,$E79)","v":"-"},{"$f":"INDEX($B$3:$AI$36,$E79,R$59)&\"-\"&INDEX($B$3:$AI$36,R$59,$E79)","v":"-"},{"$f":"INDEX($B$3:$AI$36,$E79,S$59)&\"-\"&INDEX($B$3:$AI$36,S$59,$E79)","v":"-"},{"$f":"INDEX($B$3:$AI$36,$E79,T$59)&\"-\"&INDEX($B$3:$AI$36,T$59,$E79)","v":"-"},{"$f":"INDEX($B$3:$AI$36,$E79,U$59)&\"-\"&INDEX($B$3:$AI$36,U$59,$E79)","v":"-"},{"$f":"INDEX($B$3:$AI$36,$E79,V$59)&\"-\"&INDEX($B$3:$AI$36,V$59,$E79)","v":"8-10"},{"$f":"INDEX($B$3:$AI$36,$E79,W$59)&\"-\"&INDEX($B$3:$AI$36,W$59,$E79)","v":"-"},{"$f":"INDEX($B$3:$AI$36,$E79,X$59)&\"-\"&INDEX($B$3:$AI$36,X$59,$E79)","v":"-"},{"$f":"INDEX($B$3:$AI$36,$E79,Y$59)&\"-\"&INDEX($B$3:$AI$36,Y$59,$E79)","v":"-"},{"$f":"INDEX($B$3:$AI$36,$E79,Z$59)&\"-\"&INDEX($B$3:$AI$36,Z$59,$E79)","v":"-"},{"$f":"INDEX($B$3:$AI$36,$E79,AA$59)&\"-\"&INDEX($B$3:$AI$36,AA$59,$E79)","v":"1-1"},{"$f":"INDEX($B$3:$AI$36,$E79,AB$59)&\"-\"&INDEX($B$3:$AI$36,AB$59,$E79)","v":"-"},{"$f":"INDEX($B$3:$AI$36,$E79,AC$59)&\"-\"&INDEX($B$3:$AI$36,AC$59,$E79)","v":"6-2"},{"$f":"INDEX($B$3:$AI$36,$E79,AD$59)&\"-\"&INDEX($B$3:$AI$36,AD$59,$E79)","v":"-"},{"$f":"INDEX($B$3:$AI$36,$E79,AE$59)&\"-\"&INDEX($B$3:$AI$36,AE$59,$E79)","v":"-"},{"$f":"INDEX($B$3:$AI$36,$E79,AF$59)&\"-\"&INDEX($B$3:$AI$36,AF$59,$E79)","v":"-"},{"$f":"INDEX($B$3:$AI$36,$E79,AG$59)&\"-\"&INDEX($B$3:$AI$36,AG$59,$E79)","v":"6-3"},{"$f":"INDEX($B$3:$AI$36,$E79,AH$59)&\"-\"&INDEX($B$3:$AI$36,AH$59,$E79)","v":"-"},{"$f":"INDEX($B$3:$AI$36,$E79,AI$59)&\"-\"&INDEX($B$3:$AI$36,AI$59,$E79)","v":"8-1"},{"$f":"INDEX($B$3:$AI$36,$E79,AJ$59)&\"-\"&INDEX($B$3:$AI$36,AJ$59,$E79)","v":"-"},{"$f":"INDEX($B$3:$AI$36,$E79,AK$59)&\"-\"&INDEX($B$3:$AI$36,AK$59,$E79)","v":"10-0"},{"$f":"INDEX($B$3:$AI$36,$E79,AL$59)&\"-\"&INDEX($B$3:$AI$36,AL$59,$E79)","v":"12-2"},{"$f":"INDEX($B$3:$AI$36,$E79,AM$59)&\"-\"&INDEX($B$3:$AI$36,AM$59,$E79)","v":"-"},{"$f":"INDEX($B$3:$AI$36,$E79,AN$59)&\"-\"&INDEX($B$3:$AI$36,AN$59,$E79)","v":"10-0"}]
[20,22,19,20,20,"320",{"$f":"INDEX($B$3:$AI$36,$E80,G$59)&\"-\"&INDEX($B$3:$AI$36,G$59,$E80)","v":"-"},{"$f":"INDEX($B$3:$AI$36,$E80,H$59)&\"-\"&INDEX($B$3:$AI$36,H$59,$E80)","v":"-"},{"$f":"INDEX($B$3:$AI$36,$E80,I$59)&\"-\"&INDEX($B$3:$AI$36,I$59,$E80)","v":"-"},{"$f":"INDEX($B$3:$AI$36,$E80,J$59)&\"-\"&INDEX($B$3:$AI$36,J$59,$E80)","v":"-"},{"$f":"INDEX($B$3:$AI$36,$E80,K$59)&\"-\"&INDEX($B$3:$AI$36,K$59,$E80)","v":"-"},{"$f":"INDEX($B$3:$AI$36,$E80,L$59)&\"-\"&INDEX($B$3:$AI$36,L$59,$E80)","v":"-"},{"$f":"INDEX($B$3:$AI$36,$E80,M$59)&\"-\"&INDEX($B$3:$AI$36,M$59,$E80)","v":"-"},{"$f":"INDEX($B$3:$AI$36,$E80,N$59)&\"-\"&INDEX($B$3:$AI$36,N$59,$E80)","v":"-"},{"$f":"INDEX($B$3:$AI$36,$E80,O$59)&\"-\"&INDEX($B$3:$AI$36,O$59,$E80)","v":"-"},{"$f":"INDEX($B$3:$AI$36,$E80,P$59)&\"-\"&INDEX($B$3:$AI$36,P$59,$E80)","v":"-"},{"$f":"INDEX($B$3:$AI$36,$E80,Q$59)&\"-\"&INDEX($B$3:$AI$36,Q$59,$E80)","v":"-"},{"$f":"INDEX($B$3:$AI$36,$E80,R$59)&\"-\"&INDEX($B$3:$AI$36,R$59,$E80)","v":"-"},{"$f":"INDEX($B$3:$AI$36,$E80,S$59)&\"-\"&INDEX($B$3:$AI$36,S$59,$E80)","v":"-"},{"$f":"INDEX($B$3:$AI$36,$E80,T$59)&\"-\"&INDEX($B$3:$AI$36,T$59,$E80)","v":"1-5"},{"$f":"INDEX($B$3:$AI$36,$E80,U$59)&\"-\"&INDEX($B$3:$AI$36,U$59,$E80)","v":"3-7"},{"$f":"INDEX($B$3:$AI$36,$E80,V$59)&\"-\"&INDEX($B$3:$AI$36,V$59,$E80)","v":"3-10"},{"$f":"INDEX($B$3:$AI$36,$E80,W$59)&\"-\"&INDEX($B$3:$AI$36,W$59,$E80)","v":"1-8"},{"$f":"INDEX($B$3:$AI$36,$E80,X$59)&\"-\"&INDEX($B$3:$AI$36,X$59,$E80)","v":"-"},{"$f":"INDEX($B$3:$AI$36,$E80,Y$59)&\"-\"&INDEX($B$3:$AI$36,Y$59,$E80)","v":"-"},{"$f":"INDEX($B$3:$AI$36,$E80,Z$59)&\"-\"&INDEX($B$3:$AI$36,Z$59,$E80)","v":"-"},{"$f":"INDEX($B$3:$AI$36,$E80,AA$59)&\"-\"&INDEX($B$3:$AI$36,AA$59,$E80)","v":"-"},{"$f":"INDEX($B$3:$AI$36,$E80,AB$59)&\"-\"&INDEX($B$3:$AI$36,AB$59,$E80)","v":"-"},{"$f":"INDEX($B$3:$AI$36,$E80,AC$59)&\"-\"&INDEX($B$3:$AI$36,AC$59,$E80)","v":"-"},{"$f":"INDEX($B$3:$AI$36,$E80,AD$59)&\"-\"&INDEX($B$3:$AI$36,AD$59,$E80)","v":"-"},{"$f":"INDEX($B$3:$AI$36,$E80,AE$59)&\"-\"&INDEX($B$3:$AI$36,AE$59,$E80)","v":"7-1"},{"$f":"INDEX($B$3:$AI$36,$E80,AF$59)&\"-\"&INDEX($B$3:$AI$36,AF$59,$E80)","v":"4-3"},{"$f":"INDEX($B$3:$AI$36,$E80,AG$59)&\"-\"&INDEX($B$3:$AI$36,AG$59,$E80)","v":"5-1"},{"$f":"INDEX($B$3:$AI$36,$E80,AH$59)&\"-\"&INDEX($B$3:$AI$36,AH$59,$E80)","v":"-"},{"$f":"INDEX($B$3:$AI$36,$E80,AI$59)&\"-\"&INDEX($B$3:$AI$36,AI$59,$E80)","v":"-"},{"$f":"INDEX($B$3:$AI$36,$E80,AJ$59)&\"-\"&INDEX($B$3:$AI$36,AJ$59,$E80)","v":"-"},{"$f":"INDEX($B$3:$AI$36,$E80,AK$59)&\"-\"&INDEX($B$3:$AI$36,AK$59,$E80)","v":"-"},{"$f":"INDEX($B$3:$AI$36,$E80,AL$59)&\"-\"&INDEX($B$3:$AI$36,AL$59,$E80)","v":"-"},{"$f":"INDEX($B$3:$AI$36,$E80,AM$59)&\"-\"&INDEX($B$3:$AI$36,AM$59,$E80)","v":"-"},{"$f":"INDEX($B$3:$AI$36,$E80,AN$59)&\"-\"&INDEX($B$3:$AI$36,AN$59,$E80)","v":"-"}]
[21,21,21,16,16,"316",{"$f":"INDEX($B$3:$AI$36,$E81,G$59)&\"-\"&INDEX($B$3:$AI$36,G$59,$E81)","v":"-"},{"$f":"INDEX($B$3:$AI$36,$E81,H$59)&\"-\"&INDEX($B$3:$AI$36,H$59,$E81)","v":"-"},{"$f":"INDEX($B$3:$AI$36,$E81,I$59)&\"-\"&INDEX($B$3:$AI$36,I$59,$E81)","v":"-"},{"$f":"INDEX($B$3:$AI$36,$E81,J$59)&\"-\"&INDEX($B$3:$AI$36,J$59,$E81)","v":"-"},{"$f":"INDEX($B$3:$AI$36,$E81,K$59)&\"-\"&INDEX($B$3:$AI$36,K$59,$E81)","v":"-"},{"$f":"INDEX($B$3:$AI$36,$E81,L$59)&\"-\"&INDEX($B$3:$AI$36,L$59,$E81)","v":"-"},{"$f":"INDEX($B$3:$AI$36,$E81,M$59)&\"-\"&INDEX($B$3:$AI$36,M$59,$E81)","v":"-"},{"$f":"INDEX($B$3:$AI$36,$E81,N$59)&\"-\"&INDEX($B$3:$AI$36,N$59,$E81)","v":"-"},{"$f":"INDEX($B$3:$AI$36,$E81,O$59)&\"-\"&INDEX($B$3:$AI$36,O$59,$E81)","v":"-"},{"$f":"INDEX($B$3:$AI$36,$E81,P$59)&\"-\"&INDEX($B$3:$AI$36,P$59,$E81)","v":"0-6"},{"$f":"INDEX($B$3:$AI$36,$E81,Q$59)&\"-\"&INDEX($B$3:$AI$36,Q$59,$E81)","v":"-"},{"$f":"INDEX($B$3:$AI$36,$E81,R$59)&\"-\"&INDEX($B$3:$AI$36,R$59,$E81)","v":"-"},{"$f":"INDEX($B$3:$AI$36,$E81,S$59)&\"-\"&INDEX($B$3:$AI$36,S$59,$E81)","v":"-"},{"$f":"INDEX($B$3:$AI$36,$E81,T$59)&\"-\"&INDEX($B$3:$AI$36,T$59,$E81)","v":"0-10"},{"$f":"INDEX($B$3:$AI$36,$E81,U$59)&\"-\"&INDEX($B$3:$AI$36,U$59,$E81)","v":"0-4"},{"$f":"INDEX($B$3:$AI$36,$E81,V$59)&\"-\"&INDEX($B$3:$AI$36,V$59,$E81)","v":"2-10"},{"$f":"INDEX($B$3:$AI$36,$E81,W$59)&\"-\"&INDEX($B$3:$AI$36,W$59,$E81)","v":"4-3"},{"$f":"INDEX($B$3:$AI$36,$E81,X$59)&\"-\"&INDEX($B$3:$AI$36,X$59,$E81)","v":"3-5"},{"$f":"INDEX($B$3:$AI$36,$E81,Y$59)&\"-\"&INDEX($B$3:$AI$36,Y$59,$E81)","v":"1-1"},{"$f":"INDEX($B$3:$AI$36,$E81,Z$59)&\"-\"&INDEX($B$3:$AI$36,Z$59,$E81)","v":"-"},{"$f":"INDEX($B$3:$AI$36,$E81,AA$59)&\"-\"&INDEX($B$3:$AI$36,AA$59,$E81)","v":"-"},{"$f":"INDEX($B$3:$AI$36,$E81,AB$59)&\"-\"&INDEX($B$3:$AI$36,AB$59,$E81)","v":"-"},{"$f":"INDEX($B$3:$AI$36,$E81,AC$59)&\"-\"&INDEX($B$3:$AI$36,AC$59,$E81)","v":"-"},{"$f":"INDEX($B$3:$AI$36,$E81,AD$59)&\"-\"&INDEX($B$3:$AI$36,AD$59,$E81)","v":"-"},{"$f":"INDEX($B$3:$AI$36,$E81,AE$59)&\"-\"&INDEX($B$3:$AI$36,AE$59,$E81)","v":"-"},{"$f":"INDEX($B$3:$AI$36,$E81,AF$59)&\"-\"&INDEX($B$3:$AI$36,AF$59,$E81)","v":"-"},{"$f":"INDEX($B$3:$AI$36,$E81,AG$59)&\"-\"&INDEX($B$3:$AI$36,AG$59,$E81)","v":"-"},{"$f":"INDEX($B$3:$AI$36,$E81,AH$59)&\"-\"&INDEX($B$3:$AI$36,AH$59,$E81)","v":"-"},{"$f":"INDEX($B$3:$AI$36,$E81,AI$59)&\"-\"&INDEX($B$3:$AI$36,AI$59,$E81)","v":"-"},{"$f":"INDEX($B$3:$AI$36,$E81,AJ$59)&\"-\"&INDEX($B$3:$AI$36,AJ$59,$E81)","v":"-"},{"$f":"INDEX($B$3:$AI$36,$E81,AK$59)&\"-\"&INDEX($B$3:$AI$36,AK$59,$E81)","v":"-"},{"$f":"INDEX($B$3:$AI$36,$E81,AL$59)&\"-\"&INDEX($B$3:$AI$36,AL$59,$E81)","v":"-"},{"$f":"INDEX($B$3:$AI$36,$E81,AM$59)&\"-\"&INDEX($B$3:$AI$36,AM$59,$E81)","v":"-"},{"$f":"INDEX($B$3:$AI$36,$E81,AN$59)&\"-\"&INDEX($B$3:$AI$36,AN$59,$E81)","v":"-"}]
[22,20,27,28,28,"328",{"$f":"INDEX($B$3:$AI$36,$E82,G$59)&\"-\"&INDEX($B$3:$AI$36,G$59,$E82)","v":"-"},{"$f":"INDEX($B$3:$AI$36,$E82,H$59)&\"-\"&INDEX($B$3:$AI$36,H$59,$E82)","v":"-"},{"$f":"INDEX($B$3:$AI$36,$E82,I$59)&\"-\"&INDEX($B$3:$AI$36,I$59,$E82)","v":"-"},{"$f":"INDEX($B$3:$AI$36,$E82,J$59)&\"-\"&INDEX($B$3:$AI$36,J$59,$E82)","v":"-"},{"$f":"INDEX($B$3:$AI$36,$E82,K$59)&\"-\"&INDEX($B$3:$AI$36,K$59,$E82)","v":"-"},{"$f":"INDEX($B$3:$AI$36,$E82,L$59)&\"-\"&INDEX($B$3:$AI$36,L$59,$E82)","v":"-"},{"$f":"INDEX($B$3:$AI$36,$E82,M$59)&\"-\"&INDEX($B$3:$AI$36,M$59,$E82)","v":"-"},{"$f":"INDEX($B$3:$AI$36,$E82,N$59)&\"-\"&INDEX($B$3:$AI$36,N$59,$E82)","v":"-"},{"$f":"INDEX($B$3:$AI$36,$E82,O$59)&\"-\"&INDEX($B$3:$AI$36,O$59,$E82)","v":"-"},{"$f":"INDEX($B$3:$AI$36,$E82,P$59)&\"-\"&INDEX($B$3:$AI$36,P$59,$E82)","v":"-"},{"$f":"INDEX($B$3:$AI$36,$E82,Q$59)&\"-\"&INDEX($B$3:$AI$36,Q$59,$E82)","v":"-"},{"$f":"INDEX($B$3:$AI$36,$E82,R$59)&\"-\"&INDEX($B$3:$AI$36,R$59,$E82)","v":"-"},{"$f":"INDEX($B$3:$AI$36,$E82,S$59)&\"-\"&INDEX($B$3:$AI$36,S$59,$E82)","v":"-"},{"$f":"INDEX($B$3:$AI$36,$E82,T$59)&\"-\"&INDEX($B$3:$AI$36,T$59,$E82)","v":"-"},{"$f":"INDEX($B$3:$AI$36,$E82,U$59)&\"-\"&INDEX($B$3:$AI$36,U$59,$E82)","v":"-"},{"$f":"INDEX($B$3:$AI$36,$E82,V$59)&\"-\"&INDEX($B$3:$AI$36,V$59,$E82)","v":"-"},{"$f":"INDEX($B$3:$AI$36,$E82,W$59)&\"-\"&INDEX($B$3:$AI$36,W$59,$E82)","v":"-"},{"$f":"INDEX($B$3:$AI$36,$E82,X$59)&\"-\"&INDEX($B$3:$AI$36,X$59,$E82)","v":"-"},{"$f":"INDEX($B$3:$AI$36,$E82,Y$59)&\"-\"&INDEX($B$3:$AI$36,Y$59,$E82)","v":"-"},{"$f":"INDEX($B$3:$AI$36,$E82,Z$59)&\"-\"&INDEX($B$3:$AI$36,Z$59,$E82)","v":"-"},{"$f":"INDEX($B$3:$AI$36,$E82,AA$59)&\"-\"&INDEX($B$3:$AI$36,AA$59,$E82)","v":"-"},{"$f":"INDEX($B$3:$AI$36,$E82,AB$59)&\"-\"&INDEX($B$3:$AI$36,AB$59,$E82)","v":"-"},{"$f":"INDEX($B$3:$AI$36,$E82,AC$59)&\"-\"&INDEX($B$3:$AI$36,AC$59,$E82)","v":"-"},{"$f":"INDEX($B$3:$AI$36,$E82,AD$59)&\"-\"&INDEX($B$3:$AI$36,AD$59,$E82)","v":"-"},{"$f":"INDEX($B$3:$AI$36,$E82,AE$59)&\"-\"&INDEX($B$3:$AI$36,AE$59,$E82)","v":"-"},{"$f":"INDEX($B$3:$AI$36,$E82,AF$59)&\"-\"&INDEX($B$3:$AI$36,AF$59,$E82)","v":"-"},{"$f":"INDEX($B$3:$AI$36,$E82,AG$59)&\"-\"&INDEX($B$3:$AI$36,AG$59,$E82)","v":"-"},{"$f":"INDEX($B$3:$AI$36,$E82,AH$59)&\"-\"&INDEX($B$3:$AI$36,AH$59,$E82)","v":"9-1"},{"$f":"INDEX($B$3:$AI$36,$E82,AI$59)&\"-\"&INDEX($B$3:$AI$36,AI$59,$E82)","v":"1-0"},{"$f":"INDEX($B$3:$AI$36,$E82,AJ$59)&\"-\"&INDEX($B$3:$AI$36,AJ$59,$E82)","v":"9-1"},{"$f":"INDEX($B$3:$AI$36,$E82,AK$59)&\"-\"&INDEX($B$3:$AI$36,AK$59,$E82)","v":"9-1"},{"$f":"INDEX($B$3:$AI$36,$E82,AL$59)&\"-\"&INDEX($B$3:$AI$36,AL$59,$E82)","v":"12-0"},{"$f":"INDEX($B$3:$AI$36,$E82,AM$59)&\"-\"&INDEX($B$3:$AI$36,AM$59,$E82)","v":"17-1"},{"$f":"INDEX($B$3:$AI$36,$E82,AN$59)&\"-\"&INDEX($B$3:$AI$36,AN$59,$E82)","v":"10-0"}]
[23,25,22,23,23,"323",{"$f":"INDEX($B$3:$AI$36,$E83,G$59)&\"-\"&INDEX($B$3:$AI$36,G$59,$E83)","v":"-"},{"$f":"INDEX($B$3:$AI$36,$E83,H$59)&\"-\"&INDEX($B$3:$AI$36,H$59,$E83)","v":"-"},{"$f":"INDEX($B$3:$AI$36,$E83,I$59)&\"-\"&INDEX($B$3:$AI$36,I$59,$E83)","v":"-"},{"$f":"INDEX($B$3:$AI$36,$E83,J$59)&\"-\"&INDEX($B$3:$AI$36,J$59,$E83)","v":"-"},{"$f":"INDEX($B$3:$AI$36,$E83,K$59)&\"-\"&INDEX($B$3:$AI$36,K$59,$E83)","v":"-"},{"$f":"INDEX($B$3:$AI$36,$E83,L$59)&\"-\"&INDEX($B$3:$AI$36,L$59,$E83)","v":"-"},{"$f":"INDEX($B$3:$AI$36,$E83,M$59)&\"-\"&INDEX($B$3:$AI$36,M$59,$E83)","v":"-"},{"$f":"INDEX($B$3:$AI$36,$E83,N$59)&\"-\"&INDEX($B$3:$AI$36,N$59,$E83)","v":"-"},{"$f":"INDEX($B$3:$AI$36,$E83,O$59)&\"-\"&INDEX($B$3:$AI$36,O$59,$E83)","v":"-"},{"$f":"INDEX($B$3:$AI$36,$E83,P$59)&\"-\"&INDEX($B$3:$AI$36,P$59,$E83)","v":"-"},{"$f":"INDEX($B$3:$AI$36,$E83,Q$59)&\"-\"&INDEX($B$3:$AI$36,Q$59,$E83)","v":"-"},{"$f":"INDEX($B$3:$AI$36,$E83,R$59)&\"-\"&INDEX($B$3:$AI$36,R$59,$E83)","v":"-"},{"$f":"INDEX($B$3:$AI$36,$E83,S$59)&\"-\"&INDEX($B$3:$AI$36,S$59,$E83)","v":"-"},{"$f":"INDEX($B$3:$AI$36,$E83,T$59)&\"-\"&INDEX($B$3:$AI$36,T$59,$E83)","v":"-"},{"$f":"INDEX($B$3:$AI$36,$E83,U$59)&\"-\"&INDEX($B$3:$AI$36,U$59,$E83)","v":"-"},{"$f":"INDEX($B$3:$AI$36,$E83,V$59)&\"-\"&INDEX($B$3:$AI$36,V$59,$E83)","v":"-"},{"$f":"INDEX($B$3:$AI$36,$E83,W$59)&\"-\"&INDEX($B$3:$AI$36,W$59,$E83)","v":"-"},{"$f":"INDEX($B$3:$AI$36,$E83,X$59)&\"-\"&INDEX($B$3:$AI$36,X$59,$E83)","v":"3-5"},{"$f":"INDEX($B$3:$AI$36,$E83,Y$59)&\"-\"&INDEX($B$3:$AI$36,Y$59,$E83)","v":"2-6"},{"$f":"INDEX($B$3:$AI$36,$E83,Z$59)&\"-\"&INDEX($B$3:$AI$36,Z$59,$E83)","v":"-"},{"$f":"INDEX($B$3:$AI$36,$E83,AA$59)&\"-\"&INDEX($B$3:$AI$36,AA$59,$E83)","v":"-"},{"$f":"INDEX($B$3:$AI$36,$E83,AB$59)&\"-\"&INDEX($B$3:$AI$36,AB$59,$E83)","v":"-"},{"$f":"INDEX($B$3:$AI$36,$E83,AC$59)&\"-\"&INDEX($B$3:$AI$36,AC$59,$E83)","v":"-"},{"$f":"INDEX($B$3:$AI$36,$E83,AD$59)&\"-\"&INDEX($B$3:$AI$36,AD$59,$E83)","v":"-"},{"$f":"INDEX($B$3:$AI$36,$E83,AE$59)&\"-\"&INDEX($B$3:$AI$36,AE$59,$E83)","v":"-"},{"$f":"INDEX($B$3:$AI$36,$E83,AF$59)&\"-\"&INDEX($B$3:$AI$36,AF$59,$E83)","v":"2-0"},{"$f":"INDEX($B$3:$AI$36,$E83,AG$59)&\"-\"&INDEX($B$3:$AI$36,AG$59,$E83)","v":"2-2"},{"$f":"INDEX($B$3:$AI$36,$E83,AH$59)&\"-\"&INDEX($B$3:$AI$36,AH$59,$E83)","v":"-"},{"$f":"INDEX($B$3:$AI$36,$E83,AI$59)&\"-\"&INDEX($B$3:$AI$36,AI$59,$E83)","v":"-"},{"$f":"INDEX($B$3:$AI$36,$E83,AJ$59)&\"-\"&INDEX($B$3:$AI$36,AJ$59,$E83)","v":"-"},{"$f":"INDEX($B$3:$AI$36,$E83,AK$59)&\"-\"&INDEX($B$3:$AI$36,AK$59,$E83)","v":"4-2"},{"$f":"INDEX($B$3:$AI$36,$E83,AL$59)&\"-\"&INDEX($B$3:$AI$36,AL$59,$E83)","v":"-"},{"$f":"INDEX($B$3:$AI$36,$E83,AM$59)&\"-\"&INDEX($B$3:$AI$36,AM$59,$E83)","v":"-"},{"$f":"INDEX($B$3:$AI$36,$E83,AN$59)&\"-\"&INDEX($B$3:$AI$36,AN$59,$E83)","v":"-"}]
[24,23,24,33,33,"333",{"$f":"INDEX($B$3:$AI$36,$E84,G$59)&\"-\"&INDEX($B$3:$AI$36,G$59,$E84)","v":"-"},{"$f":"INDEX($B$3:$AI$36,$E84,H$59)&\"-\"&INDEX($B$3:$AI$36,H$59,$E84)","v":"-"},{"$f":"INDEX($B$3:$AI$36,$E84,I$59)&\"-\"&INDEX($B$3:$AI$36,I$59,$E84)","v":"-"},{"$f":"INDEX($B$3:$AI$36,$E84,J$59)&\"-\"&INDEX($B$3:$AI$36,J$59,$E84)","v":"-"},{"$f":"INDEX($B$3:$AI$36,$E84,K$59)&\"-\"&INDEX($B$3:$AI$36,K$59,$E84)","v":"-"},{"$f":"INDEX($B$3:$AI$36,$E84,L$59)&\"-\"&INDEX($B$3:$AI$36,L$59,$E84)","v":"-"},{"$f":"INDEX($B$3:$AI$36,$E84,M$59)&\"-\"&INDEX($B$3:$AI$36,M$59,$E84)","v":"-"},{"$f":"INDEX($B$3:$AI$36,$E84,N$59)&\"-\"&INDEX($B$3:$AI$36,N$59,$E84)","v":"-"},{"$f":"INDEX($B$3:$AI$36,$E84,O$59)&\"-\"&INDEX($B$3:$AI$36,O$59,$E84)","v":"-"},{"$f":"INDEX($B$3:$AI$36,$E84,P$59)&\"-\"&INDEX($B$3:$AI$36,P$59,$E84)","v":"-"},{"$f":"INDEX($B$3:$AI$36,$E84,Q$59)&\"-\"&INDEX($B$3:$AI$36,Q$59,$E84)","v":"-"},{"$f":"INDEX($B$3:$AI$36,$E84,R$59)&\"-\"&INDEX($B$3:$AI$36,R$59,$E84)","v":"-"},{"$f":"INDEX($B$3:$AI$36,$E84,S$59)&\"-\"&INDEX($B$3:$AI$36,S$59,$E84)","v":"-"},{"$f":"INDEX($B$3:$AI$36,$E84,T$59)&\"-\"&INDEX($B$3:$AI$36,T$59,$E84)","v":"-"},{"$f":"INDEX($B$3:$AI$36,$E84,U$59)&\"-\"&INDEX($B$3:$AI$36,U$59,$E84)","v":"-"},{"$f":"INDEX($B$3:$AI$36,$E84,V$59)&\"-\"&INDEX($B$3:$AI$36,V$59,$E84)","v":"-"},{"$f":"INDEX($B$3:$AI$36,$E84,W$59)&\"-\"&INDEX($B$3:$AI$36,W$59,$E84)","v":"-"},{"$f":"INDEX($B$3:$AI$36,$E84,X$59)&\"-\"&INDEX($B$3:$AI$36,X$59,$E84)","v":"-"},{"$f":"INDEX($B$3:$AI$36,$E84,Y$59)&\"-\"&INDEX($B$3:$AI$36,Y$59,$E84)","v":"-"},{"$f":"INDEX($B$3:$AI$36,$E84,Z$59)&\"-\"&INDEX($B$3:$AI$36,Z$59,$E84)","v":"-"},{"$f":"INDEX($B$3:$AI$36,$E84,AA$59)&\"-\"&INDEX($B$3:$AI$36,AA$59,$E84)","v":"-"},{"$f":"INDEX($B$3:$AI$36,$E84,AB$59)&\"-\"&INDEX($B$3:$AI$36,AB$59,$E84)","v":"-"},{"$f":"INDEX($B$3:$AI$36,$E84,AC$59)&\"-\"&INDEX($B$3:$AI$36,AC$59,$E84)","v":"-"},{"$f":"INDEX($B$3:$AI$36,$E84,AD$59)&\"-\"&INDEX($B$3:$AI$36,AD$59,$E84)","v":"-"},{"$f":"INDEX($B$3:$AI$36,$E84,AE$59)&\"-\"&INDEX($B$3:$AI$36,AE$59,$E84)","v":"-"},{"$f":"INDEX($B$3:$AI$36,$E84,AF$59)&\"-\"&INDEX($B$3:$AI$36,AF$59,$E84)","v":"-"},{"$f":"INDEX($B$3:$AI$36,$E84,AG$59)&\"-\"&INDEX($B$3:$AI$36,AG$59,$E84)","v":"-"},{"$f":"INDEX($B$3:$AI$36,$E84,AH$59)&\"-\"&INDEX($B$3:$AI$36,AH$59,$E84)","v":"4-9"},{"$f":"INDEX($B$3:$AI$36,$E84,AI$59)&\"-\"&INDEX($B$3:$AI$36,AI$59,$E84)","v":"20-1"},{"$f":"INDEX($B$3:$AI$36,$E84,AJ$59)&\"-\"&INDEX($B$3:$AI$36,AJ$59,$E84)","v":"9-1"},{"$f":"INDEX($B$3:$AI$36,$E84,AK$59)&\"-\"&INDEX($B$3:$AI$36,AK$59,$E84)","v":"-"},{"$f":"INDEX($B$3:$AI$36,$E84,AL$59)&\"-\"&INDEX($B$3:$AI$36,AL$59,$E84)","v":"10-1"},{"$f":"INDEX($B$3:$AI$36,$E84,AM$59)&\"-\"&INDEX($B$3:$AI$36,AM$59,$E84)","v":"9-1"},{"$f":"INDEX($B$3:$AI$36,$E84,AN$59)&\"-\"&INDEX($B$3:$AI$36,AN$59,$E84)","v":"8-1"}]
[25,24,26,29,29,"329",{"$f":"INDEX($B$3:$AI$36,$E85,G$59)&\"-\"&INDEX($B$3:$AI$36,G$59,$E85)","v":"-"},{"$f":"INDEX($B$3:$AI$36,$E85,H$59)&\"-\"&INDEX($B$3:$AI$36,H$59,$E85)","v":"-"},{"$f":"INDEX($B$3:$AI$36,$E85,I$59)&\"-\"&INDEX($B$3:$AI$36,I$59,$E85)","v":"-"},{"$f":"INDEX($B$3:$AI$36,$E85,J$59)&\"-\"&INDEX($B$3:$AI$36,J$59,$E85)","v":"-"},{"$f":"INDEX($B$3:$AI$36,$E85,K$59)&\"-\"&INDEX($B$3:$AI$36,K$59,$E85)","v":"-"},{"$f":"INDEX($B$3:$AI$36,$E85,L$59)&\"-\"&INDEX($B$3:$AI$36,L$59,$E85)","v":"-"},{"$f":"INDEX($B$3:$AI$36,$E85,M$59)&\"-\"&INDEX($B$3:$AI$36,M$59,$E85)","v":"-"},{"$f":"INDEX($B$3:$AI$36,$E85,N$59)&\"-\"&INDEX($B$3:$AI$36,N$59,$E85)","v":"-"},{"$f":"INDEX($B$3:$AI$36,$E85,O$59)&\"-\"&INDEX($B$3:$AI$36,O$59,$E85)","v":"-"},{"$f":"INDEX($B$3:$AI$36,$E85,P$59)&\"-\"&INDEX($B$3:$AI$36,P$59,$E85)","v":"-"},{"$f":"INDEX($B$3:$AI$36,$E85,Q$59)&\"-\"&INDEX($B$3:$AI$36,Q$59,$E85)","v":"-"},{"$f":"INDEX($B$3:$AI$36,$E85,R$59)&\"-\"&INDEX($B$3:$AI$36,R$59,$E85)","v":"-"},{"$f":"INDEX($B$3:$AI$36,$E85,S$59)&\"-\"&INDEX($B$3:$AI$36,S$59,$E85)","v":"-"},{"$f":"INDEX($B$3:$AI$36,$E85,T$59)&\"-\"&INDEX($B$3:$AI$36,T$59,$E85)","v":"-"},{"$f":"INDEX($B$3:$AI$36,$E85,U$59)&\"-\"&INDEX($B$3:$AI$36,U$59,$E85)","v":"-"},{"$f":"INDEX($B$3:$AI$36,$E85,V$59)&\"-\"&INDEX($B$3:$AI$36,V$59,$E85)","v":"-"},{"$f":"INDEX($B$3:$AI$36,$E85,W$59)&\"-\"&INDEX($B$3:$AI$36,W$59,$E85)","v":"-"},{"$f":"INDEX($B$3:$AI$36,$E85,X$59)&\"-\"&INDEX($B$3:$AI$36,X$59,$E85)","v":"-"},{"$f":"INDEX($B$3:$AI$36,$E85,Y$59)&\"-\"&INDEX($B$3:$AI$36,Y$59,$E85)","v":"-"},{"$f":"INDEX($B$3:$AI$36,$E85,Z$59)&\"-\"&INDEX($B$3:$AI$36,Z$59,$E85)","v":"1-7"},{"$f":"INDEX($B$3:$AI$36,$E85,AA$59)&\"-\"&INDEX($B$3:$AI$36,AA$59,$E85)","v":"-"},{"$f":"INDEX($B$3:$AI$36,$E85,AB$59)&\"-\"&INDEX($B$3:$AI$36,AB$59,$E85)","v":"-"},{"$f":"INDEX($B$3:$AI$36,$E85,AC$59)&\"-\"&INDEX($B$3:$AI$36,AC$59,$E85)","v":"-"},{"$f":"INDEX($B$3:$AI$36,$E85,AD$59)&\"-\"&INDEX($B$3:$AI$36,AD$59,$E85)","v":"-"},{"$f":"INDEX($B$3:$AI$36,$E85,AE$59)&\"-\"&INDEX($B$3:$AI$36,AE$59,$E85)","v":"-"},{"$f":"INDEX($B$3:$AI$36,$E85,AF$59)&\"-\"&INDEX($B$3:$AI$36,AF$59,$E85)","v":"-"},{"$f":"INDEX($B$3:$AI$36,$E85,AG$59)&\"-\"&INDEX($B$3:$AI$36,AG$59,$E85)","v":"-"},{"$f":"INDEX($B$3:$AI$36,$E85,AH$59)&\"-\"&INDEX($B$3:$AI$36,AH$59,$E85)","v":"5-2"},{"$f":"INDEX($B$3:$AI$36,$E85,AI$59)&\"-\"&INDEX($B$3:$AI$36,AI$59,$E85)","v":"11-1"},{"$f":"INDEX($B$3:$AI$36,$E85,AJ$59)&\"-\"&INDEX($B$3:$AI$36,AJ$59,$E85)","v":"7-2"},{"$f":"INDEX($B$3:$AI$36,$E85,AK$59)&\"-\"&INDEX($B$3:$AI$36,AK$59,$E85)","v":"-"},{"$f":"INDEX($B$3:$AI$36,$E85,AL$59)&\"-\"&INDEX($B$3:$AI$36,AL$59,$E85)","v":"11-2"},{"$f":"INDEX($B$3:$AI$36,$E85,AM$59)&\"-\"&INDEX($B$3:$AI$36,AM$59,$E85)","v":"5-1"},{"$f":"INDEX($B$3:$AI$36,$E85,AN$59)&\"-\"&INDEX($B$3:$AI$36,AN$59,$E85)","v":"8-0"}]
[26,26,23,22,22,"322",{"$f":"INDEX($B$3:$AI$36,$E86,G$59)&\"-\"&INDEX($B$3:$AI$36,G$59,$E86)","v":"-"},{"$f":"INDEX($B$3:$AI$36,$E86,H$59)&\"-\"&INDEX($B$3:$AI$36,H$59,$E86)","v":"-"},{"$f":"INDEX($B$3:$AI$36,$E86,I$59)&\"-\"&INDEX($B$3:$AI$36,I$59,$E86)","v":"-"},{"$f":"INDEX($B$3:$AI$36,$E86,J$59)&\"-\"&INDEX($B$3:$AI$36,J$59,$E86)","v":"-"},{"$f":"INDEX($B$3:$AI$36,$E86,K$59)&\"-\"&INDEX($B$3:$AI$36,K$59,$E86)","v":"-"},{"$f":"INDEX($B$3:$AI$36,$E86,L$59)&\"-\"&INDEX($B$3:$AI$36,L$59,$E86)","v":"-"},{"$f":"INDEX($B$3:$AI$36,$E86,M$59)&\"-\"&INDEX($B$3:$AI$36,M$59,$E86)","v":"-"},{"$f":"INDEX($B$3:$AI$36,$E86,N$59)&\"-\"&INDEX($B$3:$AI$36,N$59,$E86)","v":"-"},{"$f":"INDEX($B$3:$AI$36,$E86,O$59)&\"-\"&INDEX($B$3:$AI$36,O$59,$E86)","v":"-"},{"$f":"INDEX($B$3:$AI$36,$E86,P$59)&\"-\"&INDEX($B$3:$AI$36,P$59,$E86)","v":"-"},{"$f":"INDEX($B$3:$AI$36,$E86,Q$59)&\"-\"&INDEX($B$3:$AI$36,Q$59,$E86)","v":"-"},{"$f":"INDEX($B$3:$AI$36,$E86,R$59)&\"-\"&INDEX($B$3:$AI$36,R$59,$E86)","v":"-"},{"$f":"INDEX($B$3:$AI$36,$E86,S$59)&\"-\"&INDEX($B$3:$AI$36,S$59,$E86)","v":"-"},{"$f":"INDEX($B$3:$AI$36,$E86,T$59)&\"-\"&INDEX($B$3:$AI$36,T$59,$E86)","v":"-"},{"$f":"INDEX($B$3:$AI$36,$E86,U$59)&\"-\"&INDEX($B$3:$AI$36,U$59,$E86)","v":"-"},{"$f":"INDEX($B$3:$AI$36,$E86,V$59)&\"-\"&INDEX($B$3:$AI$36,V$59,$E86)","v":"1-11"},{"$f":"INDEX($B$3:$AI$36,$E86,W$59)&\"-\"&INDEX($B$3:$AI$36,W$59,$E86)","v":"3-7"},{"$f":"INDEX($B$3:$AI$36,$E86,X$59)&\"-\"&INDEX($B$3:$AI$36,X$59,$E86)","v":"-"},{"$f":"INDEX($B$3:$AI$36,$E86,Y$59)&\"-\"&INDEX($B$3:$AI$36,Y$59,$E86)","v":"-"},{"$f":"INDEX($B$3:$AI$36,$E86,Z$59)&\"-\"&INDEX($B$3:$AI$36,Z$59,$E86)","v":"3-4"},{"$f":"INDEX($B$3:$AI$36,$E86,AA$59)&\"-\"&INDEX($B$3:$AI$36,AA$59,$E86)","v":"-"},{"$f":"INDEX($B$3:$AI$36,$E86,AB$59)&\"-\"&INDEX($B$3:$AI$36,AB$59,$E86)","v":"-"},{"$f":"INDEX($B$3:$AI$36,$E86,AC$59)&\"-\"&INDEX($B$3:$AI$36,AC$59,$E86)","v":"0-2"},{"$f":"INDEX($B$3:$AI$36,$E86,AD$59)&\"-\"&INDEX($B$3:$AI$36,AD$59,$E86)","v":"-"},{"$f":"INDEX($B$3:$AI$36,$E86,AE$59)&\"-\"&INDEX($B$3:$AI$36,AE$59,$E86)","v":"-"},{"$f":"INDEX($B$3:$AI$36,$E86,AF$59)&\"-\"&INDEX($B$3:$AI$36,AF$59,$E86)","v":"-"},{"$f":"INDEX($B$3:$AI$36,$E86,AG$59)&\"-\"&INDEX($B$3:$AI$36,AG$59,$E86)","v":"2-2"},{"$f":"INDEX($B$3:$AI$36,$E86,AH$59)&\"-\"&INDEX($B$3:$AI$36,AH$59,$E86)","v":"-"},{"$f":"INDEX($B$3:$AI$36,$E86,AI$59)&\"-\"&INDEX($B$3:$AI$36,AI$59,$E86)","v":"-"},{"$f":"INDEX($B$3:$AI$36,$E86,AJ$59)&\"-\"&INDEX($B$3:$AI$36,AJ$59,$E86)","v":"-"},{"$f":"INDEX($B$3:$AI$36,$E86,AK$59)&\"-\"&INDEX($B$3:$AI$36,AK$59,$E86)","v":"5-0"},{"$f":"INDEX($B$3:$AI$36,$E86,AL$59)&\"-\"&INDEX($B$3:$AI$36,AL$59,$E86)","v":"-"},{"$f":"INDEX($B$3:$AI$36,$E86,AM$59)&\"-\"&INDEX($B$3:$AI$36,AM$59,$E86)","v":"-"},{"$f":"INDEX($B$3:$AI$36,$E86,AN$59)&\"-\"&INDEX($B$3:$AI$36,AN$59,$E86)","v":"-"}]
[27,27,25,21,21,"321",{"$f":"INDEX($B$3:$AI$36,$E87,G$59)&\"-\"&INDEX($B$3:$AI$36,G$59,$E87)","v":"-"},{"$f":"INDEX($B$3:$AI$36,$E87,H$59)&\"-\"&INDEX($B$3:$AI$36,H$59,$E87)","v":"-"},{"$f":"INDEX($B$3:$AI$36,$E87,I$59)&\"-\"&INDEX($B$3:$AI$36,I$59,$E87)","v":"-"},{"$f":"INDEX($B$3:$AI$36,$E87,J$59)&\"-\"&INDEX($B$3:$AI$36,J$59,$E87)","v":"-"},{"$f":"INDEX($B$3:$AI$36,$E87,K$59)&\"-\"&INDEX($B$3:$AI$36,K$59,$E87)","v":"-"},{"$f":"INDEX($B$3:$AI$36,$E87,L$59)&\"-\"&INDEX($B$3:$AI$36,L$59,$E87)","v":"-"},{"$f":"INDEX($B$3:$AI$36,$E87,M$59)&\"-\"&INDEX($B$3:$AI$36,M$59,$E87)","v":"-"},{"$f":"INDEX($B$3:$AI$36,$E87,N$59)&\"-\"&INDEX($B$3:$AI$36,N$59,$E87)","v":"-"},{"$f":"INDEX($B$3:$AI$36,$E87,O$59)&\"-\"&INDEX($B$3:$AI$36,O$59,$E87)","v":"-"},{"$f":"INDEX($B$3:$AI$36,$E87,P$59)&\"-\"&INDEX($B$3:$AI$36,P$59,$E87)","v":"-"},{"$f":"INDEX($B$3:$AI$36,$E87,Q$59)&\"-\"&INDEX($B$3:$AI$36,Q$59,$E87)","v":"-"},{"$f":"INDEX($B$3:$AI$36,$E87,R$59)&\"-\"&INDEX($B$3:$AI$36,R$59,$E87)","v":"-"},{"$f":"INDEX($B$3:$AI$36,$E87,S$59)&\"-\"&INDEX($B$3:$AI$36,S$59,$E87)","v":"-"},{"$f":"INDEX($B$3:$AI$36,$E87,T$59)&\"-\"&INDEX($B$3:$AI$36,T$59,$E87)","v":"-"},{"$f":"INDEX($B$3:$AI$36,$E87,U$59)&\"-\"&INDEX($B$3:$AI$36,U$59,$E87)","v":"-"},{"$f":"INDEX($B$3:$AI$36,$E87,V$59)&\"-\"&INDEX($B$3:$AI$36,V$59,$E87)","v":"3-8"},{"$f":"INDEX($B$3:$AI$36,$E87,W$59)&\"-\"&INDEX($B$3:$AI$36,W$59,$E87)","v":"0-10"},{"$f":"INDEX($B$3:$AI$36,$E87,X$59)&\"-\"&INDEX($B$3:$AI$36,X$59,$E87)","v":"-"},{"$f":"INDEX($B$3:$AI$36,$E87,Y$59)&\"-\"&INDEX($B$3:$AI$36,Y$59,$E87)","v":"3-6"},{"$f":"INDEX($B$3:$AI$36,$E87,Z$59)&\"-\"&INDEX($B$3:$AI$36,Z$59,$E87)","v":"1-5"},{"$f":"INDEX($B$3:$AI$36,$E87,AA$59)&\"-\"&INDEX($B$3:$AI$36,AA$59,$E87)","v":"-"},{"$f":"INDEX($B$3:$AI$36,$E87,AB$59)&\"-\"&INDEX($B$3:$AI$36,AB$59,$E87)","v":"-"},{"$f":"INDEX($B$3:$AI$36,$E87,AC$59)&\"-\"&INDEX($B$3:$AI$36,AC$59,$E87)","v":"2-2"},{"$f":"INDEX($B$3:$AI$36,$E87,AD$59)&\"-\"&INDEX($B$3:$AI$36,AD$59,$E87)","v":"-"},{"$f":"INDEX($B$3:$AI$36,$E87,AE$59)&\"-\"&INDEX($B$3:$AI$36,AE$59,$E87)","v":"-"},{"$f":"INDEX($B$3:$AI$36,$E87,AF$59)&\"-\"&INDEX($B$3:$AI$36,AF$59,$E87)","v":"2-2"},{"$f":"INDEX($B$3:$AI$36,$E87,AG$59)&\"-\"&INDEX($B$3:$AI$36,AG$59,$E87)","v":"-"},{"$f":"INDEX($B$3:$AI$36,$E87,AH$59)&\"-\"&INDEX($B$3:$AI$36,AH$59,$E87)","v":"2-4"},{"$f":"INDEX($B$3:$AI$36,$E87,AI$59)&\"-\"&INDEX($B$3:$AI$36,AI$59,$E87)","v":"-"},{"$f":"INDEX($B$3:$AI$36,$E87,AJ$59)&\"-\"&INDEX($B$3:$AI$36,AJ$59,$E87)","v":"-"},{"$f":"INDEX($B$3:$AI$36,$E87,AK$59)&\"-\"&INDEX($B$3:$AI$36,AK$59,$E87)","v":"14-1"},{"$f":"INDEX($B$3:$AI$36,$E87,AL$59)&\"-\"&INDEX($B$3:$AI$36,AL$59,$E87)","v":"-"},{"$f":"INDEX($B$3:$AI$36,$E87,AM$59)&\"-\"&INDEX($B$3:$AI$36,AM$59,$E87)","v":"-"},{"$f":"INDEX($B$3:$AI$36,$E87,AN$59)&\"-\"&INDEX($B$3:$AI$36,AN$59,$E87)","v":"-"}]
[28,28,28,31,31,"331",{"$f":"INDEX($B$3:$AI$36,$E88,G$59)&\"-\"&INDEX($B$3:$AI$36,G$59,$E88)","v":"-"},{"$f":"INDEX($B$3:$AI$36,$E88,H$59)&\"-\"&INDEX($B$3:$AI$36,H$59,$E88)","v":"-"},{"$f":"INDEX($B$3:$AI$36,$E88,I$59)&\"-\"&INDEX($B$3:$AI$36,I$59,$E88)","v":"-"},{"$f":"INDEX($B$3:$AI$36,$E88,J$59)&\"-\"&INDEX($B$3:$AI$36,J$59,$E88)","v":"-"},{"$f":"INDEX($B$3:$AI$36,$E88,K$59)&\"-\"&INDEX($B$3:$AI$36,K$59,$E88)","v":"-"},{"$f":"INDEX($B$3:$AI$36,$E88,L$59)&\"-\"&INDEX($B$3:$AI$36,L$59,$E88)","v":"-"},{"$f":"INDEX($B$3:$AI$36,$E88,M$59)&\"-\"&INDEX($B$3:$AI$36,M$59,$E88)","v":"-"},{"$f":"INDEX($B$3:$AI$36,$E88,N$59)&\"-\"&INDEX($B$3:$AI$36,N$59,$E88)","v":"-"},{"$f":"INDEX($B$3:$AI$36,$E88,O$59)&\"-\"&INDEX($B$3:$AI$36,O$59,$E88)","v":"-"},{"$f":"INDEX($B$3:$AI$36,$E88,P$59)&\"-\"&INDEX($B$3:$AI$36,P$59,$E88)","v":"-"},{"$f":"INDEX($B$3:$AI$36,$E88,Q$59)&\"-\"&INDEX($B$3:$AI$36,Q$59,$E88)","v":"-"},{"$f":"INDEX($B$3:$AI$36,$E88,R$59)&\"-\"&INDEX($B$3:$AI$36,R$59,$E88)","v":"-"},{"$f":"INDEX($B$3:$AI$36,$E88,S$59)&\"-\"&INDEX($B$3:$AI$36,S$59,$E88)","v":"-"},{"$f":"INDEX($B$3:$AI$36,$E88,T$59)&\"-\"&INDEX($B$3:$AI$36,T$59,$E88)","v":"-"},{"$f":"INDEX($B$3:$AI$36,$E88,U$59)&\"-\"&INDEX($B$3:$AI$36,U$59,$E88)","v":"-"},{"$f":"INDEX($B$3:$AI$36,$E88,V$59)&\"-\"&INDEX($B$3:$AI$36,V$59,$E88)","v":"-"},{"$f":"INDEX($B$3:$AI$36,$E88,W$59)&\"-\"&INDEX($B$3:$AI$36,W$59,$E88)","v":"-"},{"$f":"INDEX($B$3:$AI$36,$E88,X$59)&\"-\"&INDEX($B$3:$AI$36,X$59,$E88)","v":"-"},{"$f":"INDEX($B$3:$AI$36,$E88,Y$59)&\"-\"&INDEX($B$3:$AI$36,Y$59,$E88)","v":"-"},{"$f":"INDEX($B$3:$AI$36,$E88,Z$59)&\"-\"&INDEX($B$3:$AI$36,Z$59,$E88)","v":"-"},{"$f":"INDEX($B$3:$AI$36,$E88,AA$59)&\"-\"&INDEX($B$3:$AI$36,AA$59,$E88)","v":"-"},{"$f":"INDEX($B$3:$AI$36,$E88,AB$59)&\"-\"&INDEX($B$3:$AI$36,AB$59,$E88)","v":"1-9"},{"$f":"INDEX($B$3:$AI$36,$E88,AC$59)&\"-\"&INDEX($B$3:$AI$36,AC$59,$E88)","v":"-"},{"$f":"INDEX($B$3:$AI$36,$E88,AD$59)&\"-\"&INDEX($B$3:$AI$36,AD$59,$E88)","v":"9-4"},{"$f":"INDEX($B$3:$AI$36,$E88,AE$59)&\"-\"&INDEX($B$3:$AI$36,AE$59,$E88)","v":"2-5"},{"$f":"INDEX($B$3:$AI$36,$E88,AF$59)&\"-\"&INDEX($B$3:$AI$36,AF$59,$E88)","v":"-"},{"$f":"INDEX($B$3:$AI$36,$E88,AG$59)&\"-\"&INDEX($B$3:$AI$36,AG$59,$E88)","v":"4-2"},{"$f":"INDEX($B$3:$AI$36,$E88,AH$59)&\"-\"&INDEX($B$3:$AI$36,AH$59,$E88)","v":"-"},{"$f":"INDEX($B$3:$AI$36,$E88,AI$59)&\"-\"&INDEX($B$3:$AI$36,AI$59,$E88)","v":"1-4"},{"$f":"INDEX($B$3:$AI$36,$E88,AJ$59)&\"-\"&INDEX($B$3:$AI$36,AJ$59,$E88)","v":"3-4"},{"$f":"INDEX($B$3:$AI$36,$E88,AK$59)&\"-\"&INDEX($B$3:$AI$36,AK$59,$E88)","v":"-"},{"$f":"INDEX($B$3:$AI$36,$E88,AL$59)&\"-\"&INDEX($B$3:$AI$36,AL$59,$E88)","v":"7-1"},{"$f":"INDEX($B$3:$AI$36,$E88,AM$59)&\"-\"&INDEX($B$3:$AI$36,AM$59,$E88)","v":"-"},{"$f":"INDEX($B$3:$AI$36,$E88,AN$59)&\"-\"&INDEX($B$3:$AI$36,AN$59,$E88)","v":"10-1"}]
[29,29,29,30,30,"330",{"$f":"INDEX($B$3:$AI$36,$E89,G$59)&\"-\"&INDEX($B$3:$AI$36,G$59,$E89)","v":"-"},{"$f":"INDEX($B$3:$AI$36,$E89,H$59)&\"-\"&INDEX($B$3:$AI$36,H$59,$E89)","v":"-"},{"$f":"INDEX($B$3:$AI$36,$E89,I$59)&\"-\"&INDEX($B$3:$AI$36,I$59,$E89)","v":"-"},{"$f":"INDEX($B$3:$AI$36,$E89,J$59)&\"-\"&INDEX($B$3:$AI$36,J$59,$E89)","v":"-"},{"$f":"INDEX($B$3:$AI$36,$E89,K$59)&\"-\"&INDEX($B$3:$AI$36,K$59,$E89)","v":"-"},{"$f":"INDEX($B$3:$AI$36,$E89,L$59)&\"-\"&INDEX($B$3:$AI$36,L$59,$E89)","v":"-"},{"$f":"INDEX($B$3:$AI$36,$E89,M$59)&\"-\"&INDEX($B$3:$AI$36,M$59,$E89)","v":"-"},{"$f":"INDEX($B$3:$AI$36,$E89,N$59)&\"-\"&INDEX($B$3:$AI$36,N$59,$E89)","v":"-"},{"$f":"INDEX($B$3:$AI$36,$E89,O$59)&\"-\"&INDEX($B$3:$AI$36,O$59,$E89)","v":"-"},{"$f":"INDEX($B$3:$AI$36,$E89,P$59)&\"-\"&INDEX($B$3:$AI$36,P$59,$E89)","v":"-"},{"$f":"INDEX($B$3:$AI$36,$E89,Q$59)&\"-\"&INDEX($B$3:$AI$36,Q$59,$E89)","v":"-"},{"$f":"INDEX($B$3:$AI$36,$E89,R$59)&\"-\"&INDEX($B$3:$AI$36,R$59,$E89)","v":"-"},{"$f":"INDEX($B$3:$AI$36,$E89,S$59)&\"-\"&INDEX($B$3:$AI$36,S$59,$E89)","v":"-"},{"$f":"INDEX($B$3:$AI$36,$E89,T$59)&\"-\"&INDEX($B$3:$AI$36,T$59,$E89)","v":"-"},{"$f":"INDEX($B$3:$AI$36,$E89,U$59)&\"-\"&INDEX($B$3:$AI$36,U$59,$E89)","v":"-"},{"$f":"INDEX($B$3:$AI$36,$E89,V$59)&\"-\"&INDEX($B$3:$AI$36,V$59,$E89)","v":"-"},{"$f":"INDEX($B$3:$AI$36,$E89,W$59)&\"-\"&INDEX($B$3:$AI$36,W$59,$E89)","v":"-"},{"$f":"INDEX($B$3:$AI$36,$E89,X$59)&\"-\"&INDEX($B$3:$AI$36,X$59,$E89)","v":"-"},{"$f":"INDEX($B$3:$AI$36,$E89,Y$59)&\"-\"&INDEX($B$3:$AI$36,Y$59,$E89)","v":"1-8"},{"$f":"INDEX($B$3:$AI$36,$E89,Z$59)&\"-\"&INDEX($B$3:$AI$36,Z$59,$E89)","v":"-"},{"$f":"INDEX($B$3:$AI$36,$E89,AA$59)&\"-\"&INDEX($B$3:$AI$36,AA$59,$E89)","v":"-"},{"$f":"INDEX($B$3:$AI$36,$E89,AB$59)&\"-\"&INDEX($B$3:$AI$36,AB$59,$E89)","v":"0-1"},{"$f":"INDEX($B$3:$AI$36,$E89,AC$59)&\"-\"&INDEX($B$3:$AI$36,AC$59,$E89)","v":"-"},{"$f":"INDEX($B$3:$AI$36,$E89,AD$59)&\"-\"&INDEX($B$3:$AI$36,AD$59,$E89)","v":"1-20"},{"$f":"INDEX($B$3:$AI$36,$E89,AE$59)&\"-\"&INDEX($B$3:$AI$36,AE$59,$E89)","v":"1-11"},{"$f":"INDEX($B$3:$AI$36,$E89,AF$59)&\"-\"&INDEX($B$3:$AI$36,AF$59,$E89)","v":"-"},{"$f":"INDEX($B$3:$AI$36,$E89,AG$59)&\"-\"&INDEX($B$3:$AI$36,AG$59,$E89)","v":"-"},{"$f":"INDEX($B$3:$AI$36,$E89,AH$59)&\"-\"&INDEX($B$3:$AI$36,AH$59,$E89)","v":"4-1"},{"$f":"INDEX($B$3:$AI$36,$E89,AI$59)&\"-\"&INDEX($B$3:$AI$36,AI$59,$E89)","v":"-"},{"$f":"INDEX($B$3:$AI$36,$E89,AJ$59)&\"-\"&INDEX($B$3:$AI$36,AJ$59,$E89)","v":"1-0"},{"$f":"INDEX($B$3:$AI$36,$E89,AK$59)&\"-\"&INDEX($B$3:$AI$36,AK$59,$E89)","v":"-"},{"$f":"INDEX($B$3:$AI$36,$E89,AL$59)&\"-\"&INDEX($B$3:$AI$36,AL$59,$E89)","v":"6-3"},{"$f":"INDEX($B$3:$AI$36,$E89,AM$59)&\"-\"&INDEX($B$3:$AI$36,AM$59,$E89)","v":"-"},{"$f":"INDEX($B$3:$AI$36,$E89,AN$59)&\"-\"&INDEX($B$3:$AI$36,AN$59,$E89)","v":"2-4"}]
[30,30,30,34,34,"334",{"$f":"INDEX($B$3:$AI$36,$E90,G$59)&\"-\"&INDEX($B$3:$AI$36,G$59,$E90)","v":"-"},{"$f":"INDEX($B$3:$AI$36,$E90,H$59)&\"-\"&INDEX($B$3:$AI$36,H$59,$E90)","v":"-"},{"$f":"INDEX($B$3:$AI$36,$E90,I$59)&\"-\"&INDEX($B$3:$AI$36,I$59,$E90)","v":"-"},{"$f":"INDEX($B$3:$AI$36,$E90,J$59)&\"-\"&INDEX($B$3:$AI$36,J$59,$E90)","v":"-"},{"$f":"INDEX($B$3:$AI$36,$E90,K$59)&\"-\"&INDEX($B$3:$AI$36,K$59,$E90)","v":"-"},{"$f":"INDEX($B$3:$AI$36,$E90,L$59)&\"-\"&INDEX($B$3:$AI$36,L$59,$E90)","v":"-"},{"$f":"INDEX($B$3:$AI$36,$E90,M$59)&\"-\"&INDEX($B$3:$AI$36,M$59,$E90)","v":"-"},{"$f":"INDEX($B$3:$AI$36,$E90,N$59)&\"-\"&INDEX($B$3:$AI$36,N$59,$E90)","v":"-"},{"$f":"INDEX($B$3:$AI$36,$E90,O$59)&\"-\"&INDEX($B$3:$AI$36,O$59,$E90)","v":"-"},{"$f":"INDEX($B$3:$AI$36,$E90,P$59)&\"-\"&INDEX($B$3:$AI$36,P$59,$E90)","v":"-"},{"$f":"INDEX($B$3:$AI$36,$E90,Q$59)&\"-\"&INDEX($B$3:$AI$36,Q$59,$E90)","v":"-"},{"$f":"INDEX($B$3:$AI$36,$E90,R$59)&\"-\"&INDEX($B$3:$AI$36,R$59,$E90)","v":"-"},{"$f":"INDEX($B$3:$AI$36,$E90,S$59)&\"-\"&INDEX($B$3:$AI$36,S$59,$E90)","v":"-"},{"$f":"INDEX($B$3:$AI$36,$E90,T$59)&\"-\"&INDEX($B$3:$AI$36,T$59,$E90)","v":"-"},{"$f":"INDEX($B$3:$AI$36,$E90,U$59)&\"-\"&INDEX($B$3:$AI$36,U$59,$E90)","v":"-"},{"$f":"INDEX($B$3:$AI$36,$E90,V$59)&\"-\"&INDEX($B$3:$AI$36,V$59,$E90)","v":"-"},{"$f":"INDEX($B$3:$AI$36,$E90,W$59)&\"-\"&INDEX($B$3:$AI$36,W$59,$E90)","v":"-"},{"$f":"INDEX($B$3:$AI$36,$E90,X$59)&\"-\"&INDEX($B$3:$AI$36,X$59,$E90)","v":"-"},{"$f":"INDEX($B$3:$AI$36,$E90,Y$59)&\"-\"&INDEX($B$3:$AI$36,Y$59,$E90)","v":"-"},{"$f":"INDEX($B$3:$AI$36,$E90,Z$59)&\"-\"&INDEX($B$3:$AI$36,Z$59,$E90)","v":"-"},{"$f":"INDEX($B$3:$AI$36,$E90,AA$59)&\"-\"&INDEX($B$3:$AI$36,AA$59,$E90)","v":"-"},{"$f":"INDEX($B$3:$AI$36,$E90,AB$59)&\"-\"&INDEX($B$3:$AI$36,AB$59,$E90)","v":"1-9"},{"$f":"INDEX($B$3:$AI$36,$E90,AC$59)&\"-\"&INDEX($B$3:$AI$36,AC$59,$E90)","v":"-"},{"$f":"INDEX($B$3:$AI$36,$E90,AD$59)&\"-\"&INDEX($B$3:$AI$36,AD$59,$E90)","v":"1-9"},{"$f":"INDEX($B$3:$AI$36,$E90,AE$59)&\"-\"&INDEX($B$3:$AI$36,AE$59,$E90)","v":"2-7"},{"$f":"INDEX($B$3:$AI$36,$E90,AF$59)&\"-\"&INDEX($B$3:$AI$36,AF$59,$E90)","v":"-"},{"$f":"INDEX($B$3:$AI$36,$E90,AG$59)&\"-\"&INDEX($B$3:$AI$36,AG$59,$E90)","v":"-"},{"$f":"INDEX($B$3:$AI$36,$E90,AH$59)&\"-\"&INDEX($B$3:$AI$36,AH$59,$E90)","v":"4-3"},{"$f":"INDEX($B$3:$AI$36,$E90,AI$59)&\"-\"&INDEX($B$3:$AI$36,AI$59,$E90)","v":"0-1"},{"$f":"INDEX($B$3:$AI$36,$E90,AJ$59)&\"-\"&INDEX($B$3:$AI$36,AJ$59,$E90)","v":"-"},{"$f":"INDEX($B$3:$AI$36,$E90,AK$59)&\"-\"&INDEX($B$3:$AI$36,AK$59,$E90)","v":"-"},{"$f":"INDEX($B$3:$AI$36,$E90,AL$59)&\"-\"&INDEX($B$3:$AI$36,AL$59,$E90)","v":"7-8"},{"$f":"INDEX($B$3:$AI$36,$E90,AM$59)&\"-\"&INDEX($B$3:$AI$36,AM$59,$E90)","v":"-"},{"$f":"INDEX($B$3:$AI$36,$E90,AN$59)&\"-\"&INDEX($B$3:$AI$36,AN$59,$E90)","v":"10-0"}]
[31,31,31,24,24,"324",{"$f":"INDEX($B$3:$AI$36,$E91,G$59)&\"-\"&INDEX($B$3:$AI$36,G$59,$E91)","v":"-"},{"$f":"INDEX($B$3:$AI$36,$E91,H$59)&\"-\"&INDEX($B$3:$AI$36,H$59,$E91)","v":"-"},{"$f":"INDEX($B$3:$AI$36,$E91,I$59)&\"-\"&INDEX($B$3:$AI$36,I$59,$E91)","v":"-"},{"$f":"INDEX($B$3:$AI$36,$E91,J$59)&\"-\"&INDEX($B$3:$AI$36,J$59,$E91)","v":"-"},{"$f":"INDEX($B$3:$AI$36,$E91,K$59)&\"-\"&INDEX($B$3:$AI$36,K$59,$E91)","v":"-"},{"$f":"INDEX($B$3:$AI$36,$E91,L$59)&\"-\"&INDEX($B$3:$AI$36,L$59,$E91)","v":"-"},{"$f":"INDEX($B$3:$AI$36,$E91,M$59)&\"-\"&INDEX($B$3:$AI$36,M$59,$E91)","v":"-"},{"$f":"INDEX($B$3:$AI$36,$E91,N$59)&\"-\"&INDEX($B$3:$AI$36,N$59,$E91)","v":"-"},{"$f":"INDEX($B$3:$AI$36,$E91,O$59)&\"-\"&INDEX($B$3:$AI$36,O$59,$E91)","v":"-"},{"$f":"INDEX($B$3:$AI$36,$E91,P$59)&\"-\"&INDEX($B$3:$AI$36,P$59,$E91)","v":"-"},{"$f":"INDEX($B$3:$AI$36,$E91,Q$59)&\"-\"&INDEX($B$3:$AI$36,Q$59,$E91)","v":"-"},{"$f":"INDEX($B$3:$AI$36,$E91,R$59)&\"-\"&INDEX($B$3:$AI$36,R$59,$E91)","v":"-"},{"$f":"INDEX($B$3:$AI$36,$E91,S$59)&\"-\"&INDEX($B$3:$AI$36,S$59,$E91)","v":"-"},{"$f":"INDEX($B$3:$AI$36,$E91,T$59)&\"-\"&INDEX($B$3:$AI$36,T$59,$E91)","v":"-"},{"$f":"INDEX($B$3:$AI$36,$E91,U$59)&\"-\"&INDEX($B$3:$AI$36,U$59,$E91)","v":"-"},{"$f":"INDEX($B$3:$AI$36,$E91,V$59)&\"-\"&INDEX($B$3:$AI$36,V$59,$E91)","v":"-"},{"$f":"INDEX($B$3:$AI$36,$E91,W$59)&\"-\"&INDEX($B$3:$AI$36,W$59,$E91)","v":"-"},{"$f":"INDEX($B$3:$AI$36,$E91,X$59)&\"-\"&INDEX($B$3:$AI$36,X$59,$E91)","v":"-"},{"$f":"INDEX($B$3:$AI$36,$E91,Y$59)&\"-\"&INDEX($B$3:$AI$36,Y$59,$E91)","v":"0-10"},{"$f":"INDEX($B$3:$AI$36,$E91,Z$59)&\"-\"&INDEX($B$3:$AI$36,Z$59,$E91)","v":"-"},{"$f":"INDEX($B$3:$AI$36,$E91,AA$59)&\"-\"&INDEX($B$3:$AI$36,AA$59,$E91)","v":"-"},{"$f":"INDEX($B$3:$AI$36,$E91,AB$59)&\"-\"&INDEX($B$3:$AI$36,AB$59,$E91)","v":"1-9"},{"$f":"INDEX($B$3:$AI$36,$E91,AC$59)&\"-\"&INDEX($B$3:$AI$36,AC$59,$E91)","v":"2-4"},{"$f":"INDEX($B$3:$AI$36,$E91,AD$59)&\"-\"&INDEX($B$3:$AI$36,AD$59,$E91)","v":"-"},{"$f":"INDEX($B$3:$AI$36,$E91,AE$59)&\"-\"&INDEX($B$3:$AI$36,AE$59,$E91)","v":"-"},{"$f":"INDEX($B$3:$AI$36,$E91,AF$59)&\"-\"&INDEX($B$3:$AI$36,AF$59,$E91)","v":"0-5"},{"$f":"INDEX($B$3:$AI$36,$E91,AG$59)&\"-\"&INDEX($B$3:$AI$36,AG$59,$E91)","v":"1-14"},{"$f":"INDEX($B$3:$AI$36,$E91,AH$59)&\"-\"&INDEX($B$3:$AI$36,AH$59,$E91)","v":"-"},{"$f":"INDEX($B$3:$AI$36,$E91,AI$59)&\"-\"&INDEX($B$3:$AI$36,AI$59,$E91)","v":"-"},{"$f":"INDEX($B$3:$AI$36,$E91,AJ$59)&\"-\"&INDEX($B$3:$AI$36,AJ$59,$E91)","v":"-"},{"$f":"INDEX($B$3:$AI$36,$E91,AK$59)&\"-\"&INDEX($B$3:$AI$36,AK$59,$E91)","v":"-"},{"$f":"INDEX($B$3:$AI$36,$E91,AL$59)&\"-\"&INDEX($B$3:$AI$36,AL$59,$E91)","v":"8-1"},{"$f":"INDEX($B$3:$AI$36,$E91,AM$59)&\"-\"&INDEX($B$3:$AI$36,AM$59,$E91)","v":"2-3"},{"$f":"INDEX($B$3:$AI$36,$E91,AN$59)&\"-\"&INDEX($B$3:$AI$36,AN$59,$E91)","v":"-"}]
[32,33,32,27,27,"327",{"$f":"INDEX($B$3:$AI$36,$E92,G$59)&\"-\"&INDEX($B$3:$AI$36,G$59,$E92)","v":"-"},{"$f":"INDEX($B$3:$AI$36,$E92,H$59)&\"-\"&INDEX($B$3:$AI$36,H$59,$E92)","v":"-"},{"$f":"INDEX($B$3:$AI$36,$E92,I$59)&\"-\"&INDEX($B$3:$AI$36,I$59,$E92)","v":"-"},{"$f":"INDEX($B$3:$AI$36,$E92,J$59)&\"-\"&INDEX($B$3:$AI$36,J$59,$E92)","v":"-"},{"$f":"INDEX($B$3:$AI$36,$E92,K$59)&\"-\"&INDEX($B$3:$AI$36,K$59,$E92)","v":"-"},{"$f":"INDEX($B$3:$AI$36,$E92,L$59)&\"-\"&INDEX($B$3:$AI$36,L$59,$E92)","v":"-"},{"$f":"INDEX($B$3:$AI$36,$E92,M$59)&\"-\"&INDEX($B$3:$AI$36,M$59,$E92)","v":"-"},{"$f":"INDEX($B$3:$AI$36,$E92,N$59)&\"-\"&INDEX($B$3:$AI$36,N$59,$E92)","v":"-"},{"$f":"INDEX($B$3:$AI$36,$E92,O$59)&\"-\"&INDEX($B$3:$AI$36,O$59,$E92)","v":"-"},{"$f":"INDEX($B$3:$AI$36,$E92,P$59)&\"-\"&INDEX($B$3:$AI$36,P$59,$E92)","v":"-"},{"$f":"INDEX($B$3:$AI$36,$E92,Q$59)&\"-\"&INDEX($B$3:$AI$36,Q$59,$E92)","v":"-"},{"$f":"INDEX($B$3:$AI$36,$E92,R$59)&\"-\"&INDEX($B$3:$AI$36,R$59,$E92)","v":"-"},{"$f":"INDEX($B$3:$AI$36,$E92,S$59)&\"-\"&INDEX($B$3:$AI$36,S$59,$E92)","v":"-"},{"$f":"INDEX($B$3:$AI$36,$E92,T$59)&\"-\"&INDEX($B$3:$AI$36,T$59,$E92)","v":"-"},{"$f":"INDEX($B$3:$AI$36,$E92,U$59)&\"-\"&INDEX($B$3:$AI$36,U$59,$E92)","v":"-"},{"$f":"INDEX($B$3:$AI$36,$E92,V$59)&\"-\"&INDEX($B$3:$AI$36,V$59,$E92)","v":"-"},{"$f":"INDEX($B$3:$AI$36,$E92,W$59)&\"-\"&INDEX($B$3:$AI$36,W$59,$E92)","v":"-"},{"$f":"INDEX($B$3:$AI$36,$E92,X$59)&\"-\"&INDEX($B$3:$AI$36,X$59,$E92)","v":"-"},{"$f":"INDEX($B$3:$AI$36,$E92,Y$59)&\"-\"&INDEX($B$3:$AI$36,Y$59,$E92)","v":"2-12"},{"$f":"INDEX($B$3:$AI$36,$E92,Z$59)&\"-\"&INDEX($B$3:$AI$36,Z$59,$E92)","v":"-"},{"$f":"INDEX($B$3:$AI$36,$E92,AA$59)&\"-\"&INDEX($B$3:$AI$36,AA$59,$E92)","v":"-"},{"$f":"INDEX($B$3:$AI$36,$E92,AB$59)&\"-\"&INDEX($B$3:$AI$36,AB$59,$E92)","v":"0-12"},{"$f":"INDEX($B$3:$AI$36,$E92,AC$59)&\"-\"&INDEX($B$3:$AI$36,AC$59,$E92)","v":"-"},{"$f":"INDEX($B$3:$AI$36,$E92,AD$59)&\"-\"&INDEX($B$3:$AI$36,AD$59,$E92)","v":"1-10"},{"$f":"INDEX($B$3:$AI$36,$E92,AE$59)&\"-\"&INDEX($B$3:$AI$36,AE$59,$E92)","v":"2-11"},{"$f":"INDEX($B$3:$AI$36,$E92,AF$59)&\"-\"&INDEX($B$3:$AI$36,AF$59,$E92)","v":"-"},{"$f":"INDEX($B$3:$AI$36,$E92,AG$59)&\"-\"&INDEX($B$3:$AI$36,AG$59,$E92)","v":"-"},{"$f":"INDEX($B$3:$AI$36,$E92,AH$59)&\"-\"&INDEX($B$3:$AI$36,AH$59,$E92)","v":"1-7"},{"$f":"INDEX($B$3:$AI$36,$E92,AI$59)&\"-\"&INDEX($B$3:$AI$36,AI$59,$E92)","v":"3-6"},{"$f":"INDEX($B$3:$AI$36,$E92,AJ$59)&\"-\"&INDEX($B$3:$AI$36,AJ$59,$E92)","v":"8-7"},{"$f":"INDEX($B$3:$AI$36,$E92,AK$59)&\"-\"&INDEX($B$3:$AI$36,AK$59,$E92)","v":"1-8"},{"$f":"INDEX($B$3:$AI$36,$E92,AL$59)&\"-\"&INDEX($B$3:$AI$36,AL$59,$E92)","v":"-"},{"$f":"INDEX($B$3:$AI$36,$E92,AM$59)&\"-\"&INDEX($B$3:$AI$36,AM$59,$E92)","v":"2-0"},{"$f":"INDEX($B$3:$AI$36,$E92,AN$59)&\"-\"&INDEX($B$3:$AI$36,AN$59,$E92)","v":"-"}]
[33,32,34,26,26,"326",{"$f":"INDEX($B$3:$AI$36,$E93,G$59)&\"-\"&INDEX($B$3:$AI$36,G$59,$E93)","v":"-"},{"$f":"INDEX($B$3:$AI$36,$E93,H$59)&\"-\"&INDEX($B$3:$AI$36,H$59,$E93)","v":"-"},{"$f":"INDEX($B$3:$AI$36,$E93,I$59)&\"-\"&INDEX($B$3:$AI$36,I$59,$E93)","v":"-"},{"$f":"INDEX($B$3:$AI$36,$E93,J$59)&\"-\"&INDEX($B$3:$AI$36,J$59,$E93)","v":"-"},{"$f":"INDEX($B$3:$AI$36,$E93,K$59)&\"-\"&INDEX($B$3:$AI$36,K$59,$E93)","v":"-"},{"$f":"INDEX($B$3:$AI$36,$E93,L$59)&\"-\"&INDEX($B$3:$AI$36,L$59,$E93)","v":"-"},{"$f":"INDEX($B$3:$AI$36,$E93,M$59)&\"-\"&INDEX($B$3:$AI$36,M$59,$E93)","v":"-"},{"$f":"INDEX($B$3:$AI$36,$E93,N$59)&\"-\"&INDEX($B$3:$AI$36,N$59,$E93)","v":"-"},{"$f":"INDEX($B$3:$AI$36,$E93,O$59)&\"-\"&INDEX($B$3:$AI$36,O$59,$E93)","v":"-"},{"$f":"INDEX($B$3:$AI$36,$E93,P$59)&\"-\"&INDEX($B$3:$AI$36,P$59,$E93)","v":"-"},{"$f":"INDEX($B$3:$AI$36,$E93,Q$59)&\"-\"&INDEX($B$3:$AI$36,Q$59,$E93)","v":"-"},{"$f":"INDEX($B$3:$AI$36,$E93,R$59)&\"-\"&INDEX($B$3:$AI$36,R$59,$E93)","v":"-"},{"$f":"INDEX($B$3:$AI$36,$E93,S$59)&\"-\"&INDEX($B$3:$AI$36,S$59,$E93)","v":"-"},{"$f":"INDEX($B$3:$AI$36,$E93,T$59)&\"-\"&INDEX($B$3:$AI$36,T$59,$E93)","v":"0-12"},{"$f":"INDEX($B$3:$AI$36,$E93,U$59)&\"-\"&INDEX($B$3:$AI$36,U$59,$E93)","v":"-"},{"$f":"INDEX($B$3:$AI$36,$E93,V$59)&\"-\"&INDEX($B$3:$AI$36,V$59,$E93)","v":"-"},{"$f":"INDEX($B$3:$AI$36,$E93,W$59)&\"-\"&INDEX($B$3:$AI$36,W$59,$E93)","v":"-"},{"$f":"INDEX($B$3:$AI$36,$E93,X$59)&\"-\"&INDEX($B$3:$AI$36,X$59,$E93)","v":"-"},{"$f":"INDEX($B$3:$AI$36,$E93,Y$59)&\"-\"&INDEX($B$3:$AI$36,Y$59,$E93)","v":"-"},{"$f":"INDEX($B$3:$AI$36,$E93,Z$59)&\"-\"&INDEX($B$3:$AI$36,Z$59,$E93)","v":"-"},{"$f":"INDEX($B$3:$AI$36,$E93,AA$59)&\"-\"&INDEX($B$3:$AI$36,AA$59,$E93)","v":"-"},{"$f":"INDEX($B$3:$AI$36,$E93,AB$59)&\"-\"&INDEX($B$3:$AI$36,AB$59,$E93)","v":"1-17"},{"$f":"INDEX($B$3:$AI$36,$E93,AC$59)&\"-\"&INDEX($B$3:$AI$36,AC$59,$E93)","v":"-"},{"$f":"INDEX($B$3:$AI$36,$E93,AD$59)&\"-\"&INDEX($B$3:$AI$36,AD$59,$E93)","v":"1-9"},{"$f":"INDEX($B$3:$AI$36,$E93,AE$59)&\"-\"&INDEX($B$3:$AI$36,AE$59,$E93)","v":"1-5"},{"$f":"INDEX($B$3:$AI$36,$E93,AF$59)&\"-\"&INDEX($B$3:$AI$36,AF$59,$E93)","v":"-"},{"$f":"INDEX($B$3:$AI$36,$E93,AG$59)&\"-\"&INDEX($B$3:$AI$36,AG$59,$E93)","v":"-"},{"$f":"INDEX($B$3:$AI$36,$E93,AH$59)&\"-\"&INDEX($B$3:$AI$36,AH$59,$E93)","v":"-"},{"$f":"INDEX($B$3:$AI$36,$E93,AI$59)&\"-\"&INDEX($B$3:$AI$36,AI$59,$E93)","v":"-"},{"$f":"INDEX($B$3:$AI$36,$E93,AJ$59)&\"-\"&INDEX($B$3:$AI$36,AJ$59,$E93)","v":"-"},{"$f":"INDEX($B$3:$AI$36,$E93,AK$59)&\"-\"&INDEX($B$3:$AI$36,AK$59,$E93)","v":"3-2"},{"$f":"INDEX($B$3:$AI$36,$E93,AL$59)&\"-\"&INDEX($B$3:$AI$36,AL$59,$E93)","v":"0-2"},{"$f":"INDEX($B$3:$AI$36,$E93,AM$59)&\"-\"&INDEX($B$3:$AI$36,AM$59,$E93)","v":"-"},{"$f":"INDEX($B$3:$AI$36,$E93,AN$59)&\"-\"&INDEX($B$3:$AI$36,AN$59,$E93)","v":"-"}]
[34,34,33,32,32,"332",{"$f":"INDEX($B$3:$AI$36,$E94,G$59)&\"-\"&INDEX($B$3:$AI$36,G$59,$E94)","v":"-"},{"$f":"INDEX($B$3:$AI$36,$E94,H$59)&\"-\"&INDEX($B$3:$AI$36,H$59,$E94)","v":"-"},{"$f":"INDEX($B$3:$AI$36,$E94,I$59)&\"-\"&INDEX($B$3:$AI$36,I$59,$E94)","v":"-"},{"$f":"INDEX($B$3:$AI$36,$E94,J$59)&\"-\"&INDEX($B$3:$AI$36,J$59,$E94)","v":"-"},{"$f":"INDEX($B$3:$AI$36,$E94,K$59)&\"-\"&INDEX($B$3:$AI$36,K$59,$E94)","v":"-"},{"$f":"INDEX($B$3:$AI$36,$E94,L$59)&\"-\"&INDEX($B$3:$AI$36,L$59,$E94)","v":"-"},{"$f":"INDEX($B$3:$AI$36,$E94,M$59)&\"-\"&INDEX($B$3:$AI$36,M$59,$E94)","v":"-"},{"$f":"INDEX($B$3:$AI$36,$E94,N$59)&\"-\"&INDEX($B$3:$AI$36,N$59,$E94)","v":"-"},{"$f":"INDEX($B$3:$AI$36,$E94,O$59)&\"-\"&INDEX($B$3:$AI$36,O$59,$E94)","v":"-"},{"$f":"INDEX($B$3:$AI$36,$E94,P$59)&\"-\"&INDEX($B$3:$AI$36,P$59,$E94)","v":"-"},{"$f":"INDEX($B$3:$AI$36,$E94,Q$59)&\"-\"&INDEX($B$3:$AI$36,Q$59,$E94)","v":"-"},{"$f":"INDEX($B$3:$AI$36,$E94,R$59)&\"-\"&INDEX($B$3:$AI$36,R$59,$E94)","v":"-"},{"$f":"INDEX($B$3:$AI$36,$E94,S$59)&\"-\"&INDEX($B$3:$AI$36,S$59,$E94)","v":"-"},{"$f":"INDEX($B$3:$AI$36,$E94,T$59)&\"-\"&INDEX($B$3:$AI$36,T$59,$E94)","v":"-"},{"$f":"INDEX($B$3:$AI$36,$E94,U$59)&\"-\"&INDEX($B$3:$AI$36,U$59,$E94)","v":"-"},{"$f":"INDEX($B$3:$AI$36,$E94,V$59)&\"-\"&INDEX($B$3:$AI$36,V$59,$E94)","v":"-"},{"$f":"INDEX($B$3:$AI$36,$E94,W$59)&\"-\"&INDEX($B$3:$AI$36,W$59,$E94)","v":"-"},{"$f":"INDEX($B$3:$AI$36,$E94,X$59)&\"-\"&INDEX($B$3:$AI$36,X$59,$E94)","v":"-"},{"$f":"INDEX($B$3:$AI$36,$E94,Y$59)&\"-\"&INDEX($B$3:$AI$36,Y$59,$E94)","v":"0-10"},{"$f":"INDEX($B$3:$AI$36,$E94,Z$59)&\"-\"&INDEX($B$3:$AI$36,Z$59,$E94)","v":"-"},{"$f":"INDEX($B$3:$AI$36,$E94,AA$59)&\"-\"&INDEX($B$3:$AI$36,AA$59,$E94)","v":"-"},{"$f":"INDEX($B$3:$AI$36,$E94,AB$59)&\"-\"&INDEX($B$3:$AI$36,AB$59,$E94)","v":"0-10"},{"$f":"INDEX($B$3:$AI$36,$E94,AC$59)&\"-\"&INDEX($B$3:$AI$36,AC$59,$E94)","v":"-"},{"$f":"INDEX($B$3:$AI$36,$E94,AD$59)&\"-\"&INDEX($B$3:$AI$36,AD$59,$E94)","v":"1-8"},{"$f":"INDEX($B$3:$AI$36,$E94,AE$59)&\"-\"&INDEX($B$3:$AI$36,AE$59,$E94)","v":"0-8"},{"$f":"INDEX($B$3:$AI$36,$E94,AF$59)&\"-\"&INDEX($B$3:$AI$36,AF$59,$E94)","v":"-"},{"$f":"INDEX($B$3:$AI$36,$E94,AG$59)&\"-\"&INDEX($B$3:$AI$36,AG$59,$E94)","v":"-"},{"$f":"INDEX($B$3:$AI$36,$E94,AH$59)&\"-\"&INDEX($B$3:$AI$36,AH$59,$E94)","v":"1-10"},{"$f":"INDEX($B$3:$AI$36,$E94,AI$59)&\"-\"&INDEX($B$3:$AI$36,AI$59,$E94)","v":"4-2"},{"$f":"INDEX($B$3:$AI$36,$E94,AJ$59)&\"-\"&INDEX($B$3:$AI$36,AJ$59,$E94)","v":"0-10"},{"$f":"INDEX($B$3:$AI$36,$E94,AK$59)&\"-\"&INDEX($B$3:$AI$36,AK$59,$E94)","v":"-"},{"$f":"INDEX($B$3:$AI$36,$E94,AL$59)&\"-\"&INDEX($B$3:$AI$36,AL$59,$E94)","v":"-"},{"$f":"INDEX($B$3:$AI$36,$E94,AM$59)&\"-\"&INDEX($B$3:$AI$36,AM$59,$E94)","v":"-"},{"$f":"INDEX($B$3:$AI$36,$E94,AN$59)&\"-\"&INDEX($B$3:$AI$36,AN$59,$E94)","v":"-"}]

{"sheet":"BantamGamesMatrix","index":4,"n_rows":78,"n_cols":32,"rows_kept":78,"cut":false,"hidden":false,"merged":[]}
["Leave this blank line in here!!!!!"]
["Teams","401","402","403","404","405","406","407","408","409","410","411","412","413","414","415","416","417","418","419","420","421","422","423","424","425","426"]
["401",null,5,4,8,3,3,11,null,null,null,8]
["402",0,null,5,1,1,null,4,2,2,4,null,2,2]
["403",2,3,null,2,4,1,null,4,10,9,null,null,7]
["404",2,3,3,null,4,1,5,3,null,5,5,5,4]
["405",5,2,3,8,null,1,6,3,null,null,null,7]
["406",4,null,4,6,2,null,8,3,null,null,2]
["407",1,0,null,2,3,0,null,null,3,7,1,null,3]
["408",null,4,1,1,2,2,null,null,null,4,4,3,null,null,null,null,null,11]
["409",null,0,2,null,null,null,1,null,null,null,1,0,null,1,6,4]
["410",null,1,1,3,null,null,1,1,null,null,1,0,0,2,3,null,null,null,5]
["411",1,null,null,0,null,2,4,1,6,3,null,null,5,1]
["412",null,0,null,2,2,null,null,1,10,10,null,null,7,5,null,null,13]
["413",null,0,1,3,null,null,7,null,null,8,3,1,null,4,8,6]
["414",null,null,null,null,null,null,null,null,8,7,4,2,4,null,10,11,12,null,null,null,null,null,10]
["415",null,null,null,null,null,null,null,null,4,5,null,null,2,1,null,7,8,5,null,null,null,null,null,12]
["416",null,null,null,null,null,null,null,null,2,null,null,null,5,2,5,null,10,6,1,null,8]
["417",null,null,null,null,null,null,null,null,null,null,null,0,null,2,0,2,null,7,7,6,4,10,3]
["418",null,null,null,null,null,null,null,1,null,null,null,null,null,null,0,2,1,null,null,6,2,10,null,null,null,4]
["419",null,null,null,null,null,null,null,null,null,1,null,null,null,null,null,2,4,null,null,null,3,null,null,null,11,3]
["420",null,null,null,null,null,null,null,null,null,null,null,null,null,null,null,null,0,3,null,null,6,5,4,null,8,8]
["421",null,null,null,null,null,null,null,null,null,null,null,null,null,null,null,0,3,2,0,0,null,4,3,2,3,3]
["422",null,null,null,null,null,null,null,null,null,null,null,null,null,null,null,null,0,0,null,0,0,null,6,0,3,8]
["423",null,null,null,null,null,null,null,null,null,null,null,null,null,0,null,null,2,null,null,2,1,6,null,1,5,3]
["424",null,null,null,null,null,null,null,null,null,null,null,null,null,null,2,null,null,null,null,null,2,2,1,null,3,8]
["425",null,null,null,null,null,null,null,null,null,null,null,null,null,null,null,null,null,null,1,0,2,7,5,3,null,1]
["426",null,null,null,null,null,null,null,null,null,null,null,null,null,null,null,null,null,3,2,0,5,16,4,7,7]
[]
[]
[]
[]
[]
[]
[]
[]
[null,null,null,null,null,null,null,null,null,null,"From","B3:AE32"]
[null,null,null,null,null,null,null,null,null,null,"To","B3:AA28"]
[]
[]
[]
[]
[]
[]
[]
[]
[null,null,null,null,null,"CSHL",1,2,3,4,5,6,7,8,9,10,11,12,13,14,15,16,17,18,19,20,21,22,23,24,25,26]
[null,null,null,null,null,"MW",1,2,3,4,5,7,8,6,9,10,11,12,15,13,14,16,18,17,19,20,21,22,23,24,25,26]
[null,null,null,null,null,"Walkush",2,1,3,5,4,6,7,9,10,8,11,12,13,14,15,16,17,18,20,19,21,23,22,24,25,26]
[null,null,null,null,null,"Custom",1,6,5,3,4,8,2,12,14,11,13,7,10,15,9,16,19,17,20,18,26,21,24,23,25,22]
[null,null,null,null,"Index","Index",1,6,5,3,4,8,2,12,14,11,13,7,10,15,9,16,19,17,20,18,26,21,24,23,25,22]
["CSHL","MW","Walkush","Custom","Index","Team","401","406","405","403","404","408","402","412","414","411","413","407","410","415","409","416","419","417","420","418","426","421","424","423","425","422"]
[1,1,2,1,1,"401",{"$f":"INDEX($B$3:$AA$28,$E53,G$51)&\"-\"&INDEX($B$3:$AA$28,G$51,$E53)","v":"-"},{"$f":"INDEX($B$3:$AA$28,$E53,H$51)&\"-\"&INDEX($B$3:$AA$28,H$51,$E53)","v":"3-4"},{"$f":"INDEX($B$3:$AA$28,$E53,I$51)&\"-\"&INDEX($B$3:$AA$28,I$51,$E53)","v":"3-5"},{"$f":"INDEX($B$3:$AA$28,$E53,J$51)&\"-\"&INDEX($B$3:$AA$28,J$51,$E53)","v":"4-2"},{"$f":"INDEX($B$3:$AA$28,$E53,K$51)&\"-\"&INDEX($B$3:$AA$28,K$51,$E53)","v":"8-2"},{"$f":"INDEX($B$3:$AA$28,$E53,L$51)&\"-\"&INDEX($B$3:$AA$28,L$51,$E53)","v":"-"},{"$f":"INDEX($B$3:$AA$28,$E53,M$51)&\"-\"&INDEX($B$3:$AA$28,M$51,$E53)","v":"5-0"},{"$f":"INDEX($B$3:$AA$28,$E53,N$51)&\"-\"&INDEX($B$3:$AA$28,N$51,$E53)","v":"-"},{"$f":"INDEX($B$3:$AA$28,$E53,O$51)&\"-\"&INDEX($B$3:$AA$28,O$51,$E53)","v":"-"},{"$f":"INDEX($B$3:$AA$28,$E53,P$51)&\"-\"&INDEX($B$3:$AA$28,P$51,$E53)","v":"8-1"},{"$f":"INDEX($B$3:$AA$28,$E53,Q$51)&\"-\"&INDEX($B$3:$AA$28,Q$51,$E53)","v":"-"},{"$f":"INDEX($B$3:$AA$28,$E53,R$51)&\"-\"&INDEX($B$3:$AA$28,R$51,$E53)","v":"11-1"},{"$f":"INDEX($B$3:$AA$28,$E53,S$51)&\"-\"&INDEX($B$3:$AA$28,S$51,$E53)","v":"-"},{"$f":"INDEX($B$3:$AA$28,$E53,T$51)&\"-\"&INDEX($B$3:$AA$28,T$51,$E53)","v":"-"},{"$f":"INDEX($B$3:$AA$28,$E53,U$51)&\"-\"&INDEX($B$3:$AA$28,U$51,$E53)","v":"-"},{"$f":"INDEX($B$3:$AA$28,$E53,V$51)&\"-\"&INDEX($B$3:$AA$28,V$51,$E53)","v":"-"},{"$f":"INDEX($B$3:$AA$28,$E53,W$51)&\"-\"&INDEX($B$3:$AA$28,W$51,$E53)","v":"-"},{"$f":"INDEX($B$3:$AA$28,$E53,X$51)&\"-\"&INDEX($B$3:$AA$28,X$51,$E53)","v":"-"},{"$f":"INDEX($B$3:$AA$28,$E53,Y$51)&\"-\"&INDEX($B$3:$AA$28,Y$51,$E53)","v":"-"},{"$f":"INDEX($B$3:$AA$28,$E53,Z$51)&\"-\"&INDEX($B$3:$AA$28,Z$51,$E53)","v":"-"},{"$f":"INDEX($B$3:$AA$28,$E53,AA$51)&\"-\"&INDEX($B$3:$AA$28,AA$51,$E53)","v":"-"},{"$f":"INDEX($B$3:$AA$28,$E53,AB$51)&\"-\"&INDEX($B$3:$AA$28,AB$51,$E53)","v":"-"},{"$f":"INDEX($B$3:$AA$28,$E53,AC$51)&\"-\"&INDEX($B$3:$AA$28,AC$51,$E53)","v":"-"},{"$f":"INDEX($B$3:$AA$28,$E53,AD$51)&\"-\"&INDEX($B$3:$AA$28,AD$51,$E53)","v":"-"},{"$f":"INDEX($B$3:$AA$28,$E53,AE$51)&\"-\"&INDEX($B$3:$AA$28,AE$51,$E53)","v":"-"},{"$f":"INDEX($B$3:$AA$28,$E53,AF$51)&\"-\"&INDEX($B$3:$AA$28,AF$51,$E53)","v":"-"}]
[2,2,1,6,6,"406",{"$f":"INDEX($B$3:$AA$28,$E54,G$51)&\"-\"&INDEX($B$3:$AA$28,G$51,$E54)","v":"4-3"},{"$f":"INDEX($B$3:$AA$28,$E54,H$51)&\"-\"&INDEX($B$3:$AA$28,H$51,$E54)","v":"-"},{"$f":"INDEX($B$3:$AA$28,$E54,I$51)&\"-\"&INDEX($B$3:$AA$28,I$51,$E54)","v":"2-1"},{"$f":"INDEX($B$3:$AA$28,$E54,J$51)&\"-\"&INDEX($B$3:$AA$28,J$51,$E54)","v":"4-1"},{"$f":"INDEX($B$3:$AA$28,$E54,K$51)&\"-\"&INDEX($B$3:$AA$28,K$51,$E54)","v":"6-1"},{"$f":"INDEX($B$3:$AA$28,$E54,L$51)&\"-\"&INDEX($B$3:$AA$28,L$51,$E54)","v":"3-2"},{"$f":"INDEX($B$3:$AA$28,$E54,M$51)&\"-\"&INDEX($B$3:$AA$28,M$51,$E54)","v":"-"},{"$f":"INDEX($B$3:$AA$28,$E54,N$51)&\"-\"&INDEX($B$3:$AA$28,N$51,$E54)","v":"-"},{"$f":"INDEX($B$3:$AA$28,$E54,O$51)&\"-\"&INDEX($B$3:$AA$28,O$51,$E54)","v":"-"},{"$f":"INDEX($B$3:$AA$28,$E54,P$51)&\"-\"&INDEX($B$3:$AA$28,P$51,$E54)","v":"2-2"},{"$f":"INDEX($B$3:$AA$28,$E54,Q$51)&\"-\"&INDEX($B$3:$AA$28,Q$51,$E54)","v":"-"},{"$f":"INDEX($B$3:$AA$28,$E54,R$51)&\"-\"&INDEX($B$3:$AA$28,R$51,$E54)","v":"8-0"},{"$f":"INDEX($B$3:$AA$28,$E54,S$51)&\"-\"&INDEX($B$3:$AA$28,S$51,$E54)","v":"-"},{"$f":"INDEX($B$3:$AA$28,$E54,T$51)&\"-\"&INDEX($B$3:$AA$28,T$51,$E54)","v":"-"},{"$f":"INDEX($B$3:$AA$28,$E54,U$51)&\"-\"&INDEX($B$3:$AA$28,U$51,$E54)","v":"-"},{"$f":"INDEX($B$3:$AA$28,$E54,V$51)&\"-\"&INDEX($B$3:$AA$28,V$51,$E54)","v":"-"},{"$f":"INDEX($B$3:$AA$28,$E54,W$51)&\"-\"&INDEX($B$3:$AA$28,W$51,$E54)","v":"-"},{"$f":"INDEX($B$3:$AA$28,$E54,X$51)&\"-\"&INDEX($B$3:$AA$28,X$51,$E54)","v":"-"},{"$f":"INDEX($B$3:$AA$28,$E54,Y$51)&\"-\"&INDEX($B$3:$AA$28,Y$51,$E54)","v":"-"},{"$f":"INDEX($B$3:$AA$28,$E54,Z$51)&\"-\"&INDEX($B$3:$AA$28,Z$51,$E54)","v":"-"},{"$f":"INDEX($B$3:$AA$28,$E54,AA$51)&\"-\"&INDEX($B$3:$AA$28,AA$51,$E54)","v":"-"},{"$f":"INDEX($B$3:$AA$28,$E54,AB$51)&\"-\"&INDEX($B$3:$AA$28,AB$51,$E54)","v":"-"},{"$f":"INDEX($B$3:$AA$28,$E54,AC$51)&\"-\"&INDEX($B$3:$AA$28,AC$51,$E54)","v":"-"},{"$f":"INDEX($B$3:$AA$28,$E54,AD$51)&\"-\"&INDEX($B$3:$AA$28,AD$51,$E54)","v":"-"},{"$f":"INDEX($B$3:$AA$28,$E54,AE$51)&\"-\"&INDEX($B$3:$AA$28,AE$51,$E54)","v":"-"},{"$f":"INDEX($B$3:$AA$28,$E54,AF$51)&\"-\"&INDEX($B$3:$AA$28,AF$51,$E54)","v":"-"}]
[3,3,3,5,5,"405",{"$f":"INDEX($B$3:$AA$28,$E55,G$51)&\"-\"&INDEX($B$3:$AA$28,G$51,$E55)","v":"5-3"},{"$f":"INDEX($B$3:$AA$28,$E55,H$51)&\"-\"&INDEX($B$3:$AA$28,H$51,$E55)","v":"1-2"},{"$f":"INDEX($B$3:$AA$28,$E55,I$51)&\"-\"&INDEX($B$3:$AA$28,I$51,$E55)","v":"-"},{"$f":"INDEX($B$3:$AA$28,$E55,J$51)&\"-\"&INDEX($B$3:$AA$28,J$51,$E55)","v":"3-4"},{"$f":"INDEX($B$3:$AA$28,$E55,K$51)&\"-\"&INDEX($B$3:$AA$28,K$51,$E55)","v":"8-4"},{"$f":"INDEX($B$3:$AA$28,$E55,L$51)&\"-\"&INDEX($B$3:$AA$28,L$51,$E55)","v":"3-2"},{"$f":"INDEX($B$3:$AA$28,$E55,M$51)&\"-\"&INDEX($B$3:$AA$28,M$51,$E55)","v":"2-1"},{"$f":"INDEX($B$3:$AA$28,$E55,N$51)&\"-\"&INDEX($B$3:$AA$28,N$51,$E55)","v":"7-2"},{"$f":"INDEX($B$3:$AA$28,$E55,O$51)&\"-\"&INDEX($B$3:$AA$28,O$51,$E55)","v":"-"},{"$f":"INDEX($B$3:$AA$28,$E55,P$51)&\"-\"&INDEX($B$3:$AA$28,P$51,$E55)","v":"-"},{"$f":"INDEX($B$3:$AA$28,$E55,Q$51)&\"-\"&INDEX($B$3:$AA$28,Q$51,$E55)","v":"-"},{"$f":"INDEX($B$3:$AA$28,$E55,R$51)&\"-\"&INDEX($B$3:$AA$28,R$51,$E55)","v":"6-3"},{"$f":"INDEX($B$3:$AA$28,$E55,S$51)&\"-\"&INDEX($B$3:$AA$28,S$51,$E55)","v":"-"},{"$f":"INDEX($B$3:$AA$28,$E55,T$51)&\"-\"&INDEX($B$3:$AA$28,T$51,$E55)","v":"-"},{"$f":"INDEX($B$3:$AA$28,$E55,U$51)&\"-\"&INDEX($B$3:$AA$28,U$51,$E55)","v":"-"},{"$f":"INDEX($B$3:$AA$28,$E55,V$51)&\"-\"&INDEX($B$3:$AA$28,V$51,$E55)","v":"-"},{"$f":"INDEX($B$3:$AA$28,$E55,W$51)&\"-\"&INDEX($B$3:$AA$28,W$51,$E55)","v":"-"},{"$f":"INDEX($B$3:$AA$28,$E55,X$51)&\"-\"&INDEX($B$3:$AA$28,X$51,$E55)","v":"-"},{"$f":"INDEX($B$3:$AA$28,$E55,Y$51)&\"-\"&INDEX($B$3:$AA$28,Y$51,$E55)","v":"-"},{"$f":"INDEX($B$3:$AA$28,$E55,Z$51)&\"-\"&INDEX($B$3:$AA$28,Z$51,$E55)","v":"-"},{"$f":"INDEX($B$3:$AA$28,$E55,AA$51)&\"-\"&INDEX($B$3:$AA$28,AA$51,$E55)","v":"-"},{"$f":"INDEX($B$3:$AA$28,$E55,AB$51)&\"-\"&INDEX($B$3:$AA$28,AB$51,$E55)","v":"-"},{"$f":"INDEX($B$3:$AA$28,$E55,AC$51)&\"-\"&INDEX($B$3:$AA$28,AC$51,$E55)","v":"-"},{"$f":"INDEX($B$3:$AA$28,$E55,AD$51)&\"-\"&INDEX($B$3:$AA$28,AD$51,$E55)","v":"-"},{"$f":"INDEX($B$3:$AA$28,$E55,AE$51)&\"-\"&INDEX($B$3:$AA$28,AE$51,$E55)","v":"-"},{"$f":"INDEX($B$3:$AA$28,$E55,AF$51)&\"-\"&INDEX($B$3:$AA$28,AF$51,$E55)","v":"-"}]
[4,4,5,3,3,"403",{"$f":"INDEX($B$3:$AA$28,$E56,G$51)&\"-\"&INDEX($B$3:$AA$28,G$51,$E56)","v":"2-4"},{"$f":"INDEX($B$3:$AA$28,$E56,H$51)&\"-\"&INDEX($B$3:$AA$28,H$51,$E56)","v":"1-4"},{"$f":"INDEX($B$3:$AA$28,$E56,I$51)&\"-\"&INDEX($B$3:$AA$28,I$51,$E56)","v":"4-3"},{"$f":"INDEX($B$3:$AA$28,$E56,J$51)&\"-\"&INDEX($B$3:$AA$28,J$51,$E56)","v":"-"},{"$f":"INDEX($B$3:$AA$28,$E56,K$51)&\"-\"&INDEX($B$3:$AA$28,K$51,$E56)","v":"2-3"},{"$f":"INDEX($B$3:$AA$28,$E56,L$51)&\"-\"&INDEX($B$3:$AA$28,L$51,$E56)","v":"4-1"},{"$f":"INDEX($B$3:$AA$28,$E56,M$51)&\"-\"&INDEX($B$3:$AA$28,M$51,$E56)","v":"3-5"},{"$f":"INDEX($B$3:$AA$28,$E56,N$51)&\"-\"&INDEX($B$3:$AA$28,N$51,$E56)","v":"-"},{"$f":"INDEX($B$3:$AA$28,$E56,O$51)&\"-\"&INDEX($B$3:$AA$28,O$51,$E56)","v":"-"},{"$f":"INDEX($B$3:$AA$28,$E56,P$51)&\"-\"&INDEX($B$3:$AA$28,P$51,$E56)","v":"-"},{"$f":"INDEX($B$3:$AA$28,$E56,Q$51)&\"-\"&INDEX($B$3:$AA$28,Q$51,$E56)","v":"7-1"},{"$f":"INDEX($B$3:$AA$28,$E56,R$51)&\"-\"&INDEX($B$3:$AA$28,R$51,$E56)","v":"-"},{"$f":"INDEX($B$3:$AA$28,$E56,S$51)&\"-\"&INDEX($B$3:$AA$28,S$51,$E56)","v":"9-1"},{"$f":"INDEX($B$3:$AA$28,$E56,T$51)&\"-\"&INDEX($B$3:$AA$28,T$51,$E56)","v":"-"},{"$f":"INDEX($B$3:$AA$28,$E56,U$51)&\"-\"&INDEX($B$3:$AA$28,U$51,$E56)","v":"10-2"},{"$f":"INDEX($B$3:$AA$28,$E56,V$51)&\"-\"&INDEX($B$3:$AA$28,V$51,$E56)","v":"-"},{"$f":"INDEX($B$3:$AA$28,$E56,W$51)&\"-\"&INDEX($B$3:$AA$28,W$51,$E56)","v":"-"},{"$f":"INDEX($B$3:$AA$28,$E56,X$51)&\"-\"&INDEX($B$3:$AA$28,X$51,$E56)","v":"-"},{"$f":"INDEX($B$3:$AA$28,$E56,Y$51)&\"-\"&INDEX($B$3:$AA$28,Y$51,$E56)","v":"-"},{"$f":"INDEX($B$3:$AA$28,$E56,Z$51)&\"-\"&INDEX($B$3:$AA$28,Z$51,$E56)","v":"-"},{"$f":"INDEX($B$3:$AA$28,$E56,AA$51)&\"-\"&INDEX($B$3:$AA$28,AA$51,$E56)","v":"-"},{"$f":"INDEX($B$3:$AA$28,$E56,AB$51)&\"-\"&INDEX($B$3:$AA$28,AB$51,$E56)","v":"-"},{"$f":"INDEX($B$3:$AA$28,$E56,AC$51)&\"-\"&INDEX($B$3:$AA$28,AC$51,$E56)","v":"-"},{"$f":"INDEX($B$3:$AA$28,$E56,AD$51)&\"-\"&INDEX($B$3:$AA$28,AD$51,$E56)","v":"-"},{"$f":"INDEX($B$3:$AA$28,$E56,AE$51)&\"-\"&INDEX($B$3:$AA$28,AE$51,$E56)","v":"-"},{"$f":"INDEX($B$3:$AA$28,$E56,AF$51)&\"-\"&INDEX($B$3:$AA$28,AF$51,$E56)","v":"-"}]
[5,5,4,4,4,"404",{"$f":"INDEX($B$3:$AA$28,$E57,G$51)&\"-\"&INDEX($B$3:$AA$28,G$51,$E57)","v":"2-8"},{"$f":"INDEX($B$3:$AA$28,$E57,H$51)&\"-\"&INDEX($B$3:$AA$28,H$51,$E57)","v":"1-6"},{"$f":"INDEX($B$3:$AA$28,$E57,I$51)&\"-\"&INDEX($B$3:$AA$28,I$51,$E57)","v":"4-8"},{"$f":"INDEX($B$3:$AA$28,$E57,J$51)&\"-\"&INDEX($B$3:$AA$28,J$51,$E57)","v":"3-2"},{"$f":"INDEX($B$3:$AA$28,$E57,K$51)&\"-\"&INDEX($B$3:$AA$28,K$51,$E57)","v":"-"},{"$f":"INDEX($B$3:$AA$28,$E57,L$51)&\"-\"&INDEX($B$3:$AA$28,L$51,$E57)","v":"3-1"},{"$f":"INDEX($B$3:$AA$28,$E57,M$51)&\"-\"&INDEX($B$3:$AA$28,M$51,$E57)","v":"3-1"},{"$f":"INDEX($B$3:$AA$28,$E57,N$51)&\"-\"&INDEX($B$3:$AA$28,N$51,$E57)","v":"5-2"},{"$f":"INDEX($B$3:$AA$28,$E57,O$51)&\"-\"&INDEX($B$3:$AA$28,O$51,$E57)","v":"-"},{"$f":"INDEX($B$3:$AA$28,$E57,P$51)&\"-\"&INDEX($B$3:$AA$28,P$51,$E57)","v":"5-0"},{"$f":"INDEX($B$3:$AA$28,$E57,Q$51)&\"-\"&INDEX($B$3:$AA$28,Q$51,$E57)","v":"4-3"},{"$f":"INDEX($B$3:$AA$28,$E57,R$51)&\"-\"&INDEX($B$3:$AA$28,R$51,$E57)","v":"5-2"},{"$f":"INDEX($B$3:$AA$28,$E57,S$51)&\"-\"&INDEX($B$3:$AA$28,S$51,$E57)","v":"5-3"},{"$f":"INDEX($B$3:$AA$28,$E57,T$51)&\"-\"&INDEX($B$3:$AA$28,T$51,$E57)","v":"-"},{"$f":"INDEX($B$3:$AA$28,$E57,U$51)&\"-\"&INDEX($B$3:$AA$28,U$51,$E57)","v":"-"},{"$f":"INDEX($B$3:$AA$28,$E57,V$51)&\"-\"&INDEX($B$3:$AA$28,V$51,$E57)","v":"-"},{"$f":"INDEX($B$3:$AA$28,$E57,W$51)&\"-\"&INDEX($B$3:$AA$28,W$51,$E57)","v":"-"},{"$f":"INDEX($B$3:$AA$28,$E57,X$51)&\"-\"&INDEX($B$3:$AA$28,X$51,$E57)","v":"-"},{"$f":"INDEX($B$3:$AA$28,$E57,Y$51)&\"-\"&INDEX($B$3:$AA$28,Y$51,$E57)","v":"-"},{"$f":"INDEX($B$3:$AA$28,$E57,Z$51)&\"-\"&INDEX($B$3:$AA$28,Z$51,$E57)","v":"-"},{"$f":"INDEX($B$3:$AA$28,$E57,AA$51)&\"-\"&INDEX($B$3:$AA$28,AA$51,$E57)","v":"-"},{"$f":"INDEX($B$3:$AA$28,$E57,AB$51)&\"-\"&INDEX($B$3:$AA$28,AB$51,$E57)","v":"-"},{"$f":"INDEX($B$3:$AA$28,$E57,AC$51)&\"-\"&INDEX($B$3:$AA$28,AC$51,$E57)","v":"-"},{"$f":"INDEX($B$3:$AA$28,$E57,AD$51)&\"-\"&INDEX($B$3:$AA$28,AD$51,$E57)","v":"-"},{"$f":"INDEX($B$3:$AA$28,$E57,AE$51)&\"-\"&INDEX($B$3:$AA$28,AE$51,$E57)","v":"-"},{"$f":"INDEX($B$3:$AA$28,$E57,AF$51)&\"-\"&INDEX($B$3:$AA$28,AF$51,$E57)","v":"-"}]
[6,7,6,8,8,"408",{"$f":"INDEX($B$3:$AA$28,$E58,G$51)&\"-\"&INDEX($B$3:$AA$28,G$51,$E58)","v":"-"},{"$f":"INDEX($B$3:$AA$28,$E58,H$51)&\"-\"&INDEX($B$3:$AA$28,H$51,$E58)","v":"2-3"},{"$f":"INDEX($B$3:$AA$28,$E58,I$51)&\"-\"&INDEX($B$3:$AA$28,I$51,$E58)","v":"2-3"},{"$f":"INDEX($B$3:$AA$28,$E58,J$51)&\"-\"&INDEX($B$3:$AA$28,J$51,$E58)","v":"1-4"},{"$f":"INDEX($B$3:$AA$28,$E58,K$51)&\"-\"&INDEX($B$3:$AA$28,K$51,$E58)","v":"1-3"},{"$f":"INDEX($B$3:$AA$28,$E58,L$51)&\"-\"&INDEX($B$3:$AA$28,L$51,$E58)","v":"-"},{"$f":"INDEX($B$3:$AA$28,$E58,M$51)&\"-\"&INDEX($B$3:$AA$28,M$51,$E58)","v":"4-2"},{"$f":"INDEX($B$3:$AA$28,$E58,N$51)&\"-\"&INDEX($B$3:$AA$28,N$51,$E58)","v":"3-1"},{"$f":"INDEX($B$3:$AA$28,$E58,O$51)&\"-\"&INDEX($B$3:$AA$28,O$51,$E58)","v":"-"},{"$f":"INDEX($B$3:$AA$28,$E58,P$51)&\"-\"&INDEX($B$3:$AA$28,P$51,$E58)","v":"4-1"},{"$f":"INDEX($B$3:$AA$28,$E58,Q$51)&\"-\"&INDEX($B$3:$AA$28,Q$51,$E58)","v":"-"},{"$f":"INDEX($B$3:$AA$28,$E58,R$51)&\"-\"&INDEX($B$3:$AA$28,R$51,$E58)","v":"-"},{"$f":"INDEX($B$3:$AA$28,$E58,S$51)&\"-\"&INDEX($B$3:$AA$28,S$51,$E58)","v":"4-1"},{"$f":"INDEX($B$3:$AA$28,$E58,T$51)&\"-\"&INDEX($B$3:$AA$28,T$51,$E58)","v":"-"},{"$f":"INDEX($B$3:$AA$28,$E58,U$51)&\"-\"&INDEX($B$3:$AA$28,U$51,$E58)","v":"-"},{"$f":"INDEX($B$3:$AA$28,$E58,V$51)&\"-\"&INDEX($B$3:$AA$28,V$51,$E58)","v":"-"},{"$f":"INDEX($B$3:$AA$28,$E58,W$51)&\"-\"&INDEX($B$3:$AA$28,W$51,$E58)","v":"-"},{"$f":"INDEX($B$3:$AA$28,$E58,X$51)&\"-\"&INDEX($B$3:$AA$28,X$51,$E58)","v":"-"},{"$f":"INDEX($B$3:$AA$28,$E58,Y$51)&\"-\"&INDEX($B$3:$AA$28,Y$51,$E58)","v":"-"},{"$f":"INDEX($B$3:$AA$28,$E58,Z$51)&\"-\"&INDEX($B$3:$AA$28,Z$51,$E58)","v":"11-1"},{"$f":"INDEX($B$3:$AA$28,$E58,AA$51)&\"-\"&INDEX($B$3:$AA$28,AA$51,$E58)","v":"-"},{"$f":"INDEX($B$3:$AA$28,$E58,AB$51)&\"-\"&INDEX($B$3:$AA$28,AB$51,$E58)","v":"-"},{"$f":"INDEX($B$3:$AA$28,$E58,AC$51)&\"-\"&INDEX($B$3:$AA$28,AC$51,$E58)","v":"-"},{"$f":"INDEX($B$3:$AA$28,$E58,AD$51)&\"-\"&INDEX($B$3:$AA$28,AD$51,$E58)","v":"-"},{"$f":"INDEX($B$3:$AA$28,$E58,AE$51)&\"-\"&INDEX($B$3:$AA$28,AE$51,$E58)","v":"-"},{"$f":"INDEX($B$3:$AA$28,$E58,AF$51)&\"-\"&INDEX($B$3:$AA$28,AF$51,$E58)","v":"-"}]
[7,8,7,2,2,"402",{"$f":"INDEX($B$3:$AA$28,$E59,G$51)&\"-\"&INDEX($B$3:$AA$28,G$51,$E59)","v":"0-5"},{"$f":"INDEX($B$3:$AA$28,$E59,H$51)&\"-\"&INDEX($B$3:$AA$28,H$51,$E59)","v":"-"},{"$f":"INDEX($B$3:$AA$28,$E59,I$51)&\"-\"&INDEX($B$3:$AA$28,I$51,$E59)","v":"1-2"},{"$f":"INDEX($B$3:$AA$28,$E59,J$51)&\"-\"&INDEX($B$3:$AA$28,J$51,$E59)","v":"5-3"},{"$f":"INDEX($B$3:$AA$28,$E59,K$51)&\"-\"&INDEX($B$3:$AA$28,K$51,$E59)","v":"1-3"},{"$f":"INDEX($B$3:$AA$28,$E59,L$51)&\"-\"&INDEX($B$3:$AA$28,L$51,$E59)","v":"2-4"},{"$f":"INDEX($B$3:$AA$28,$E59,M$51)&\"-\"&INDEX($B$3:$AA$28,M$51,$E59)","v":"-"},{"$f":"INDEX($B$3:$AA$28,$E59,N$51)&\"-\"&INDEX($B$3:$AA$28,N$51,$E59)","v":"2-0"},{"$f":"INDEX($B$3:$AA$28,$E59,O$51)&\"-\"&INDEX($B$3:$AA$28,O$51,$E59)","v":"-"},{"$f":"INDEX($B$3:$AA$28,$E59,P$51)&\"-\"&INDEX($B$3:$AA$28,P$51,$E59)","v":"-"},{"$f":"INDEX($B$3:$AA$28,$E59,Q$51)&\"-\"&INDEX($B$3:$AA$28,Q$51,$E59)","v":"2-0"},{"$f":"INDEX($B$3:$AA$28,$E59,R$51)&\"-\"&INDEX($B$3:$AA$28,R$51,$E59)","v":"4-0"},{"$f":"INDEX($B$3:$AA$28,$E59,S$51)&\"-\"&INDEX($B$3:$AA$28,S$51,$E59)","v":"4-1"},{"$f":"INDEX($B$3:$AA$28,$E59,T$51)&\"-\"&INDEX($B$3:$AA$28,T$51,$E59)","v":"-"},{"$f":"INDEX($B$3:$AA$28,$E59,U$51)&\"-\"&INDEX($B$3:$AA$28,U$51,$E59)","v":"2-0"},{"$f":"INDEX($B$3:$AA$28,$E59,V$51)&\"-\"&INDEX($B$3:$AA$28,V$51,$E59)","v":"-"},{"$f":"INDEX($B$3:$AA$28,$E59,W$51)&\"-\"&INDEX($B$3:$AA$28,W$51,$E59)","v":"-"},{"$f":"INDEX($B$3:$AA$28,$E59,X$51)&\"-\"&INDEX($B$3:$AA$28,X$51,$E59)","v":"-"},{"$f":"INDEX($B$3:$AA$28,$E59,Y$51)&\"-\"&INDEX($B$3:$AA$28,Y$51,$E59)","v":"-"},{"$f":"INDEX($B$3:$AA$28,$E59,Z$51)&\"-\"&INDEX($B$3:$AA$28,Z$51,$E59)","v":"-"},{"$f":"INDEX($B$3:$AA$28,$E59,AA$51)&\"-\"&INDEX($B$3:$AA$28,AA$51,$E59)","v":"-"},{"$f":"INDEX($B$3:$AA$28,$E59,AB$51)&\"-\"&INDEX($B$3:$AA$28,AB$51,$E59)","v":"-"},{"$f":"INDEX($B$3:$AA$28,$E59,AC$51)&\"-\"&INDEX($B$3:$AA$28,AC$51,$E59)","v":"-"},{"$f":"INDEX($B$3:$AA$28,$E59,AD$51)&\"-\"&INDEX($B$3:$AA$28,AD$51,$E59)","v":"-"},{"$f":"INDEX($B$3:$AA$28,$E59,AE$51)&\"-\"&INDEX($B$3:$AA$28,AE$51,$E59)","v":"-"},{"$f":"INDEX($B$3:$AA$28,$E59,AF$51)&\"-\"&INDEX($B$3:$AA$28,AF$51,$E59)","v":"-"}]
[8,6,9,12,12,"412",{"$f":"INDEX($B$3:$AA$28,$E60,G$51)&\"-\"&INDEX($B$3:$AA$28,G$51,$E60)","v":"-"},{"$f":"INDEX($B$3:$AA$28,$E60,H$51)&\"-\"&INDEX($B$3:$AA$28,H$51,$E60)","v":"-"},{"$f":"INDEX($B$3:$AA$28,$E60,I$51)&\"-\"&INDEX($B$3:$AA$28,I$51,$E60)","v":"2-7"},{"$f":"INDEX($B$3:$AA$28,$E60,J$51)&\"-\"&INDEX($B$3:$AA$28,J$51,$E60)","v":"-"},{"$f":"INDEX($B$3:$AA$28,$E60,K$51)&\"-\"&INDEX($B$3:$AA$28,K$51,$E60)","v":"2-5"},{"$f":"INDEX($B$3:$AA$28,$E60,L$51)&\"-\"&INDEX($B$3:$AA$28,L$51,$E60)","v":"1-3"},{"$f":"INDEX($B$3:$AA$28,$E60,M$51)&\"-\"&INDEX($B$3:$AA$28,M$51,$E60)","v":"0-2"},{"$f":"INDEX($B$3:$AA$28,$E60,N$51)&\"-\"&INDEX($B$3:$AA$28,N$51,$E60)","v":"-"},{"$f":"INDEX($B$3:$AA$28,$E60,O$51)&\"-\"&INDEX($B$3:$AA$28,O$51,$E60)","v":"5-2"},{"$f":"INDEX($B$3:$AA$28,$E60,P$51)&\"-\"&INDEX($B$3:$AA$28,P$51,$E60)","v":"-"},{"$f":"INDEX($B$3:$AA$28,$E60,Q$51)&\"-\"&INDEX($B$3:$AA$28,Q$51,$E60)","v":"7-1"},{"$f":"INDEX($B$3:$AA$28,$E60,R$51)&\"-\"&INDEX($B$3:$AA$28,R$51,$E60)","v":"-"},{"$f":"INDEX($B$3:$AA$28,$E60,S$51)&\"-\"&INDEX($B$3:$AA$28,S$51,$E60)","v":"10-0"},{"$f":"INDEX($B$3:$AA$28,$E60,T$51)&\"-\"&INDEX($B$3:$AA$28,T$51,$E60)","v":"-"},{"$f":"INDEX($B$3:$AA$28,$E60,U$51)&\"-\"&INDEX($B$3:$AA$28,U$51,$E60)","v":"10-0"},{"$f":"INDEX($B$3:$AA$28,$E60,V$51)&\"-\"&INDEX($B$3:$AA$28,V$51,$E60)","v":"-"},{"$f":"INDEX($B$3:$AA$28,$E60,W$51)&\"-\"&INDEX($B$3:$AA$28,W$51,$E60)","v":"-"},{"$f":"INDEX($B$3:$AA$28,$E60,X$51)&\"-\"&INDEX($B$3:$AA$28,X$51,$E60)","v":"13-0"},{"$f":"INDEX($B$3:$AA$28,$E60,Y$51)&\"-\"&INDEX($B$3:$AA$28,Y$51,$E60)","v":"-"},{"$f":"INDEX($B$3:$AA$28,$E60,Z$51)&\"-\"&INDEX($B$3:$AA$28,Z$51,$E60)","v":"-"},{"$f":"INDEX($B$3:$AA$28,$E60,AA$51)&\"-\"&INDEX($B$3:$AA$28,AA$51,$E60)","v":"-"},{"$f":"INDEX($B$3:$AA$28,$E60,AB$51)&\"-\"&INDEX($B$3:$AA$28,AB$51,$E60)","v":"-"},{"$f":"INDEX($B$3:$AA$28,$E60,AC$51)&\"-\"&INDEX($B$3:$AA$28,AC$51,$E60)","v":"-"},{"$f":"INDEX($B$3:$AA$28,$E60,AD$51)&\"-\"&INDEX($B$3:$AA$28,AD$51,$E60)","v":"-"},{"$f":"INDEX($B$3:$AA$28,$E60,AE$51)&\"-\"&INDEX($B$3:$AA$28,AE$51,$E60)","v":"-"},{"$f":"INDEX($B$3:$AA$28,$E60,AF$51)&\"-\"&INDEX($B$3:$AA$28,AF$51,$E60)","v":"-"}]
[9,9,10,14,14,"414",{"$f":"INDEX($B$3:$AA$28,$E61,G$51)&\"-\"&INDEX($B$3:$AA$28,G$51,$E61)","v":"-"},{"$f":"INDEX($B$3:$AA$28,$E61,H$51)&\"-\"&INDEX($B$3:$AA$28,H$51,$E61)","v":"-"},{"$f":"INDEX($B$3:$AA$28,$E61,I$51)&\"-\"&INDEX($B$3:$AA$28,I$51,$E61)","v":"-"},{"$f":"INDEX($B$3:$AA$28,$E61,J$51)&\"-\"&INDEX($B$3:$AA$28,J$51,$E61)","v":"-"},{"$f":"INDEX($B$3:$AA$28,$E61,K$51)&\"-\"&INDEX($B$3:$AA$28,K$51,$E61)","v":"-"},{"$f":"INDEX($B$3:$AA$28,$E61,L$51)&\"-\"&INDEX($B$3:$AA$28,L$51,$E61)","v":"-"},{"$f":"INDEX($B$3:$AA$28,$E61,M$51)&\"-\"&INDEX($B$3:$AA$28,M$51,$E61)","v":"-"},{"$f":"INDEX($B$3:$AA$28,$E61,N$51)&\"-\"&INDEX($B$3:$AA$28,N$51,$E61)","v":"2-5"},{"$f":"INDEX($B$3:$AA$28,$E61,O$51)&\"-\"&INDEX($B$3:$AA$28,O$51,$E61)","v":"-"},{"$f":"INDEX($B$3:$AA$28,$E61,P$51)&\"-\"&INDEX($B$3:$AA$28,P$51,$E61)","v":"4-1"},{"$f":"INDEX($B$3:$AA$28,$E61,Q$51)&\"-\"&INDEX($B$3:$AA$28,Q$51,$E61)","v":"4-4"},{"$f":"INDEX($B$3:$AA$28,$E61,R$51)&\"-\"&INDEX($B$3:$AA$28,R$51,$E61)","v":"-"},{"$f":"INDEX($B$3:$AA$28,$E61,S$51)&\"-\"&INDEX($B$3:$AA$28,S$51,$E61)","v":"7-2"},{"$f":"INDEX($B$3:$AA$28,$E61,T$51)&\"-\"&INDEX($B$3:$AA$28,T$51,$E61)","v":"10-1"},{"$f":"INDEX($B$3:$AA$28,$E61,U$51)&\"-\"&INDEX($B$3:$AA$28,U$51,$E61)","v":"8-1"},{"$f":"INDEX($B$3:$AA$28,$E61,V$51)&\"-\"&INDEX($B$3:$AA$28,V$51,$E61)","v":"11-2"},{"$f":"INDEX($B$3:$AA$28,$E61,W$51)&\"-\"&INDEX($B$3:$AA$28,W$51,$E61)","v":"-"},{"$f":"INDEX($B$3:$AA$28,$E61,X$51)&\"-\"&INDEX($B$3:$AA$28,X$51,$E61)","v":"12-2"},{"$f":"INDEX($B$3:$AA$28,$E61,Y$51)&\"-\"&INDEX($B$3:$AA$28,Y$51,$E61)","v":"-"},{"$f":"INDEX($B$3:$AA$28,$E61,Z$51)&\"-\"&INDEX($B$3:$AA$28,Z$51,$E61)","v":"-"},{"$f":"INDEX($B$3:$AA$28,$E61,AA$51)&\"-\"&INDEX($B$3:$AA$28,AA$51,$E61)","v":"-"},{"$f":"INDEX($B$3:$AA$28,$E61,AB$51)&\"-\"&INDEX($B$3:$AA$28,AB$51,$E61)","v":"-"},{"$f":"INDEX($B$3:$AA$28,$E61,AC$51)&\"-\"&INDEX($B$3:$AA$28,AC$51,$E61)","v":"-"},{"$f":"INDEX($B$3:$AA$28,$E61,AD$51)&\"-\"&INDEX($B$3:$AA$28,AD$51,$E61)","v":"10-0"},{"$f":"INDEX($B$3:$AA$28,$E61,AE$51)&\"-\"&INDEX($B$3:$AA$28,AE$51,$E61)","v":"-"},{"$f":"INDEX($B$3:$AA$28,$E61,AF$51)&\"-\"&INDEX($B$3:$AA$28,AF$51,$E61)","v":"-"}]
[10,10,8,11,11,"411",{"$f":"INDEX($B$3:$AA$28,$E62,G$51)&\"-\"&INDEX($B$3:$AA$28,G$51,$E62)","v":"1-8"},{"$f":"INDEX($B$3:$AA$28,$E62,H$51)&\"-\"&INDEX($B$3:$AA$28,H$51,$E62)","v":"2-2"},{"$f":"INDEX($B$3:$AA$28,$E62,I$51)&\"-\"&INDEX($B$3:$AA$28,I$51,$E62)","v":"-"},{"$f":"INDEX($B$3:$AA$28,$E62,J$51)&\"-\"&INDEX($B$3:$AA$28,J$51,$E62)","v":"-"},{"$f":"INDEX($B$3:$AA$28,$E62,K$51)&\"-\"&INDEX($B$3:$AA$28,K$51,$E62)","v":"0-5"},{"$f":"INDEX($B$3:$AA$28,$E62,L$51)&\"-\"&INDEX($B$3:$AA$28,L$51,$E62)","v":"1-4"},{"$f":"INDEX($B$3:$AA$28,$E62,M$51)&\"-\"&INDEX($B$3:$AA$28,M$51,$E62)","v":"-"},{"$f":"INDEX($B$3:$AA$28,$E62,N$51)&\"-\"&INDEX($B$3:$AA$28,N$51,$E62)","v":"-"},{"$f":"INDEX($B$3:$AA$28,$E62,O$51)&\"-\"&INDEX($B$3:$AA$28,O$51,$E62)","v":"1-4"},{"$f":"INDEX($B$3:$AA$28,$E62,P$51)&\"-\"&INDEX($B$3:$AA$28,P$51,$E62)","v":"-"},{"$f":"INDEX($B$3:$AA$28,$E62,Q$51)&\"-\"&INDEX($B$3:$AA$28,Q$51,$E62)","v":"5-3"},{"$f":"INDEX($B$3:$AA$28,$E62,R$51)&\"-\"&INDEX($B$3:$AA$28,R$51,$E62)","v":"4-1"},{"$f":"INDEX($B$3:$AA$28,$E62,S$51)&\"-\"&INDEX($B$3:$AA$28,S$51,$E62)","v":"3-1"},{"$f":"INDEX($B$3:$AA$28,$E62,T$51)&\"-\"&INDEX($B$3:$AA$28,T$51,$E62)","v":"-"},{"$f":"INDEX($B$3:$AA$28,$E62,U$51)&\"-\"&INDEX($B$3:$AA$28,U$51,$E62)","v":"6-1"},{"$f":"INDEX($B$3:$AA$28,$E62,V$51)&\"-\"&INDEX($B$3:$AA$28,V$51,$E62)","v":"-"},{"$f":"INDEX($B$3:$AA$28,$E62,W$51)&\"-\"&INDEX($B$3:$AA$28,W$51,$E62)","v":"-"},{"$f":"INDEX($B$3:$AA$28,$E62,X$51)&\"-\"&INDEX($B$3:$AA$28,X$51,$E62)","v":"-"},{"$f":"INDEX($B$3:$AA$28,$E62,Y$51)&\"-\"&INDEX($B$3:$AA$28,Y$51,$E62)","v":"-"},{"$f":"INDEX($B$3:$AA$28,$E62,Z$51)&\"-\"&INDEX($B$3:$AA$28,Z$51,$E62)","v":"-"},{"$f":"INDEX($B$3:$AA$28,$E62,AA$51)&\"-\"&INDEX($B$3:$AA$28,AA$51,$E62)","v":"-"},{"$f":"INDEX($B$3:$AA$28,$E62,AB$51)&\"-\"&INDEX($B$3:$AA$28,AB$51,$E62)","v":"-"},{"$f":"INDEX($B$3:$AA$28,$E62,AC$51)&\"-\"&INDEX($B$3:$AA$28,AC$51,$E62)","v":"-"},{"$f":"INDEX($B$3:$AA$28,$E62,AD$51)&\"-\"&INDEX($B$3:$AA$28,AD$51,$E62)","v":"-"},{"$f":"INDEX($B$3:$AA$28,$E62,AE$51)&\"-\"&INDEX($B$3:$AA$28,AE$51,$E62)","v":"-"},{"$f":"INDEX($B$3:$AA$28,$E62,AF$51)&\"-\"&INDEX($B$3:$AA$28,AF$51,$E62)","v":"-"}]
[11,11,11,13,13,"413",{"$f":"INDEX($B$3:$AA$28,$E63,G$51)&\"-\"&INDEX($B$3:$AA$28,G$51,$E63)","v":"-"},{"$f":"INDEX($B$3:$AA$28,$E63,H$51)&\"-\"&INDEX($B$3:$AA$28,H$51,$E63)","v":"-"},{"$f":"INDEX($B$3:$AA$28,$E63,I$51)&\"-\"&INDEX($B$3:$AA$28,I$51,$E63)","v":"-"},{"$f":"INDEX($B$3:$AA$28,$E63,J$51)&\"-\"&INDEX($B$3:$AA$28,J$51,$E63)","v":"1-7"},{"$f":"INDEX($B$3:$AA$28,$E63,K$51)&\"-\"&INDEX($B$3:$AA$28,K$51,$E63)","v":"3-4"},{"$f":"INDEX($B$3:$AA$28,$E63,L$51)&\"-\"&INDEX($B$3:$AA$28,L$51,$E63)","v":"-"},{"$f":"INDEX($B$3:$AA$28,$E63,M$51)&\"-\"&INDEX($B$3:$AA$28,M$51,$E63)","v":"0-2"},{"$f":"INDEX($B$3:$AA$28,$E63,N$51)&\"-\"&INDEX($B$3:$AA$28,N$51,$E63)","v":"1-7"},{"$f":"INDEX($B$3:$AA$28,$E63,O$51)&\"-\"&INDEX($B$3:$AA$28,O$51,$E63)","v":"4-4"},{"$f":"INDEX($B$3:$AA$28,$E63,P$51)&\"-\"&INDEX($B$3:$AA$28,P$51,$E63)","v":"3-5"},{"$f":"INDEX($B$3:$AA$28,$E63,Q$51)&\"-\"&INDEX($B$3:$AA$28,Q$51,$E63)","v":"-"},{"$f":"INDEX($B$3:$AA$28,$E63,R$51)&\"-\"&INDEX($B$3:$AA$28,R$51,$E63)","v":"7-3"},{"$f":"INDEX($B$3:$AA$28,$E63,S$51)&\"-\"&INDEX($B$3:$AA$28,S$51,$E63)","v":"8-0"},{"$f":"INDEX($B$3:$AA$28,$E63,T$51)&\"-\"&INDEX($B$3:$AA$28,T$51,$E63)","v":"8-2"},{"$f":"INDEX($B$3:$AA$28,$E63,U$51)&\"-\"&INDEX($B$3:$AA$28,U$51,$E63)","v":"-"},{"$f":"INDEX($B$3:$AA$28,$E63,V$51)&\"-\"&INDEX($B$3:$AA$28,V$51,$E63)","v":"6-5"},{"$f":"INDEX($B$3:$AA$28,$E63,W$51)&\"-\"&INDEX($B$3:$AA$28,W$51,$E63)","v":"-"},{"$f":"INDEX($B$3:$AA$28,$E63,X$51)&\"-\"&INDEX($B$3:$AA$28,X$51,$E63)","v":"-"},{"$f":"INDEX($B$3:$AA$28,$E63,Y$51)&\"-\"&INDEX($B$3:$AA$28,Y$51,$E63)","v":"-"},{"$f":"INDEX($B$3:$AA$28,$E63,Z$51)&\"-\"&INDEX($B$3:$AA$28,Z$51,$E63)","v":"-"},{"$f":"INDEX($B$3:$AA$28,$E63,AA$51)&\"-\"&INDEX($B$3:$AA$28,AA$51,$E63)","v":"-"},{"$f":"INDEX($B$3:$AA$28,$E63,AB$51)&\"-\"&INDEX($B$3:$AA$28,AB$51,$E63)","v":"-"},{"$f":"INDEX($B$3:$AA$28,$E63,AC$51)&\"-\"&INDEX($B$3:$AA$28,AC$51,$E63)","v":"-"},{"$f":"INDEX($B$3:$AA$28,$E63,AD$51)&\"-\"&INDEX($B$3:$AA$28,AD$51,$E63)","v":"-"},{"$f":"INDEX($B$3:$AA$28,$E63,AE$51)&\"-\"&INDEX($B$3:$AA$28,AE$51,$E63)","v":"-"},{"$f":"INDEX($B$3:$AA$28,$E63,AF$51)&\"-\"&INDEX($B$3:$AA$28,AF$51,$E63)","v":"-"}]
[12,12,12,7,7,"407",{"$f":"INDEX($B$3:$AA$28,$E64,G$51)&\"-\"&INDEX($B$3:$AA$28,G$51,$E64)","v":"1-11"},{"$f":"INDEX($B$3:$AA$28,$E64,H$51)&\"-\"&INDEX($B$3:$AA$28,H$51,$E64)","v":"0-8"},{"$f":"INDEX($B$3:$AA$28,$E64,I$51)&\"-\"&INDEX($B$3:$AA$28,I$51,$E64)","v":"3-6"},{"$f":"INDEX($B$3:$AA$28,$E64,J$51)&\"-\"&INDEX($B$3:$AA$28,J$51,$E64)","v":"-"},{"$f":"INDEX($B$3:$AA$28,$E64,K$51)&\"-\"&INDEX($B$3:$AA$28,K$51,$E64)","v":"2-5"},{"$f":"INDEX($B$3:$AA$28,$E64,L$51)&\"-\"&INDEX($B$3:$AA$28,L$51,$E64)","v":"-"},{"$f":"INDEX($B$3:$AA$28,$E64,M$51)&\"-\"&INDEX($B$3:$AA$28,M$51,$E64)","v":"0-4"},{"$f":"INDEX($B$3:$AA$28,$E64,N$51)&\"-\"&INDEX($B$3:$AA$28,N$51,$E64)","v":"-"},{"$f":"INDEX($B$3:$AA$28,$E64,O$51)&\"-\"&INDEX($B$3:$AA$28,O$51,$E64)","v":"-"},{"$f":"INDEX($B$3:$AA$28,$E64,P$51)&\"-\"&INDEX($B$3:$AA$28,P$51,$E64)","v":"1-4"},{"$f":"INDEX($B$3:$AA$28,$E64,Q$51)&\"-\"&INDEX($B$3:$AA$28,Q$51,$E64)","v":"3-7"},{"$f":"INDEX($B$3:$AA$28,$E64,R$51)&\"-\"&INDEX($B$3:$AA$28,R$51,$E64)","v":"-"},{"$f":"INDEX($B$3:$AA$28,$E64,S$51)&\"-\"&INDEX($B$3:$AA$28,S$51,$E64)","v":"7-1"},{"$f":"INDEX($B$3:$AA$28,$E64,T$51)&\"-\"&INDEX($B$3:$AA$28,T$51,$E64)","v":"-"},{"$f":"INDEX($B$3:$AA$28,$E64,U$51)&\"-\"&INDEX($B$3:$AA$28,U$51,$E64)","v":"3-1"},{"$f":"INDEX($B$3:$AA$28,$E64,V$51)&\"-\"&INDEX($B$3:$AA$28,V$51,$E64)","v":"-"},{"$f":"INDEX($B$3:$AA$28,$E64,W$51)&\"-\"&INDEX($B$3:$AA$28,W$51,$E64)","v":"-"},{"$f":"INDEX($B$3:$AA$28,$E64,X$51)&\"-\"&INDEX($B$3:$AA$28,X$51,$E64)","v":"-"},{"$f":"INDEX($B$3:$AA$28,$E64,Y$51)&\"-\"&INDEX($B$3:$AA$28,Y$51,$E64)","v":"-"},{"$f":"INDEX($B$3:$AA$28,$E64,Z$51)&\"-\"&INDEX($B$3:$AA$28,Z$51,$E64)","v":"-"},{"$f":"INDEX($B$3:$AA$28,$E64,AA$51)&\"-\"&INDEX($B$3:$AA$28,AA$51,$E64)","v":"-"},{"$f":"INDEX($B$3:$AA$28,$E64,AB$51)&\"-\"&INDEX($B$3:$AA$28,AB$51,$E64)","v":"-"},{"$f":"INDEX($B$3:$AA$28,$E64,AC$51)&\"-\"&INDEX($B$3:$AA$28,AC$51,$E64)","v":"-"},{"$f":"INDEX($B$3:$AA$28,$E64,AD$51)&\"-\"&INDEX($B$3:$AA$28,AD$51,$E64)","v":"-"},{"$f":"INDEX($B$3:$AA$28,$E64,AE$51)&\"-\"&INDEX($B$3:$AA$28,AE$51,$E64)","v":"-"},{"$f":"INDEX($B$3:$AA$28,$E64,AF$51)&\"-\"&INDEX($B$3:$AA$28,AF$51,$E64)","v":"-"}]
[13,15,13,10,10,"410",{"$f":"INDEX($B$3:$AA$28,$E65,G$51)&\"-\"&INDEX($B$3:$AA$28,G$51,$E65)","v":"-"},{"$f":"INDEX($B$3:$AA$28,$E65,H$51)&\"-\"&INDEX($B$3:$AA$28,H$51,$E65)","v":"-"},{"$f":"INDEX($B$3:$AA$28,$E65,I$51)&\"-\"&INDEX($B$3:$AA$28,I$51,$E65)","v":"-"},{"$f":"INDEX($B$3:$AA$28,$E65,J$51)&\"-\"&INDEX($B$3:$AA$28,J$51,$E65)","v":"1-9"},{"$f":"INDEX($B$3:$AA$28,$E65,K$51)&\"-\"&INDEX($B$3:$AA$28,K$51,$E65)","v":"3-5"},{"$f":"INDEX($B$3:$AA$28,$E65,L$51)&\"-\"&INDEX($B$3:$AA$28,L$51,$E65)","v":"1-4"},{"$f":"INDEX($B$3:$AA$28,$E65,M$51)&\"-\"&INDEX($B$3:$AA$28,M$51,$E65)","v":"1-4"},{"$f":"INDEX($B$3:$AA$28,$E65,N$51)&\"-\"&INDEX($B$3:$AA$28,N$51,$E65)","v":"0-10"},{"$f":"INDEX($B$3:$AA$28,$E65,O$51)&\"-\"&INDEX($B$3:$AA$28,O$51,$E65)","v":"2-7"},{"$f":"INDEX($B$3:$AA$28,$E65,P$51)&\"-\"&INDEX($B$3:$AA$28,P$51,$E65)","v":"1-3"},{"$f":"INDEX($B$3:$AA$28,$E65,Q$51)&\"-\"&INDEX($B$3:$AA$28,Q$51,$E65)","v":"0-8"},{"$f":"INDEX($B$3:$AA$28,$E65,R$51)&\"-\"&INDEX($B$3:$AA$28,R$51,$E65)","v":"1-7"},{"$f":"INDEX($B$3:$AA$28,$E65,S$51)&\"-\"&INDEX($B$3:$AA$28,S$51,$E65)","v":"-"},{"$f":"INDEX($B$3:$AA$28,$E65,T$51)&\"-\"&INDEX($B$3:$AA$28,T$51,$E65)","v":"3-5"},{"$f":"INDEX($B$3:$AA$28,$E65,U$51)&\"-\"&INDEX($B$3:$AA$28,U$51,$E65)","v":"-"},{"$f":"INDEX($B$3:$AA$28,$E65,V$51)&\"-\"&INDEX($B$3:$AA$28,V$51,$E65)","v":"-"},{"$f":"INDEX($B$3:$AA$28,$E65,W$51)&\"-\"&INDEX($B$3:$AA$28,W$51,$E65)","v":"5-1"},{"$f":"INDEX($B$3:$AA$28,$E65,X$51)&\"-\"&INDEX($B$3:$AA$28,X$51,$E65)","v":"-"},{"$f":"INDEX($B$3:$AA$28,$E65,Y$51)&\"-\"&INDEX($B$3:$AA$28,Y$51,$E65)","v":"-"},{"$f":"INDEX($B$3:$AA$28,$E65,Z$51)&\"-\"&INDEX($B$3:$AA$28,Z$51,$E65)","v":"-"},{"$f":"INDEX($B$3:$AA$28,$E65,AA$51)&\"-\"&INDEX($B$3:$AA$28,AA$51,$E65)","v":"-"},{"$f":"INDEX($B$3:$AA$28,$E65,AB$51)&\"-\"&INDEX($B$3:$AA$28,AB$51,$E65)","v":"-"},{"$f":"INDEX($B$3:$AA$28,$E65,AC$51)&\"-\"&INDEX($B$3:$AA$28,AC$51,$E65)","v":"-"},{"$f":"INDEX($B$3:$AA$28,$E65,AD$51)&\"-\"&INDEX($B$3:$AA$28,AD$51,$E65)","v":"-"},{"$f":"INDEX($B$3:$AA$28,$E65,AE$51)&\"-\"&INDEX($B$3:$AA$28,AE$51,$E65)","v":"-"},{"$f":"INDEX($B$3:$AA$28,$E65,AF$51)&\"-\"&INDEX($B$3:$AA$28,AF$51,$E65)","v":"-"}]
[14,13,14,15,15,"415",{"$f":"INDEX($B$3:$AA$28,$E66,G$51)&\"-\"&INDEX($B$3:$AA$28,G$51,$E66)","v":"-"},{"$f":"INDEX($B$3:$AA$28,$E66,H$51)&\"-\"&INDEX($B$3:$AA$28,H$51,$E66)","v":"-"},{"$f":"INDEX($B$3:$AA$28,$E66,I$51)&\"-\"&INDEX($B$3:$AA$28,I$51,$E66)","v":"-"},{"$f":"INDEX($B$3:$AA$28,$E66,J$51)&\"-\"&INDEX($B$3:$AA$28,J$51,$E66)","v":"-"},{"$f":"INDEX($B$3:$AA$28,$E66,K$51)&\"-\"&INDEX($B$3:$AA$28,K$51,$E66)","v":"-"},{"$f":"INDEX($B$3:$AA$28,$E66,L$51)&\"-\"&INDEX($B$3:$AA$28,L$51,$E66)","v":"-"},{"$f":"INDEX($B$3:$AA$28,$E66,M$51)&\"-\"&INDEX($B$3:$AA$28,M$51,$E66)","v":"-"},{"$f":"INDEX($B$3:$AA$28,$E66,N$51)&\"-\"&INDEX($B$3:$AA$28,N$51,$E66)","v":"-"},{"$f":"INDEX($B$3:$AA$28,$E66,O$51)&\"-\"&INDEX($B$3:$AA$28,O$51,$E66)","v":"1-10"},{"$f":"INDEX($B$3:$AA$28,$E66,P$51)&\"-\"&INDEX($B$3:$AA$28,P$51,$E66)","v":"-"},{"$f":"INDEX($B$3:$AA$28,$E66,Q$51)&\"-\"&INDEX($B$3:$AA$28,Q$51,$E66)","v":"2-8"},{"$f":"INDEX($B$3:$AA$28,$E66,R$51)&\"-\"&INDEX($B$3:$AA$28,R$51,$E66)","v":"-"},{"$f":"INDEX($B$3:$AA$28,$E66,S$51)&\"-\"&INDEX($B$3:$AA$28,S$51,$E66)","v":"5-3"},{"$f":"INDEX($B$3:$AA$28,$E66,T$51)&\"-\"&INDEX($B$3:$AA$28,T$51,$E66)","v":"-"},{"$f":"INDEX($B$3:$AA$28,$E66,U$51)&\"-\"&INDEX($B$3:$AA$28,U$51,$E66)","v":"4-6"},{"$f":"INDEX($B$3:$AA$28,$E66,V$51)&\"-\"&INDEX($B$3:$AA$28,V$51,$E66)","v":"7-5"},{"$f":"INDEX($B$3:$AA$28,$E66,W$51)&\"-\"&INDEX($B$3:$AA$28,W$51,$E66)","v":"-"},{"$f":"INDEX($B$3:$AA$28,$E66,X$51)&\"-\"&INDEX($B$3:$AA$28,X$51,$E66)","v":"8-0"},{"$f":"INDEX($B$3:$AA$28,$E66,Y$51)&\"-\"&INDEX($B$3:$AA$28,Y$51,$E66)","v":"-"},{"$f":"INDEX($B$3:$AA$28,$E66,Z$51)&\"-\"&INDEX($B$3:$AA$28,Z$51,$E66)","v":"5-0"},{"$f":"INDEX($B$3:$AA$28,$E66,AA$51)&\"-\"&INDEX($B$3:$AA$28,AA$51,$E66)","v":"-"},{"$f":"INDEX($B$3:$AA$28,$E66,AB$51)&\"-\"&INDEX($B$3:$AA$28,AB$51,$E66)","v":"-"},{"$f":"INDEX($B$3:$AA$28,$E66,AC$51)&\"-\"&INDEX($B$3:$AA$28,AC$51,$E66)","v":"12-2"},{"$f":"INDEX($B$3:$AA$28,$E66,AD$51)&\"-\"&INDEX($B$3:$AA$28,AD$51,$E66)","v":"-"},{"$f":"INDEX($B$3:$AA$28,$E66,AE$51)&\"-\"&INDEX($B$3:$AA$28,AE$51,$E66)","v":"-"},{"$f":"INDEX($B$3:$AA$28,$E66,AF$51)&\"-\"&INDEX($B$3:$AA$28,AF$51,$E66)","v":"-"}]
[15,14,15,9,9,"409",{"$f":"INDEX($B$3:$AA$28,$E67,G$51)&\"-\"&INDEX($B$3:$AA$28,G$51,$E67)","v":"-"},{"$f":"INDEX($B$3:$AA$28,$E67,H$51)&\"-\"&INDEX($B$3:$AA$28,H$51,$E67)","v":"-"},{"$f":"INDEX($B$3:$AA$28,$E67,I$51)&\"-\"&INDEX($B$3:$AA$28,I$51,$E67)","v":"-"},{"$f":"INDEX($B$3:$AA$28,$E67,J$51)&\"-\"&INDEX($B$3:$AA$28,J$51,$E67)","v":"2-10"},{"$f":"INDEX($B$3:$AA$28,$E67,K$51)&\"-\"&INDEX($B$3:$AA$28,K$51,$E67)","v":"-"},{"$f":"INDEX($B$3:$AA$28,$E67,L$51)&\"-\"&INDEX($B$3:$AA$28,L$51,$E67)","v":"-"},{"$f":"INDEX($B$3:$AA$28,$E67,M$51)&\"-\"&INDEX($B$3:$AA$28,M$51,$E67)","v":"0-2"},{"$f":"INDEX($B$3:$AA$28,$E67,N$51)&\"-\"&INDEX($B$3:$AA$28,N$51,$E67)","v":"0-10"},{"$f":"INDEX($B$3:$AA$28,$E67,O$51)&\"-\"&INDEX($B$3:$AA$28,O$51,$E67)","v":"1-8"},{"$f":"INDEX($B$3:$AA$28,$E67,P$51)&\"-\"&INDEX($B$3:$AA$28,P$51,$E67)","v":"1-6"},{"$f":"INDEX($B$3:$AA$28,$E67,Q$51)&\"-\"&INDEX($B$3:$AA$28,Q$51,$E67)","v":"-"},{"$f":"INDEX($B$3:$AA$28,$E67,R$51)&\"-\"&INDEX($B$3:$AA$28,R$51,$E67)","v":"1-3"},{"$f":"INDEX($B$3:$AA$28,$E67,S$51)&\"-\"&INDEX($B$3:$AA$28,S$51,$E67)","v":"-"},{"$f":"INDEX($B$3:$AA$28,$E67,T$51)&\"-\"&INDEX($B$3:$AA$28,T$51,$E67)","v":"6-4"},{"$f":"INDEX($B$3:$AA$28,$E67,U$51)&\"-\"&INDEX($B$3:$AA$28,U$51,$E67)","v":"-"},{"$f":"INDEX($B$3:$AA$28,$E67,V$51)&\"-\"&INDEX($B$3:$AA$28,V$51,$E67)","v":"4-2"},{"$f":"INDEX($B$3:$AA$28,$E67,W$51)&\"-\"&INDEX($B$3:$AA$28,W$51,$E67)","v":"-"},{"$f":"INDEX($B$3:$AA$28,$E67,X$51)&\"-\"&INDEX($B$3:$AA$28,X$51,$E67)","v":"-"},{"$f":"INDEX($B$3:$AA$28,$E67,Y$51)&\"-\"&INDEX($B$3:$AA$28,Y$51,$E67)","v":"-"},{"$f":"INDEX($B$3:$AA$28,$E67,Z$51)&\"-\"&INDEX($B$3:$AA$28,Z$51,$E67)","v":"-"},{"$f":"INDEX($B$3:$AA$28,$E67,AA$51)&\"-\"&INDEX($B$3:$AA$28,AA$51,$E67)","v":"-"},{"$f":"INDEX($B$3:$AA$28,$E67,AB$51)&\"-\"&INDEX($B$3:$AA$28,AB$51,$E67)","v":"-"},{"$f":"INDEX($B$3:$AA$28,$E67,AC$51)&\"-\"&INDEX($B$3:$AA$28,AC$51,$E67)","v":"-"},{"$f":"INDEX($B$3:$AA$28,$E67,AD$51)&\"-\"&INDEX($B$3:$AA$28,AD$51,$E67)","v":"-"},{"$f":"INDEX($B$3:$AA$28,$E67,AE$51)&\"-\"&INDEX($B$3:$AA$28,AE$51,$E67)","v":"-"},{"$f":"INDEX($B$3:$AA$28,$E67,AF$51)&\"-\"&INDEX($B$3:$AA$28,AF$51,$E67)","v":"-"}]
[16,16,16,16,16,"416",{"$f":"INDEX($B$3:$AA$28,$E68,G$51)&\"-\"&INDEX($B$3:$AA$28,G$51,$E68)","v":"-"},{"$f":"INDEX($B$3:$AA$28,$E68,H$51)&\"-\"&INDEX($B$3:$AA$28,H$51,$E68)","v":"-"},{"$f":"INDEX($B$3:$AA$28,$E68,I$51)&\"-\"&INDEX($B$3:$AA$28,I$51,$E68)","v":"-"},{"$f":"INDEX($B$3:$AA$28,$E68,J$51)&\"-\"&INDEX($B$3:$AA$28,J$51,$E68)","v":"-"},{"$f":"INDEX($B$3:$AA$28,$E68,K$51)&\"-\"&INDEX($B$3:$AA$28,K$51,$E68)","v":"-"},{"$f":"INDEX($B$3:$AA$28,$E68,L$51)&\"-\"&INDEX($B$3:$AA$28,L$51,$E68)","v":"-"},{"$f":"INDEX($B$3:$AA$28,$E68,M$51)&\"-\"&INDEX($B$3:$AA$28,M$51,$E68)","v":"-"},{"$f":"INDEX($B$3:$AA$28,$E68,N$51)&\"-\"&INDEX($B$3:$AA$28,N$51,$E68)","v":"-"},{"$f":"INDEX($B$3:$AA$28,$E68,O$51)&\"-\"&INDEX($B$3:$AA$28,O$51,$E68)","v":"2-11"},{"$f":"INDEX($B$3:$AA$28,$E68,P$51)&\"-\"&INDEX($B$3:$AA$28,P$51,$E68)","v":"-"},{"$f":"INDEX($B$3:$AA$28,$E68,Q$51)&\"-\"&INDEX($B$3:$AA$28,Q$51,$E68)","v":"5-6"},{"$f":"INDEX($B$3:$AA$28,$E68,R$51)&\"-\"&INDEX($B$3:$AA$28,R$51,$E68)","v":"-"},{"$f":"INDEX($B$3:$AA$28,$E68,S$51)&\"-\"&INDEX($B$3:$AA$28,S$51,$E68)","v":"-"},{"$f":"INDEX($B$3:$AA$28,$E68,T$51)&\"-\"&INDEX($B$3:$AA$28,T$51,$E68)","v":"5-7"},{"$f":"INDEX($B$3:$AA$28,$E68,U$51)&\"-\"&INDEX($B$3:$AA$28,U$51,$E68)","v":"2-4"},{"$f":"INDEX($B$3:$AA$28,$E68,V$51)&\"-\"&INDEX($B$3:$AA$28,V$51,$E68)","v":"-"},{"$f":"INDEX($B$3:$AA$28,$E68,W$51)&\"-\"&INDEX($B$3:$AA$28,W$51,$E68)","v":"1-2"},{"$f":"INDEX($B$3:$AA$28,$E68,X$51)&\"-\"&INDEX($B$3:$AA$28,X$51,$E68)","v":"10-2"},{"$f":"INDEX($B$3:$AA$28,$E68,Y$51)&\"-\"&INDEX($B$3:$AA$28,Y$51,$E68)","v":"-"},{"$f":"INDEX($B$3:$AA$28,$E68,Z$51)&\"-\"&INDEX($B$3:$AA$28,Z$51,$E68)","v":"6-2"},{"$f":"INDEX($B$3:$AA$28,$E68,AA$51)&\"-\"&INDEX($B$3:$AA$28,AA$51,$E68)","v":"-"},{"$f":"INDEX($B$3:$AA$28,$E68,AB$51)&\"-\"&INDEX($B$3:$AA$28,AB$51,$E68)","v":"8-0"},{"$f":"INDEX($B$3:$AA$28,$E68,AC$51)&\"-\"&INDEX($B$3:$AA$28,AC$51,$E68)","v":"-"},{"$f":"INDEX($B$3:$AA$28,$E68,AD$51)&\"-\"&INDEX($B$3:$AA$28,AD$51,$E68)","v":"-"},{"$f":"INDEX($B$3:$AA$28,$E68,AE$51)&\"-\"&INDEX($B$3:$AA$28,AE$51,$E68)","v":"-"},{"$f":"INDEX($B$3:$AA$28,$E68,AF$51)&\"-\"&INDEX($B$3:$AA$28,AF$51,$E68)","v":"-"}]
[17,18,17,19,19,"419",{"$f":"INDEX($B$3:$AA$28,$E69,G$51)&\"-\"&INDEX($B$3:$AA$28,G$51,$E69)","v":"-"},{"$f":"INDEX($B$3:$AA$28,$E69,H$51)&\"-\"&INDEX($B$3:$AA$28,H$51,$E69)","v":"-"},{"$f":"INDEX($B$3:$AA$28,$E69,I$51)&\"-\"&INDEX($B$3:$AA$28,I$51,$E69)","v":"-"},{"$f":"INDEX($B$3:$AA$28,$E69,J$51)&\"-\"&INDEX($B$3:$AA$28,J$51,$E69)","v":"-"},{"$f":"INDEX($B$3:$AA$28,$E69,K$51)&\"-\"&INDEX($B$3:$AA$28,K$51,$E69)","v":"-"},{"$f":"INDEX($B$3:$AA$28,$E69,L$51)&\"-\"&INDEX($B$3:$AA$28,L$51,$E69)","v":"-"},{"$f":"INDEX($B$3:$AA$28,$E69,M$51)&\"-\"&INDEX($B$3:$AA$28,M$51,$E69)","v":"-"},{"$f":"INDEX($B$3:$AA$28,$E69,N$51)&\"-\"&INDEX($B$3:$AA$28,N$51,$E69)","v":"-"},{"$f":"INDEX($B$3:$AA$28,$E69,O$51)&\"-\"&INDEX($B$3:$AA$28,O$51,$E69)","v":"-"},{"$f":"INDEX($B$3:$AA$28,$E69,P$51)&\"-\"&INDEX($B$3:$AA$28,P$51,$E69)","v":"-"},{"$f":"INDEX($B$3:$AA$28,$E69,Q$51)&\"-\"&INDEX($B$3:$AA$28,Q$51,$E69)","v":"-"},{"$f":"INDEX($B$3:$AA$28,$E69,R$51)&\"-\"&INDEX($B$3:$AA$28,R$51,$E69)","v":"-"},{"$f":"INDEX($B$3:$AA$28,$E69,S$51)&\"-\"&INDEX($B$3:$AA$28,S$51,$E69)","v":"1-5"},{"$f":"INDEX($B$3:$AA$28,$E69,T$51)&\"-\"&INDEX($B$3:$AA$28,T$51,$E69)","v":"-"},{"$f":"INDEX($B$3:$AA$28,$E69,U$51)&\"-\"&INDEX($B$3:$AA$28,U$51,$E69)","v":"-"},{"$f":"INDEX($B$3:$AA$28,$E69,V$51)&\"-\"&INDEX($B$3:$AA$28,V$51,$E69)","v":"2-1"},{"$f":"INDEX($B$3:$AA$28,$E69,W$51)&\"-\"&INDEX($B$3:$AA$28,W$51,$E69)","v":"-"},{"$f":"INDEX($B$3:$AA$28,$E69,X$51)&\"-\"&INDEX($B$3:$AA$28,X$51,$E69)","v":"4-7"},{"$f":"INDEX($B$3:$AA$28,$E69,Y$51)&\"-\"&INDEX($B$3:$AA$28,Y$51,$E69)","v":"-"},{"$f":"INDEX($B$3:$AA$28,$E69,Z$51)&\"-\"&INDEX($B$3:$AA$28,Z$51,$E69)","v":"-"},{"$f":"INDEX($B$3:$AA$28,$E69,AA$51)&\"-\"&INDEX($B$3:$AA$28,AA$51,$E69)","v":"3-2"},{"$f":"INDEX($B$3:$AA$28,$E69,AB$51)&\"-\"&INDEX($B$3:$AA$28,AB$51,$E69)","v":"3-0"},{"$f":"INDEX($B$3:$AA$28,$E69,AC$51)&\"-\"&INDEX($B$3:$AA$28,AC$51,$E69)","v":"-"},{"$f":"INDEX($B$3:$AA$28,$E69,AD$51)&\"-\"&INDEX($B$3:$AA$28,AD$51,$E69)","v":"-"},{"$f":"INDEX($B$3:$AA$28,$E69,AE$51)&\"-\"&INDEX($B$3:$AA$28,AE$51,$E69)","v":"11-1"},{"$f":"INDEX($B$3:$AA$28,$E69,AF$51)&\"-\"&INDEX($B$3:$AA$28,AF$51,$E69)","v":"-"}]
[18,17,18,17,17,"417",{"$f":"INDEX($B$3:$AA$28,$E70,G$51)&\"-\"&INDEX($B$3:$AA$28,G$51,$E70)","v":"-"},{"$f":"INDEX($B$3:$AA$28,$E70,H$51)&\"-\"&INDEX($B$3:$AA$28,H$51,$E70)","v":"-"},{"$f":"INDEX($B$3:$AA$28,$E70,I$51)&\"-\"&INDEX($B$3:$AA$28,I$51,$E70)","v":"-"},{"$f":"INDEX($B$3:$AA$28,$E70,J$51)&\"-\"&INDEX($B$3:$AA$28,J$51,$E70)","v":"-"},{"$f":"INDEX($B$3:$AA$28,$E70,K$51)&\"-\"&INDEX($B$3:$AA$28,K$51,$E70)","v":"-"},{"$f":"INDEX($B$3:$AA$28,$E70,L$51)&\"-\"&INDEX($B$3:$AA$28,L$51,$E70)","v":"-"},{"$f":"INDEX($B$3:$AA$28,$E70,M$51)&\"-\"&INDEX($B$3:$AA$28,M$51,$E70)","v":"-"},{"$f":"INDEX($B$3:$AA$28,$E70,N$51)&\"-\"&INDEX($B$3:$AA$28,N$51,$E70)","v":"0-13"},{"$f":"INDEX($B$3:$AA$28,$E70,O$51)&\"-\"&INDEX($B$3:$AA$28,O$51,$E70)","v":"2-12"},{"$f":"INDEX($B$3:$AA$28,$E70,P$51)&\"-\"&INDEX($B$3:$AA$28,P$51,$E70)","v":"-"},{"$f":"INDEX($B$3:$AA$28,$E70,Q$51)&\"-\"&INDEX($B$3:$AA$28,Q$51,$E70)","v":"-"},{"$f":"INDEX($B$3:$AA$28,$E70,R$51)&\"-\"&INDEX($B$3:$AA$28,R$51,$E70)","v":"-"},{"$f":"INDEX($B$3:$AA$28,$E70,S$51)&\"-\"&INDEX($B$3:$AA$28,S$51,$E70)","v":"-"},{"$f":"INDEX($B$3:$AA$28,$E70,T$51)&\"-\"&INDEX($B$3:$AA$28,T$51,$E70)","v":"0-8"},{"$f":"INDEX($B$3:$AA$28,$E70,U$51)&\"-\"&INDEX($B$3:$AA$28,U$51,$E70)","v":"-"},{"$f":"INDEX($B$3:$AA$28,$E70,V$51)&\"-\"&INDEX($B$3:$AA$28,V$51,$E70)","v":"2-10"},{"$f":"INDEX($B$3:$AA$28,$E70,W$51)&\"-\"&INDEX($B$3:$AA$28,W$51,$E70)","v":"7-4"},{"$f":"INDEX($B$3:$AA$28,$E70,X$51)&\"-\"&INDEX($B$3:$AA$28,X$51,$E70)","v":"-"},{"$f":"INDEX($B$3:$AA$28,$E70,Y$51)&\"-\"&INDEX($B$3:$AA$28,Y$51,$E70)","v":"6-0"},{"$f":"INDEX($B$3:$AA$28,$E70,Z$51)&\"-\"&INDEX($B$3:$AA$28,Z$51,$E70)","v":"7-1"},{"$f":"INDEX($B$3:$AA$28,$E70,AA$51)&\"-\"&INDEX($B$3:$AA$28,AA$51,$E70)","v":"-"},{"$f":"INDEX($B$3:$AA$28,$E70,AB$51)&\"-\"&INDEX($B$3:$AA$28,AB$51,$E70)","v":"4-3"},{"$f":"INDEX($B$3:$AA$28,$E70,AC$51)&\"-\"&INDEX($B$3:$AA$28,AC$51,$E70)","v":"-"},{"$f":"INDEX($B$3:$AA$28,$E70,AD$51)&\"-\"&INDEX($B$3:$AA$28,AD$51,$E70)","v":"3-2"},{"$f":"INDEX($B$3:$AA$28,$E70,AE$51)&\"-\"&INDEX($B$3:$AA$28,AE$51,$E70)","v":"-"},{"$f":"INDEX($B$3:$AA$28,$E70,AF$51)&\"-\"&INDEX($B$3:$AA$28,AF$51,$E70)","v":"10-0"}]
[19,19,20,20,20,"420",{"$f":"INDEX($B$3:$AA$28,$E71,G$51)&\"-\"&INDEX($B$3:$AA$28,G$51,$E71)","v":"-"},{"$f":"INDEX($B$3:$AA$28,$E71,H$51)&\"-\"&INDEX($B$3:$AA$28,H$51,$E71)","v":"-"},{"$f":"INDEX($B$3:$AA$28,$E71,I$51)&\"-\"&INDEX($B$3:$AA$28,I$51,$E71)","v":"-"},{"$f":"INDEX($B$3:$AA$28,$E71,J$51)&\"-\"&INDEX($B$3:$AA$28,J$51,$E71)","v":"-"},{"$f":"INDEX($B$3:$AA$28,$E71,K$51)&\"-\"&INDEX($B$3:$AA$28,K$51,$E71)","v":"-"},{"$f":"INDEX($B$3:$AA$28,$E71,L$51)&\"-\"&INDEX($B$3:$AA$28,L$51,$E71)","v":"-"},{"$f":"INDEX($B$3:$AA$28,$E71,M$51)&\"-\"&INDEX($B$3:$AA$28,M$51,$E71)","v":"-"},{"$f":"INDEX($B$3:$AA$28,$E71,N$51)&\"-\"&INDEX($B$3:$AA$28,N$51,$E71)","v":"-"},{"$f":"INDEX($B$3:$AA$28,$E71,O$51)&\"-\"&INDEX($B$3:$AA$28,O$51,$E71)","v":"-"},{"$f":"INDEX($B$3:$AA$28,$E71,P$51)&\"-\"&INDEX($B$3:$AA$28,P$51,$E71)","v":"-"},{"$f":"INDEX($B$3:$AA$28,$E71,Q$51)&\"-\"&INDEX($B$3:$AA$28,Q$51,$E71)","v":"-"},{"$f":"INDEX($B$3:$AA$28,$E71,R$51)&\"-\"&INDEX($B$3:$AA$28,R$51,$E71)","v":"-"},{"$f":"INDEX($B$3:$AA$28,$E71,S$51)&\"-\"&INDEX($B$3:$AA$28,S$51,$E71)","v":"-"},{"$f":"INDEX($B$3:$AA$28,$E71,T$51)&\"-\"&INDEX($B$3:$AA$28,T$51,$E71)","v":"-"},{"$f":"INDEX($B$3:$AA$28,$E71,U$51)&\"-\"&INDEX($B$3:$AA$28,U$51,$E71)","v":"-"},{"$f":"INDEX($B$3:$AA$28,$E71,V$51)&\"-\"&INDEX($B$3:$AA$28,V$51,$E71)","v":"-"},{"$f":"INDEX($B$3:$AA$28,$E71,W$51)&\"-\"&INDEX($B$3:$AA$28,W$51,$E71)","v":"-"},{"$f":"INDEX($B$3:$AA$28,$E71,X$51)&\"-\"&INDEX($B$3:$AA$28,X$51,$E71)","v":"0-6"},{"$f":"INDEX($B$3:$AA$28,$E71,Y$51)&\"-\"&INDEX($B$3:$AA$28,Y$51,$E71)","v":"-"},{"$f":"INDEX($B$3:$AA$28,$E71,Z$51)&\"-\"&INDEX($B$3:$AA$28,Z$51,$E71)","v":"3-6"},{"$f":"INDEX($B$3:$AA$28,$E71,AA$51)&\"-\"&INDEX($B$3:$AA$28,AA$51,$E71)","v":"8-0"},{"$f":"INDEX($B$3:$AA$28,$E71,AB$51)&\"-\"&INDEX($B$3:$AA$28,AB$51,$E71)","v":"6-0"},{"$f":"INDEX($B$3:$AA$28,$E71,AC$51)&\"-\"&INDEX($B$3:$AA$28,AC$51,$E71)","v":"-"},{"$f":"INDEX($B$3:$AA$28,$E71,AD$51)&\"-\"&INDEX($B$3:$AA$28,AD$51,$E71)","v":"4-2"},{"$f":"INDEX($B$3:$AA$28,$E71,AE$51)&\"-\"&INDEX($B$3:$AA$28,AE$51,$E71)","v":"8-0"},{"$f":"INDEX($B$3:$AA$28,$E71,AF$51)&\"-\"&INDEX($B$3:$AA$28,AF$51,$E71)","v":"5-0"}]
[20,20,19,18,18,"418",{"$f":"INDEX($B$3:$AA$28,$E72,G$51)&\"-\"&INDEX($B$3:$AA$28,G$51,$E72)","v":"-"},{"$f":"INDEX($B$3:$AA$28,$E72,H$51)&\"-\"&INDEX($B$3:$AA$28,H$51,$E72)","v":"-"},{"$f":"INDEX($B$3:$AA$28,$E72,I$51)&\"-\"&INDEX($B$3:$AA$28,I$51,$E72)","v":"-"},{"$f":"INDEX($B$3:$AA$28,$E72,J$51)&\"-\"&INDEX($B$3:$AA$28,J$51,$E72)","v":"-"},{"$f":"INDEX($B$3:$AA$28,$E72,K$51)&\"-\"&INDEX($B$3:$AA$28,K$51,$E72)","v":"-"},{"$f":"INDEX($B$3:$AA$28,$E72,L$51)&\"-\"&INDEX($B$3:$AA$28,L$51,$E72)","v":"1-11"},{"$f":"INDEX($B$3:$AA$28,$E72,M$51)&\"-\"&INDEX($B$3:$AA$28,M$51,$E72)","v":"-"},{"$f":"INDEX($B$3:$AA$28,$E72,N$51)&\"-\"&INDEX($B$3:$AA$28,N$51,$E72)","v":"-"},{"$f":"INDEX($B$3:$AA$28,$E72,O$51)&\"-\"&INDEX($B$3:$AA$28,O$51,$E72)","v":"-"},{"$f":"INDEX($B$3:$AA$28,$E72,P$51)&\"-\"&INDEX($B$3:$AA$28,P$51,$E72)","v":"-"},{"$f":"INDEX($B$3:$AA$28,$E72,Q$51)&\"-\"&INDEX($B$3:$AA$28,Q$51,$E72)","v":"-"},{"$f":"INDEX($B$3:$AA$28,$E72,R$51)&\"-\"&INDEX($B$3:$AA$28,R$51,$E72)","v":"-"},{"$f":"INDEX($B$3:$AA$28,$E72,S$51)&\"-\"&INDEX($B$3:$AA$28,S$51,$E72)","v":"-"},{"$f":"INDEX($B$3:$AA$28,$E72,T$51)&\"-\"&INDEX($B$3:$AA$28,T$51,$E72)","v":"0-5"},{"$f":"INDEX($B$3:$AA$28,$E72,U$51)&\"-\"&INDEX($B$3:$AA$28,U$51,$E72)","v":"-"},{"$f":"INDEX($B$3:$AA$28,$E72,V$51)&\"-\"&INDEX($B$3:$AA$28,V$51,$E72)","v":"2-6"},{"$f":"INDEX($B$3:$AA$28,$E72,W$51)&\"-\"&INDEX($B$3:$AA$28,W$51,$E72)","v":"-"},{"$f":"INDEX($B$3:$AA$28,$E72,X$51)&\"-\"&INDEX($B$3:$AA$28,X$51,$E72)","v":"1-7"},{"$f":"INDEX($B$3:$AA$28,$E72,Y$51)&\"-\"&INDEX($B$3:$AA$28,Y$51,$E72)","v":"6-3"},{"$f":"INDEX($B$3:$AA$28,$E72,Z$51)&\"-\"&INDEX($B$3:$AA$28,Z$51,$E72)","v":"-"},{"$f":"INDEX($B$3:$AA$28,$E72,AA$51)&\"-\"&INDEX($B$3:$AA$28,AA$51,$E72)","v":"4-3"},{"$f":"INDEX($B$3:$AA$28,$E72,AB$51)&\"-\"&INDEX($B$3:$AA$28,AB$51,$E72)","v":"2-2"},{"$f":"INDEX($B$3:$AA$28,$E72,AC$51)&\"-\"&INDEX($B$3:$AA$28,AC$51,$E72)","v":"-"},{"$f":"INDEX($B$3:$AA$28,$E72,AD$51)&\"-\"&INDEX($B$3:$AA$28,AD$51,$E72)","v":"-"},{"$f":"INDEX($B$3:$AA$28,$E72,AE$51)&\"-\"&INDEX($B$3:$AA$28,AE$51,$E72)","v":"-"},{"$f":"INDEX($B$3:$AA$28,$E72,AF$51)&\"-\"&INDEX($B$3:$AA$28,AF$51,$E72)","v":"10-0"}]
[21,21,21,26,26,"426",{"$f":"INDEX($B$3:$AA$28,$E73,G$51)&\"-\"&INDEX($B$3:$AA$28,G$51,$E73)","v":"-"},{"$f":"INDEX($B$3:$AA$28,$E73,H$51)&\"-\"&INDEX($B$3:$AA$28,H$51,$E73)","v":"-"},{"$f":"INDEX($B$3:$AA$28,$E73,I$51)&\"-\"&INDEX($B$3:$AA$28,I$51,$E73)","v":"-"},{"$f":"INDEX($B$3:$AA$28,$E73,J$51)&\"-\"&INDEX($B$3:$AA$28,J$51,$E73)","v":"-"},{"$f":"INDEX($B$3:$AA$28,$E73,K$51)&\"-\"&INDEX($B$3:$AA$28,K$51,$E73)","v":"-"},{"$f":"INDEX($B$3:$AA$28,$E73,L$51)&\"-\"&INDEX($B$3:$AA$28,L$51,$E73)","v":"-"},{"$f":"INDEX($B$3:$AA$28,$E73,M$51)&\"-\"&INDEX($B$3:$AA$28,M$51,$E73)","v":"-"},{"$f":"INDEX($B$3:$AA$28,$E73,N$51)&\"-\"&INDEX($B$3:$AA$28,N$51,$E73)","v":"-"},{"$f":"INDEX($B$3:$AA$28,$E73,O$51)&\"-\"&INDEX($B$3:$AA$28,O$51,$E73)","v":"-"},{"$f":"INDEX($B$3:$AA$28,$E73,P$51)&\"-\"&INDEX($B$3:$AA$28,P$51,$E73)","v":"-"},{"$f":"INDEX($B$3:$AA$28,$E73,Q$51)&\"-\"&INDEX($B$3:$AA$28,Q$51,$E73)","v":"-"},{"$f":"INDEX($B$3:$AA$28,$E73,R$51)&\"-\"&INDEX($B$3:$AA$28,R$51,$E73)","v":"-"},{"$f":"INDEX($B$3:$AA$28,$E73,S$51)&\"-\"&INDEX($B$3:$AA$28,S$51,$E73)","v":"-"},{"$f":"INDEX($B$3:$AA$28,$E73,T$51)&\"-\"&INDEX($B$3:$AA$28,T$51,$E73)","v":"-"},{"$f":"INDEX($B$3:$AA$28,$E73,U$51)&\"-\"&INDEX($B$3:$AA$28,U$51,$E73)","v":"-"},{"$f":"INDEX($B$3:$AA$28,$E73,V$51)&\"-\"&INDEX($B$3:$AA$28,V$51,$E73)","v":"-"},{"$f":"INDEX($B$3:$AA$28,$E73,W$51)&\"-\"&INDEX($B$3:$AA$28,W$51,$E73)","v":"2-3"},{"$f":"INDEX($B$3:$AA$28,$E73,X$51)&\"-\"&INDEX($B$3:$AA$28,X$51,$E73)","v":"-"},{"$f":"INDEX($B$3:$AA$28,$E73,Y$51)&\"-\"&INDEX($B$3:$AA$28,Y$51,$E73)","v":"0-8"},{"$f":"INDEX($B$3:$AA$28,$E73,Z$51)&\"-\"&INDEX($B$3:$AA$28,Z$51,$E73)","v":"3-4"},{"$f":"INDEX($B$3:$AA$28,$E73,AA$51)&\"-\"&INDEX($B$3:$AA$28,AA$51,$E73)","v":"-"},{"$f":"INDEX($B$3:$AA$28,$E73,AB$51)&\"-\"&INDEX($B$3:$AA$28,AB$51,$E73)","v":"5-3"},{"$f":"INDEX($B$3:$AA$28,$E73,AC$51)&\"-\"&INDEX($B$3:$AA$28,AC$51,$E73)","v":"7-8"},{"$f":"INDEX($B$3:$AA$28,$E73,AD$51)&\"-\"&INDEX($B$3:$AA$28,AD$51,$E73)","v":"4-3"},{"$f":"INDEX($B$3:$AA$28,$E73,AE$51)&\"-\"&INDEX($B$3:$AA$28,AE$51,$E73)","v":"7-1"},{"$f":"INDEX($B$3:$AA$28,$E73,AF$51)&\"-\"&INDEX($B$3:$AA$28,AF$51,$E73)","v":"16-8"}]
[22,22,23,21,21,"421",{"$f":"INDEX($B$3:$AA$28,$E74,G$51)&\"-\"&INDEX($B$3:$AA$28,G$51,$E74)","v":"-"},{"$f":"INDEX($B$3:$AA$28,$E74,H$51)&\"-\"&INDEX($B$3:$AA$28,H$51,$E74)","v":"-"},{"$f":"INDEX($B$3:$AA$28,$E74,I$51)&\"-\"&INDEX($B$3:$AA$28,I$51,$E74)","v":"-"},{"$f":"INDEX($B$3:$AA$28,$E74,J$51)&\"-\"&INDEX($B$3:$AA$28,J$51,$E74)","v":"-"},{"$f":"INDEX($B$3:$AA$28,$E74,K$51)&\"-\"&INDEX($B$3:$AA$28,K$51,$E74)","v":"-"},{"$f":"INDEX($B$3:$AA$28,$E74,L$51)&\"-\"&INDEX($B$3:$AA$28,L$51,$E74)","v":"-"},{"$f":"INDEX($B$3:$AA$28,$E74,M$51)&\"-\"&INDEX($B$3:$AA$28,M$51,$E74)","v":"-"},{"$f":"INDEX($B$3:$AA$28,$E74,N$51)&\"-\"&INDEX($B$3:$AA$28,N$51,$E74)","v":"-"},{"$f":"INDEX($B$3:$AA$28,$E74,O$51)&\"-\"&INDEX($B$3:$AA$28,O$51,$E74)","v":"-"},{"$f":"INDEX($B$3:$AA$28,$E74,P$51)&\"-\"&INDEX($B$3:$AA$28,P$51,$E74)","v":"-"},{"$f":"INDEX($B$3:$AA$28,$E74,Q$51)&\"-\"&INDEX($B$3:$AA$28,Q$51,$E74)","v":"-"},{"$f":"INDEX($B$3:$AA$28,$E74,R$51)&\"-\"&INDEX($B$3:$AA$28,R$51,$E74)","v":"-"},{"$f":"INDEX($B$3:$AA$28,$E74,S$51)&\"-\"&INDEX($B$3:$AA$28,S$51,$E74)","v":"-"},{"$f":"INDEX($B$3:$AA$28,$E74,T$51)&\"-\"&INDEX($B$3:$AA$28,T$51,$E74)","v":"-"},{"$f":"INDEX($B$3:$AA$28,$E74,U$51)&\"-\"&INDEX($B$3:$AA$28,U$51,$E74)","v":"-"},{"$f":"INDEX($B$3:$AA$28,$E74,V$51)&\"-\"&INDEX($B$3:$AA$28,V$51,$E74)","v":"0-8"},{"$f":"INDEX($B$3:$AA$28,$E74,W$51)&\"-\"&INDEX($B$3:$AA$28,W$51,$E74)","v":"0-3"},{"$f":"INDEX($B$3:$AA$28,$E74,X$51)&\"-\"&INDEX($B$3:$AA$28,X$51,$E74)","v":"3-4"},{"$f":"INDEX($B$3:$AA$28,$E74,Y$51)&\"-\"&INDEX($B$3:$AA$28,Y$51,$E74)","v":"0-6"},{"$f":"INDEX($B$3:$AA$28,$E74,Z$51)&\"-\"&INDEX($B$3:$AA$28,Z$51,$E74)","v":"2-2"},{"$f":"INDEX($B$3:$AA$28,$E74,AA$51)&\"-\"&INDEX($B$3:$AA$28,AA$51,$E74)","v":"3-5"},{"$f":"INDEX($B$3:$AA$28,$E74,AB$51)&\"-\"&INDEX($B$3:$AA$28,AB$51,$E74)","v":"-"},{"$f":"INDEX($B$3:$AA$28,$E74,AC$51)&\"-\"&INDEX($B$3:$AA$28,AC$51,$E74)","v":"2-2"},{"$f":"INDEX($B$3:$AA$28,$E74,AD$51)&\"-\"&INDEX($B$3:$AA$28,AD$51,$E74)","v":"3-1"},{"$f":"INDEX($B$3:$AA$28,$E74,AE$51)&\"-\"&INDEX($B$3:$AA$28,AE$51,$E74)","v":"3-2"},{"$f":"INDEX($B$3:$AA$28,$E74,AF$51)&\"-\"&INDEX($B$3:$AA$28,AF$51,$E74)","v":"4-0"}]
[23,23,22,24,24,"424",{"$f":"INDEX($B$3:$AA$28,$E75,G$51)&\"-\"&INDEX($B$3:$AA$28,G$51,$E75)","v":"-"},{"$f":"INDEX($B$3:$AA$28,$E75,H$51)&\"-\"&INDEX($B$3:$AA$28,H$51,$E75)","v":"-"},{"$f":"INDEX($B$3:$AA$28,$E75,I$51)&\"-\"&INDEX($B$3:$AA$28,I$51,$E75)","v":"-"},{"$f":"INDEX($B$3:$AA$28,$E75,J$51)&\"-\"&INDEX($B$3:$AA$28,J$51,$E75)","v":"-"},{"$f":"INDEX($B$3:$AA$28,$E75,K$51)&\"-\"&INDEX($B$3:$AA$28,K$51,$E75)","v":"-"},{"$f":"INDEX($B$3:$AA$28,$E75,L$51)&\"-\"&INDEX($B$3:$AA$28,L$51,$E75)","v":"-"},{"$f":"INDEX($B$3:$AA$28,$E75,M$51)&\"-\"&INDEX($B$3:$AA$28,M$51,$E75)","v":"-"},{"$f":"INDEX($B$3:$AA$28,$E75,N$51)&\"-\"&INDEX($B$3:$AA$28,N$51,$E75)","v":"-"},{"$f":"INDEX($B$3:$AA$28,$E75,O$51)&\"-\"&INDEX($B$3:$AA$28,O$51,$E75)","v":"-"},{"$f":"INDEX($B$3:$AA$28,$E75,P$51)&\"-\"&INDEX($B$3:$AA$28,P$51,$E75)","v":"-"},{"$f":"INDEX($B$3:$AA$28,$E75,Q$51)&\"-\"&INDEX($B$3:$AA$28,Q$51,$E75)","v":"-"},{"$f":"INDEX($B$3:$AA$28,$E75,R$51)&\"-\"&INDEX($B$3:$AA$28,R$51,$E75)","v":"-"},{"$f":"INDEX($B$3:$AA$28,$E75,S$51)&\"-\"&INDEX($B$3:$AA$28,S$51,$E75)","v":"-"},{"$f":"INDEX($B$3:$AA$28,$E75,T$51)&\"-\"&INDEX($B$3:$AA$28,T$51,$E75)","v":"2-12"},{"$f":"INDEX($B$3:$AA$28,$E75,U$51)&\"-\"&INDEX($B$3:$AA$28,U$51,$E75)","v":"-"},{"$f":"INDEX($B$3:$AA$28,$E75,V$51)&\"-\"&INDEX($B$3:$AA$28,V$51,$E75)","v":"-"},{"$f":"INDEX($B$3:$AA$28,$E75,W$51)&\"-\"&INDEX($B$3:$AA$28,W$51,$E75)","v":"-"},{"$f":"INDEX($B$3:$AA$28,$E75,X$51)&\"-\"&INDEX($B$3:$AA$28,X$51,$E75)","v":"-"},{"$f":"INDEX($B$3:$AA$28,$E75,Y$51)&\"-\"&INDEX($B$3:$AA$28,Y$51,$E75)","v":"-"},{"$f":"INDEX($B$3:$AA$28,$E75,Z$51)&\"-\"&INDEX($B$3:$AA$28,Z$51,$E75)","v":"-"},{"$f":"INDEX($B$3:$AA$28,$E75,AA$51)&\"-\"&INDEX($B$3:$AA$28,AA$51,$E75)","v":"8-7"},{"$f":"INDEX($B$3:$AA$28,$E75,AB$51)&\"-\"&INDEX($B$3:$AA$28,AB$51,$E75)","v":"2-2"},{"$f":"INDEX($B$3:$AA$28,$E75,AC$51)&\"-\"&INDEX($B$3:$AA$28,AC$51,$E75)","v":"-"},{"$f":"INDEX($B$3:$AA$28,$E75,AD$51)&\"-\"&INDEX($B$3:$AA$28,AD$51,$E75)","v":"1-1"},{"$f":"INDEX($B$3:$AA$28,$E75,AE$51)&\"-\"&INDEX($B$3:$AA$28,AE$51,$E75)","v":"3-3"},{"$f":"INDEX($B$3:$AA$28,$E75,AF$51)&\"-\"&INDEX($B$3:$AA$28,AF$51,$E75)","v":"2-0"}]
[24,24,24,23,23,"423",{"$f":"INDEX($B$3:$AA$28,$E76,G$51)&\"-\"&INDEX($B$3:$AA$28,G$51,$E76)","v":"-"},{"$f":"INDEX($B$3:$AA$28,$E76,H$51)&\"-\"&INDEX($B$3:$AA$28,H$51,$E76)","v":"-"},{"$f":"INDEX($B$3:$AA$28,$E76,I$51)&\"-\"&INDEX($B$3:$AA$28,I$51,$E76)","v":"-"},{"$f":"INDEX($B$3:$AA$28,$E76,J$51)&\"-\"&INDEX($B$3:$AA$28,J$51,$E76)","v":"-"},{"$f":"INDEX($B$3:$AA$28,$E76,K$51)&\"-\"&INDEX($B$3:$AA$28,K$51,$E76)","v":"-"},{"$f":"INDEX($B$3:$AA$28,$E76,L$51)&\"-\"&INDEX($B$3:$AA$28,L$51,$E76)","v":"-"},{"$f":"INDEX($B$3:$AA$28,$E76,M$51)&\"-\"&INDEX($B$3:$AA$28,M$51,$E76)","v":"-"},{"$f":"INDEX($B$3:$AA$28,$E76,N$51)&\"-\"&INDEX($B$3:$AA$28,N$51,$E76)","v":"-"},{"$f":"INDEX($B$3:$AA$28,$E76,O$51)&\"-\"&INDEX($B$3:$AA$28,O$51,$E76)","v":"0-10"},{"$f":"INDEX($B$3:$AA$28,$E76,P$51)&\"-\"&INDEX($B$3:$AA$28,P$51,$E76)","v":"-"},{"$f":"INDEX($B$3:$AA$28,$E76,Q$51)&\"-\"&INDEX($B$3:$AA$28,Q$51,$E76)","v":"-"},{"$f":"INDEX($B$3:$AA$28,$E76,R$51)&\"-\"&INDEX($B$3:$AA$28,R$51,$E76)","v":"-"},{"$f":"INDEX($B$3:$AA$28,$E76,S$51)&\"-\"&INDEX($B$3:$AA$28,S$51,$E76)","v":"-"},{"$f":"INDEX($B$3:$AA$28,$E76,T$51)&\"-\"&INDEX($B$3:$AA$28,T$51,$E76)","v":"-"},{"$f":"INDEX($B$3:$AA$28,$E76,U$51)&\"-\"&INDEX($B$3:$AA$28,U$51,$E76)","v":"-"},{"$f":"INDEX($B$3:$AA$28,$E76,V$51)&\"-\"&INDEX($B$3:$AA$28,V$51,$E76)","v":"-"},{"$f":"INDEX($B$3:$AA$28,$E76,W$51)&\"-\"&INDEX($B$3:$AA$28,W$51,$E76)","v":"-"},{"$f":"INDEX($B$3:$AA$28,$E76,X$51)&\"-\"&INDEX($B$3:$AA$28,X$51,$E76)","v":"2-3"},{"$f":"INDEX($B$3:$AA$28,$E76,Y$51)&\"-\"&INDEX($B$3:$AA$28,Y$51,$E76)","v":"2-4"},{"$f":"INDEX($B$3:$AA$28,$E76,Z$51)&\"-\"&INDEX($B$3:$AA$28,Z$51,$E76)","v":"-"},{"$f":"INDEX($B$3:$AA$28,$E76,AA$51)&\"-\"&INDEX($B$3:$AA$28,AA$51,$E76)","v":"3-4"},{"$f":"INDEX($B$3:$AA$28,$E76,AB$51)&\"-\"&INDEX($B$3:$AA$28,AB$51,$E76)","v":"1-3"},{"$f":"INDEX($B$3:$AA$28,$E76,AC$51)&\"-\"&INDEX($B$3:$AA$28,AC$51,$E76)","v":"1-1"},{"$f":"INDEX($B$3:$AA$28,$E76,AD$51)&\"-\"&INDEX($B$3:$AA$28,AD$51,$E76)","v":"-"},{"$f":"INDEX($B$3:$AA$28,$E76,AE$51)&\"-\"&INDEX($B$3:$AA$28,AE$51,$E76)","v":"5-5"},{"$f":"INDEX($B$3:$AA$28,$E76,AF$51)&\"-\"&INDEX($B$3:$AA$28,AF$51,$E76)","v":"6-6"}]
[25,25,25,25,25,"425",{"$f":"INDEX($B$3:$AA$28,$E77,G$51)&\"-\"&INDEX($B$3:$AA$28,G$51,$E77)","v":"-"},{"$f":"INDEX($B$3:$AA$28,$E77,H$51)&\"-\"&INDEX($B$3:$AA$28,H$51,$E77)","v":"-"},{"$f":"INDEX($B$3:$AA$28,$E77,I$51)&\"-\"&INDEX($B$3:$AA$28,I$51,$E77)","v":"-"},{"$f":"INDEX($B$3:$AA$28,$E77,J$51)&\"-\"&INDEX($B$3:$AA$28,J$51,$E77)","v":"-"},{"$f":"INDEX($B$3:$AA$28,$E77,K$51)&\"-\"&INDEX($B$3:$AA$28,K$51,$E77)","v":"-"},{"$f":"INDEX($B$3:$AA$28,$E77,L$51)&\"-\"&INDEX($B$3:$AA$28,L$51,$E77)","v":"-"},{"$f":"INDEX($B$3:$AA$28,$E77,M$51)&\"-\"&INDEX($B$3:$AA$28,M$51,$E77)","v":"-"},{"$f":"INDEX($B$3:$AA$28,$E77,N$51)&\"-\"&INDEX($B$3:$AA$28,N$51,$E77)","v":"-"},{"$f":"INDEX($B$3:$AA$28,$E77,O$51)&\"-\"&INDEX($B$3:$AA$28,O$51,$E77)","v":"-"},{"$f":"INDEX($B$3:$AA$28,$E77,P$51)&\"-\"&INDEX($B$3:$AA$28,P$51,$E77)","v":"-"},{"$f":"INDEX($B$3:$AA$28,$E77,Q$51)&\"-\"&INDEX($B$3:$AA$28,Q$51,$E77)","v":"-"},{"$f":"INDEX($B$3:$AA$28,$E77,R$51)&\"-\"&INDEX($B$3:$AA$28,R$51,$E77)","v":"-"},{"$f":"INDEX($B$3:$AA$28,$E77,S$51)&\"-\"&INDEX($B$3:$AA$28,S$51,$E77)","v":"-"},{"$f":"INDEX($B$3:$AA$28,$E77,T$51)&\"-\"&INDEX($B$3:$AA$28,T$51,$E77)","v":"-"},{"$f":"INDEX($B$3:$AA$28,$E77,U$51)&\"-\"&INDEX($B$3:$AA$28,U$51,$E77)","v":"-"},{"$f":"INDEX($B$3:$AA$28,$E77,V$51)&\"-\"&INDEX($B$3:$AA$28,V$51,$E77)","v":"-"},{"$f":"INDEX($B$3:$AA$28,$E77,W$51)&\"-\"&INDEX($B$3:$AA$28,W$51,$E77)","v":"1-11"},{"$f":"INDEX($B$3:$AA$28,$E77,X$51)&\"-\"&INDEX($B$3:$AA$28,X$51,$E77)","v":"-"},{"$f":"INDEX($B$3:$AA$28,$E77,Y$51)&\"-\"&INDEX($B$3:$AA$28,Y$51,$E77)","v":"0-8"},{"$f":"INDEX($B$3:$AA$28,$E77,Z$51)&\"-\"&INDEX($B$3:$AA$28,Z$51,$E77)","v":"-"},{"$f":"INDEX($B$3:$AA$28,$E77,AA$51)&\"-\"&INDEX($B$3:$AA$28,AA$51,$E77)","v":"1-7"},{"$f":"INDEX($B$3:$AA$28,$E77,AB$51)&\"-\"&INDEX($B$3:$AA$28,AB$51,$E77)","v":"2-3"},{"$f":"INDEX($B$3:$AA$28,$E77,AC$51)&\"-\"&INDEX($B$3:$AA$28,AC$51,$E77)","v":"3-3"},{"$f":"INDEX($B$3:$AA$28,$E77,AD$51)&\"-\"&INDEX($B$3:$AA$28,AD$51,$E77)","v":"5-5"},{"$f":"INDEX($B$3:$AA$28,$E77,AE$51)&\"-\"&INDEX($B$3:$AA$28,AE$51,$E77)","v":"-"},{"$f":"INDEX($B$3:$AA$28,$E77,AF$51)&\"-\"&INDEX($B$3:$AA$28,AF$51,$E77)","v":"7-3"}]
[26,26,26,22,22,"422",{"$f":"INDEX($B$3:$AA$28,$E78,G$51)&\"-\"&INDEX($B$3:$AA$28,G$51,$E78)","v":"-"},{"$f":"INDEX($B$3:$AA$28,$E78,H$51)&\"-\"&INDEX($B$3:$AA$28,H$51,$E78)","v":"-"},{"$f":"INDEX($B$3:$AA$28,$E78,I$51)&\"-\"&INDEX($B$3:$AA$28,I$51,$E78)","v":"-"},{"$f":"INDEX($B$3:$AA$28,$E78,J$51)&\"-\"&INDEX($B$3:$AA$28,J$51,$E78)","v":"-"},{"$f":"INDEX($B$3:$AA$28,$E78,K$51)&\"-\"&INDEX($B$3:$AA$28,K$51,$E78)","v":"-"},{"$f":"INDEX($B$3:$AA$28,$E78,L$51)&\"-\"&INDEX($B$3:$AA$28,L$51,$E78)","v":"-"},{"$f":"INDEX($B$3:$AA$28,$E78,M$51)&\"-\"&INDEX($B$3:$AA$28,M$51,$E78)","v":"-"},{"$f":"INDEX($B$3:$AA$28,$E78,N$51)&\"-\"&INDEX($B$3:$AA$28,N$51,$E78)","v":"-"},{"$f":"INDEX($B$3:$AA$28,$E78,O$51)&\"-\"&INDEX($B$3:$AA$28,O$51,$E78)","v":"-"},{"$f":"INDEX($B$3:$AA$28,$E78,P$51)&\"-\"&INDEX($B$3:$AA$28,P$51,$E78)","v":"-"},{"$f":"INDEX($B$3:$AA$28,$E78,Q$51)&\"-\"&INDEX($B$3:$AA$28,Q$51,$E78)","v":"-"},{"$f":"INDEX($B$3:$AA$28,$E78,R$51)&\"-\"&INDEX($B$3:$AA$28,R$51,$E78)","v":"-"},{"$f":"INDEX($B$3:$AA$28,$E78,S$51)&\"-\"&INDEX($B$3:$AA$28,S$51,$E78)","v":"-"},{"$f":"INDEX($B$3:$AA$28,$E78,T$51)&\"-\"&INDEX($B$3:$AA$28,T$51,$E78)","v":"-"},{"$f":"INDEX($B$3:$AA$28,$E78,U$51)&\"-\"&INDEX($B$3:$AA$28,U$51,$E78)","v":"-"},{"$f":"INDEX($B$3:$AA$28,$E78,V$51)&\"-\"&INDEX($B$3:$AA$28,V$51,$E78)","v":"-"},{"$f":"INDEX($B$3:$AA$28,$E78,W$51)&\"-\"&INDEX($B$3:$AA$28,W$51,$E78)","v":"-"},{"$f":"INDEX($B$3:$AA$28,$E78,X$51)&\"-\"&INDEX($B$3:$AA$28,X$51,$E78)","v":"0-10"},{"$f":"INDEX($B$3:$AA$28,$E78,Y$51)&\"-\"&INDEX($B$3:$AA$28,Y$51,$E78)","v":"0-5"},{"$f":"INDEX($B$3:$AA$28,$E78,Z$51)&\"-\"&INDEX($B$3:$AA$28,Z$51,$E78)","v":"0-10"},{"$f":"INDEX($B$3:$AA$28,$E78,AA$51)&\"-\"&INDEX($B$3:$AA$28,AA$51,$E78)","v":"8-16"},{"$f":"INDEX($B$3:$AA$28,$E78,AB$51)&\"-\"&INDEX($B$3:$AA$28,AB$51,$E78)","v":"0-4"},{"$f":"INDEX($B$3:$AA$28,$E78,AC$51)&\"-\"&INDEX($B$3:$AA$28,AC$51,$E78)","v":"0-2"},{"$f":"INDEX($B$3:$AA$28,$E78,AD$51)&\"-\"&INDEX($B$3:$AA$28,AD$51,$E78)","v":"6-6"},{"$f":"INDEX($B$3:$AA$28,$E78,AE$51)&\"-\"&INDEX($B$3:$AA$28,AE$51,$E78)","v":"3-7"},{"$f":"INDEX($B$3:$AA$28,$E78,AF$51)&\"-\"&INDEX($B$3:$AA$28,AF$51,$E78)","v":"-"}]

{"sheet":"Combined V3","index":5,"n_rows":180,"n_cols":22,"rows_kept":180,"cut":false,"hidden":false,"merged":[[5,0,5,2],[41,0,41,2],[86,0,86,2],[127,0,127,2]]}
["2024 V1 published Sunday, Oct 13"]
["V2 published Sunday, Oct 20"]
["V3-Final published Sunday, Oct 27"]
["RPI Score is average of Lodin & Walkush scaled scores"]
[]
["CSHL14U RPI V3",null,null,null,null,null,null,"30 teams"]
[null,null,null,null,null,null,null,"4 levels (AA, A1, A2, A3)"]
[null,null,null,null,null,null,null,"V2 - (8,8,7,7)"]
[null,null,null,null,null,null,null,"V3 - (9,7,8,6)"]
["Lodin Scaled","Walkush Scaled","RPI","Level","Rank Last Week","Rank",null,"TEAM","W","L","T","AGD","SCHED","Lodin Raw Score","Walkush Raw Score",null,"Team","CSHL Rank","MWYH rank","Walkush Rank","Custom","Ordinal"]
[{"$f":" ((N11 - MIN($N$11:$N$40)) / (MAX(N$11:$N$40) - MIN($N$11:$N$40))) * 20","v":20},{"$f":" ((O11 - MIN($O$11:$O$40)) / (MAX($O$11:$O$40) - MIN($O$11:$O$40))) * 20","v":19.981452980524686},{"$f":"(A11+B11)/2","v":19.990726490262343},"AA",{"$f":"VLOOKUP(H11,'[1]Weekly Rankings'!$A$1:$I$150,5,FALSE)","v":1},1,{"$f":"LEFT(H11,3)","v":"401"},"401 Parma B1",5,1,0,4.66,5.72,10.38,{"$f":"VLOOKUP(H11,'[1]JW V3'!$D$1:$F$152,2,FALSE)","v":10.22389492362332},null,{"$f":"LEFT(H11,3)","v":"401"},{"$f":"F11","v":1},{"$f":"RANK(A11,$A$11:$A$40)","v":1},{"$f":"RANK(B11,$B$11:$B$40)","v":2},null,{"$f":"MOD(Q11,100)","v":1}]
[{"$f":" ((N12 - MIN($N$11:$N$40)) / (MAX(N$11:$N$40) - MIN($N$11:$N$40))) * 20","v":19.598393574297191},20,19.799196787148595,"AA",{"$f":"VLOOKUP(H12,'[1]Weekly Rankings'!$A$1:$I$150,5,FALSE)","v":3},2,"402","402 Winterhurst B1",8,1,0,4.55,5.38,9.93,{"$f":"VLOOKUP(H12,'[1]JW V3'!$D$1:$F$152,2,FALSE)","v":10.232453693160426},null,{"$f":"LEFT(H12,3)","v":"402"},{"$f":"F12","v":2},{"$f":"RANK(A12,$A$11:$A$40)","v":2},{"$f":"RANK(B12,$B$11:$B$40)","v":1},null,{"$f":"MOD(Q12,100)","v":2}]
[{"$f":" ((N13 - MIN($N$11:$N$40)) / (MAX(N$11:$N$40) - MIN($N$11:$N$40))) * 20","v":18.830879071842929},19.529619377521826,19.180249224682377,"AA",{"$f":"VLOOKUP(H13,'[1]Weekly Rankings'!$A$1:$I$150,5,FALSE)","v":2},3,"406","406 Shaker B1",6,2,0,3.5,5.57,9.07,{"$f":"VLOOKUP(H13,'[1]JW V3'!$D$1:$F$152,2,FALSE)","v":10.015390280471951},null,"406",3,3,3,null,6]
[{"$f":" ((N14 - MIN($N$11:$N$40)) / (MAX(N$11:$N$40) - MIN($N$11:$N$40))) * 20","v":15.876840696117805},17.780573691281077,16.82870719369944,"AA",{"$f":"VLOOKUP(H14,'[1]Weekly Rankings'!$A$1:$I$150,5,FALSE)","v":4},4,"409","409 No Olmsted B Orange",4,2,1,0.42,5.34,5.76,{"$f":"VLOOKUP(H14,'[1]JW V3'!$D$1:$F$152,2,FALSE)","v":9.2082698178914839},null,"409",4,4,4,null,9]
[{"$f":" ((N15 - MIN($N$11:$N$40)) / (MAX(N$11:$N$40) - MIN($N$11:$N$40))) * 20","v":15.707273538598841},17.261033733677223,16.484153636138032,"AA",{"$f":"VLOOKUP(H15,'[1]Weekly Rankings'!$A$1:$I$150,5,FALSE)","v":5},5,"411","411 Elyria B1",3,3,1,-1,6.57,5.57,{"$f":"VLOOKUP(H15,'[1]JW V3'!$D$1:$F$152,2,FALSE)","v":8.9685211742688384},null,"411",5,5,6,null,11]
[{"$f":" ((N16 - MIN($N$11:$N$40)) / (MAX(N$11:$N$40) - MIN($N$11:$N$40))) * 20","v":14.97545738509594},17.555404879679703,16.265431132387821,"AA",{"$f":"VLOOKUP(H16,'[1]Weekly Rankings'!$A$1:$I$150,5,FALSE)","v":8},6,"404","404 Canton-Akron B1",3,2,2,-0.71,5.46,4.75,{"$f":"VLOOKUP(H16,'[1]JW V3'!$D$1:$F$152,2,FALSE)","v":9.1043626662326798},null,"404",6,6,5,null,4]
[{"$f":" ((N17 - MIN($N$11:$N$40)) / (MAX(N$11:$N$40) - MIN($N$11:$N$40))) * 20","v":14.136546184738956},16.998875713966463,15.567710949352708,"AA",{"$f":"VLOOKUP(H17,'[1]Weekly Rankings'!$A$1:$I$150,5,FALSE)","v":6},7,"407","407 Tri-County B1",2,6,0,-2.62,6.43,3.81,{"$f":"VLOOKUP(H17,'[1]JW V3'!$D$1:$F$152,2,FALSE)","v":8.8475448591258594},null,"407",7,9,7,null,7]
[{"$f":" ((N18 - MIN($N$11:$N$40)) / (MAX(N$11:$N$40) - MIN($N$11:$N$40))) * 20","v":14.3239625167336},16.518494073123765,15.421228294928682,"AA",{"$f":"VLOOKUP(H18,'[1]Weekly Rankings'!$A$1:$I$150,5,FALSE)","v":7},8,"405","405 Rocky River B1",2,5,0,-1.28,5.3,4.0199999999999996,{"$f":"VLOOKUP(H18,'[1]JW V3'!$D$1:$F$152,2,FALSE)","v":8.6258663431086671},null,"405",8,7,8,null,5]
[{"$f":" ((N19 - MIN($N$11:$N$40)) / (MAX(N$11:$N$40) - MIN($N$11:$N$40))) * 20","v":14.225792057117356},15.630641287707046,14.928216672412201,"AA",{"$f":"VLOOKUP(H19,'[1]Weekly Rankings'!$A$1:$I$150,5,FALSE)","v":9},9,"414","414 Geauga B1",8,3,1,2.5,1.41,3.91,{"$f":"VLOOKUP(H19,'[1]JW V3'!$D$1:$F$152,2,FALSE)","v":8.2161548321365849},null,"414",9,8,9,null,14]
[{"$f":" ((N20 - MIN($N$11:$N$40)) / (MAX(N$11:$N$40) - MIN($N$11:$N$40))) * 20","v":13.565372601517179},14.941940034548422,14.2536563180328,"A1",{"$f":"VLOOKUP(H20,'[1]Weekly Rankings'!$A$1:$I$150,5,FALSE)","v":10},10,"412","412 Cleveland B1",6,2,0,1.25,1.92,3.17,{"$f":"VLOOKUP(H20,'[1]JW V3'!$D$1:$F$152,2,FALSE)","v":7.8983444522237161},null,"412",10,10,11,null,12]
[{"$f":" ((N21 - MIN($N$11:$N$40)) / (MAX(N$11:$N$40) - MIN($N$11:$N$40))) * 20","v":12.88710397144132},15.011469821147989,13.949286896294655,"A1",{"$f":"VLOOKUP(H21,'[1]Weekly Rankings'!$A$1:$I$150,5,FALSE)","v":12},11,"410","410 Lake Erie B1",3,2,1,-0.66,3.07,2.41,{"$f":"VLOOKUP(H21,'[1]JW V3'!$D$1:$F$152,2,FALSE)","v":7.9304298997136451},null,"410",11,11,10,null,10]
[{"$f":" ((N22 - MIN($N$11:$N$40)) / (MAX(N$11:$N$40) - MIN($N$11:$N$40))) * 20","v":12.8157072735386},14.385543093724822,13.60062518363171,"A1",{"$f":"VLOOKUP(H22,'[1]Weekly Rankings'!$A$1:$I$150,5,FALSE)","v":11},12,"415","415 Wooster B1",7,4,0,1.18,1.1499999999999999,2.33,{"$f":"VLOOKUP(H22,'[1]JW V3'!$D$1:$F$152,2,FALSE)","v":7.6415876620559793},null,"415",12,12,13,null,15]
[{"$f":" ((N23 - MIN($N$11:$N$40)) / (MAX(N$11:$N$40) - MIN($N$11:$N$40))) * 20","v":12.49442213297635},14.551317903402911,13.52287001818963,"A1",{"$f":"VLOOKUP(H23,'[1]Weekly Rankings'!$A$1:$I$150,5,FALSE)","v":13},13,"403","403 Gilmour B1",1,8,2,-2.81,4.78,1.97,{"$f":"VLOOKUP(H23,'[1]JW V3'!$D$1:$F$152,2,FALSE)","v":7.7180866592657935},null,"403",13,13,12,null,3]
[{"$f":" ((N24 - MIN($N$11:$N$40)) / (MAX(N$11:$N$40) - MIN($N$11:$N$40))) * 20","v":12.012494422132976},13.36329734169974,12.687895881916358,"A1",{"$f":"VLOOKUP(H24,'[1]Weekly Rankings'!$A$1:$I$150,5,FALSE)","v":14},14,"416","416 Shaker B2",6,3,0,2.44,-1.01,1.43,{"$f":"VLOOKUP(H24,'[1]JW V3'!$D$1:$F$152,2,FALSE)","v":7.1698587239636025},null,"416",14,14,14,null,16]
[{"$f":" ((N25 - MIN($N$11:$N$40)) / (MAX(N$11:$N$40) - MIN($N$11:$N$40))) * 20","v":10.76305220883534},12.562857204356234,11.662954706595787,"A1",{"$f":"VLOOKUP(H25,'[1]Weekly Rankings'!$A$1:$I$150,5,FALSE)","v":15},15,"418","418 Mentor B1",4,2,1,2,-1.97,0.03,{"$f":"VLOOKUP(H25,'[1]JW V3'!$D$1:$F$152,2,FALSE)","v":6.8004849454494272},null,"418",15,15,15,null,18]
[{"$f":" ((N26 - MIN($N$11:$N$40)) / (MAX(N$11:$N$40) - MIN($N$11:$N$40))) * 20","v":10.673806336456938},12.374042265461249,11.523924300959093,"A1",{"$f":"VLOOKUP(H26,'[1]Weekly Rankings'!$A$1:$I$150,5,FALSE)","v":16},16,"423","423 Parma B2",5,2,1,2.87,-2.94,-7.0000000000000007E-2,{"$f":"VLOOKUP(H26,'[1]JW V3'!$D$1:$F$152,2,FALSE)","v":6.7133537732782926},null,"423",16,16,16,null,23]
[{"$f":" ((N27 - MIN($N$11:$N$40)) / (MAX(N$11:$N$40) - MIN($N$11:$N$40))) * 20","v":9.6385542168674689},12.083636083729575,10.861095150298521,"A2",{"$f":"VLOOKUP(H27,'[1]Weekly Rankings'!$A$1:$I$150,5,FALSE)","v":17},17,"417","417 Fremont B1",2,5,1,-0.87,-0.36,-1.23,{"$f":"VLOOKUP(H27,'[1]JW V3'!$D$1:$F$152,2,FALSE)","v":6.5793419669661999},null,"417",17,17,17,null,17]
[{"$f":" ((N28 - MIN($N$11:$N$40)) / (MAX(N$11:$N$40) - MIN($N$11:$N$40))) * 20","v":9.1477019187862556},11.588977856999424,10.368339887892841,"A2",{"$f":"VLOOKUP(H28,'[1]Weekly Rankings'!$A$1:$I$150,5,FALSE)","v":19},18,"422","422 Rocky River B2",7,2,1,2.2000000000000002,-3.98,-1.78,{"$f":"VLOOKUP(H28,'[1]JW V3'!$D$1:$F$152,2,FALSE)","v":6.3510753299546856},null,"422",18,19,18,null,22]
[{"$f":" ((N29 - MIN($N$11:$N$40)) / (MAX(N$11:$N$40) - MIN($N$11:$N$40))) * 20","v":9.1834002677376159},11.417687355780494,10.300543811759056,"A2",{"$f":"VLOOKUP(H29,'[1]Weekly Rankings'!$A$1:$I$150,5,FALSE)","v":18},19,"424","424 Eastside B1",7,2,1,3,-4.74,-1.74,{"$f":"VLOOKUP(H29,'[1]JW V3'!$D$1:$F$152,2,FALSE)","v":6.2720310433090853},null,"424",19,18,19,null,{"$f":"MOD(Q29,100)","v":24}]
[{"$f":" ((N30 - MIN($N$11:$N$40)) / (MAX(N$11:$N$40) - MIN($N$11:$N$40))) * 20","v":8.8531905399375272},11.327029400171867,10.090109970054698,"A2",{"$f":"VLOOKUP(H30,'[1]Weekly Rankings'!$A$1:$I$150,5,FALSE)","v":20},20,"413","413 Elyria B2",1,8,2,-2.09,-0.02,-2.11,{"$f":"VLOOKUP(H30,'[1]JW V3'!$D$1:$F$152,2,FALSE)","v":6.2301957203995366},null,"413",20,20,20,null,13]
[{"$f":" ((N31 - MIN($N$11:$N$40)) / (MAX(N$11:$N$40) - MIN($N$11:$N$40))) * 20","v":7.719767960731815},10.346923570030018,9.0333457653809166,"A2",{"$f":"VLOOKUP(H31,'[1]Weekly Rankings'!$A$1:$I$150,5,FALSE)","v":21},21,"408","408 Strongsville B1",1,5,2,-3.37,-0.01,-3.38,{"$f":"VLOOKUP(H31,'[1]JW V3'!$D$1:$F$152,2,FALSE)","v":5.7779128113680711},null,"408",21,21,21,null,8]
[{"$f":" ((N32 - MIN($N$11:$N$40)) / (MAX(N$11:$N$40) - MIN($N$11:$N$40))) * 20","v":7.309236947791165},8.7387779307734821,8.0240074392823235,"A2",{"$f":"VLOOKUP(H32,'[1]Weekly Rankings'!$A$1:$I$150,5,FALSE)","v":22},22,"419","419 No Olmsted B Black",2,4,2,-1.37,-2.4700000000000002,-3.84,{"$f":"VLOOKUP(H32,'[1]JW V3'!$D$1:$F$152,2,FALSE)","v":5.0358125549458173},null,"419",22,22,22,null,19]
[{"$f":" ((N33 - MIN($N$11:$N$40)) / (MAX(N$11:$N$40) - MIN($N$11:$N$40))) * 20","v":6.5149486836233814},8.1840660607003244,7.3495073721618525,"A2",{"$f":"VLOOKUP(H33,'[1]Weekly Rankings'!$A$1:$I$150,5,FALSE)","v":23},23,"420","420 Winterhurst B2",2,6,0,-2.37,-2.36,-4.7300000000000004,{"$f":"VLOOKUP(H33,'[1]JW V3'!$D$1:$F$152,2,FALSE)","v":4.7798333631531698},null,"420",23,23,23,null,20]
[{"$f":" ((N34 - MIN($N$11:$N$40)) / (MAX(N$11:$N$40) - MIN($N$11:$N$40))) * 20","v":6.1311914323962515},6.4807288643982961,6.3059601483972738,"A2",{"$f":"VLOOKUP(H34,'[1]Weekly Rankings'!$A$1:$I$150,5,FALSE)","v":25},24,"429","429 Rocky River B3",6,1,0,2.85,-8.01,-5.16,{"$f":"VLOOKUP(H34,'[1]JW V3'!$D$1:$F$152,2,FALSE)","v":3.9938056929642425},null,"429",24,24,24,null,29]
[{"$f":" ((N35 - MIN($N$11:$N$40)) / (MAX(N$11:$N$40) - MIN($N$11:$N$40))) * 20","v":4.2213297634984377},6.3588005869223005,5.2900651752103691,"A3",{"$f":"VLOOKUP(H35,'[1]Weekly Rankings'!$A$1:$I$150,5,FALSE)","v":27},25,"421","421 Strongsville B2",2,3,0,-0.6,-6.7,-7.3,{"$f":"VLOOKUP(H35,'[1]JW V3'!$D$1:$F$152,2,FALSE)","v":3.9375402629115941},null,"421",25,27,25,null,21]
[{"$f":" ((N36 - MIN($N$11:$N$40)) / (MAX(N$11:$N$40) - MIN($N$11:$N$40))) * 20","v":4.8995983935742968},5.5701580766119463,5.234878235093122,"A3",{"$f":"VLOOKUP(H36,'[1]Weekly Rankings'!$A$1:$I$150,5,FALSE)","v":26},26,"428","428 Tri-County B2",3,2,0,0.2,-6.74,-6.54,{"$f":"VLOOKUP(H36,'[1]JW V3'!$D$1:$F$152,2,FALSE)","v":3.5736106567613866},null,"428",26,26,26,null,28]
[{"$f":" ((N37 - MIN($N$11:$N$40)) / (MAX(N$11:$N$40) - MIN($N$11:$N$40))) * 20","v":5.8813029897367244},3.5804513014237482,4.7308771455802363,"A3",{"$f":"VLOOKUP(H37,'[1]Weekly Rankings'!$A$1:$I$150,5,FALSE)","v":24},27,"426","426 Geauga B2",2,3,1,-0.66,-4.78,-5.44,{"$f":"VLOOKUP(H37,'[1]JW V3'!$D$1:$F$152,2,FALSE)","v":2.655433924488003},null,"426",27,25,27,null,26]
[{"$f":" ((N38 - MIN($N$11:$N$40)) / (MAX(N$11:$N$40) - MIN($N$11:$N$40))) * 20","v":3.5519857206604182},1.779884890019416,2.6659353053399171,"A3",{"$f":"VLOOKUP(H38,'[1]Weekly Rankings'!$A$1:$I$150,5,FALSE)","v":28},28,null,"425 Gilmour B2",1,8,0,-4.4400000000000004,-3.61,-8.0500000000000007,{"$f":"VLOOKUP(H38,'[1]JW V3'!$D$1:$F$152,2,FALSE)","v":1.8245385360415973},null,"425",28,28,29,null,25]
[{"$f":" ((N39 - MIN($N$11:$N$40)) / (MAX(N$11:$N$40) - MIN($N$11:$N$40))) * 20","v":2.5792057117358311},2.5175118697277248,2.5483587907317782,"A3",{"$f":"VLOOKUP(H39,'[1]Weekly Rankings'!$A$1:$I$150,5,FALSE)","v":29},29,{"$f":"LEFT(H39,3)","v":"427"},"427 Shaker B3",1,5,0,-3.33,-5.81,-9.14,{"$f":"VLOOKUP(H39,'[1]JW V3'!$D$1:$F$152,2,FALSE)","v":2.1649263450951199},null,"427",29,29,28,null,27]
[{"$f":" ((N40 - MIN($N$11:$N$40)) / (MAX(N$11:$N$40) - MIN($N$11:$N$40))) * 20","v":0},0,0,"A3",{"$f":"VLOOKUP(H40,'[1]Weekly Rankings'!$A$1:$I$150,5,FALSE)","v":30},30,{"$f":"LEFT(H40,3)","v":"430"},"430 Elyria B3",0,8,0,-6.75,-5.28,-12.03,{"$f":"VLOOKUP(H40,'[1]JW V3'!$D$1:$F$152,2,FALSE)","v":1.003186911510781},null,"430",30,30,30,null,30]
[]
["CSHL12U RPI V3"]
[null,null,null,null,null,null,null,"35 teams"]
[null,null,null,null,null,null,null,"5 levels (AA, A1, A2, A3, B)"]
[null,null,null,null,null,null,null,"V2 - 5,9,9,7,6"]
[null,null,null,null,null,null,null,"V3 - 8,8,5,8,6"]
[null,null,null,null,null,null,null,"Note: Team 301 has withdrawn"]
[null,null,null,null,null,null,null,"Levels will be assigned in V2"]
["Lodin Scaled","Walkush Scaled","RPI","Level","Rank Last Week","Rank",null,"TEAM","W","L","T","AGD","SCHED","Lodin Raw Score","Walkush Raw Score",null,"Team","CSHL Rank","MWYH rank","Walkush Rank","Custom","Ordinal"]
[{"$f":" ((N50 - MIN($N$50:$N$85)) / (MAX($N$50:$N$85) - MIN($N$50:$N$85))) * 20","v":20},{"$f":" ((O50 - MIN($O$50:$O$85)) / (MAX($O$50:$O$85) - MIN($O$50:$O$85))) * 20","v":20},{"$f":"(A50+B50)/2","v":20},"AA",{"$f":"VLOOKUP(H50,'[1]Weekly Rankings'!$A$1:$I$150,5,FALSE)","v":1},1,{"$f":"LEFT(H50,3)","v":"301"},"301 Parma P1",5,0,0,6.6,7.17,13.77,{"$f":"VLOOKUP(H50,'[1]JW V3'!$D$1:$F$152,2,FALSE)","v":4.3732980692585919},null,{"$f":"LEFT(H50,3)","v":"301"},{"$f":"F50-1","v":0},{"$f":"RANK(A50,$A$50:$A$85)-1","v":0},{"$f":"RANK(B50,$B$50:$B$85)-1","v":0},null,{"$f":"MOD(Q50,100)-1","v":0}]
[17.38206544836379,19.10282967972109,18.24244756404244,"AA",{"$f":"VLOOKUP(H51,'[1]Weekly Rankings'!$A$1:$I$150,5,FALSE)","v":2},2,"303","303 Mentor P1",7,1,0,4.12,6.57,10.69,{"$f":"VLOOKUP(H51,'[1]JW V3'!$D$1:$F$152,2,FALSE)","v":4.2219769237989437},null,{"$f":"LEFT(H51,3)","v":"303"},{"$f":"F51-1","v":1},{"$f":"RANK(A51,$A$50:$A$85)-1","v":1},{"$f":"RANK(B51,$B$50:$B$85)-1","v":1},null,{"$f":"MOD(Q51,100)-1","v":2}]
[14.721631959201019,18.261255388278222,16.491443673739621,"AA",{"$f":"VLOOKUP(H52,'[1]Weekly Rankings'!$A$1:$I$150,5,FALSE)","v":3},3,"304","304 No Olmsted P Orange",6,2,3,1.36,6.2,7.56,{"$f":"VLOOKUP(H52,'[1]JW V3'!$D$1:$F$152,2,FALSE)","v":4.0800328771758494},null,"304",2,2,2,null,3]
[14.373140671483213,18.095648578363289,16.234394624923251,"AA",{"$f":"VLOOKUP(H53,'[1]Weekly Rankings'!$A$1:$I$150,5,FALSE)","v":5},4,"305","305 Shaker P1",3,5,1,0.11,7.04,7.15,{"$f":"VLOOKUP(H53,'[1]JW V3'!$D$1:$F$152,2,FALSE)","v":4.052100820568743},null,"305",3,3,3,null,4]
[13.863153421164469,17.896878941229357,15.880016181196913,"AA",{"$f":"VLOOKUP(H54,'[1]Weekly Rankings'!$A$1:$I$150,5,FALSE)","v":4},5,"308","308 Parma PG",6,2,2,1.6,4.95,6.55,{"$f":"VLOOKUP(H54,'[1]JW V3'!$D$1:$F$152,2,FALSE)","v":4.0185753589101871},null,"308",4,4,5,null,7]
[13.795155121121972,17.922479213765943,15.858817167443958,"AA",{"$f":"VLOOKUP(H55,'[1]Weekly Rankings'!$A$1:$I$150,5,FALSE)","v":8},6,"302","302 Rocky River P1",5,3,1,-0.44,6.91,6.47,{"$f":"VLOOKUP(H55,'[1]JW V3'!$D$1:$F$152,2,FALSE)","v":4.022893226406195},null,"302",5,5,4,null,1]
[13.36166595835104,17.693364814283296,15.527515386317168,"AA",{"$f":"VLOOKUP(H56,'[1]Weekly Rankings'!$A$1:$I$150,5,FALSE)","v":7},7,"311","311 Elyria P1",6,3,1,2.1,3.86,5.96,{"$f":"VLOOKUP(H56,'[1]JW V3'!$D$1:$F$152,2,FALSE)","v":3.9842496683354871},null,"311",6,6,6,null,10]
[13.081172970675734,17.620307113227391,15.350740041951562,"AA",{"$f":"VLOOKUP(H57,'[1]Weekly Rankings'!$A$1:$I$150,5,FALSE)","v":9},8,"306","306 Winterhurst P1",7,3,2,0.57999999999999996,5.05,5.63,{"$f":"VLOOKUP(H57,'[1]JW V3'!$D$1:$F$152,2,FALSE)","v":3.9719273982396697},null,"306",7,7,7,null,5]
[12.605184870378242,17.468835186973909,15.037010028676075,"AA",{"$f":"VLOOKUP(H58,'[1]Weekly Rankings'!$A$1:$I$150,5,FALSE)","v":6},9,"314","314 Tri-County P1",6,5,0,0.27,4.8,5.07,{"$f":"VLOOKUP(H58,'[1]JW V3'!$D$1:$F$152,2,FALSE)","v":3.9463794004207822},null,"314",8,8,8,null,13]
[11.695707607309815,16.910421087556802,14.30306434743331,"A1",{"$f":"VLOOKUP(H59,'[1]Weekly Rankings'!$A$1:$I$150,5,FALSE)","v":12},10,"307","307 Strongsville P1",2,5,2,-2.44,6.44,4,{"$f":"VLOOKUP(H59,'[1]JW V3'!$D$1:$F$152,2,FALSE)","v":3.8521945402502569},null,"307",9,9,11,null,6]
[11.551211219719505,17.015810905265138,14.283511062492321,"A1",{"$f":"VLOOKUP(H60,'[1]Weekly Rankings'!$A$1:$I$150,5,FALSE)","v":16},11,"309","309 Parma P2",3,4,2,0.33,3.5,3.83,{"$f":"VLOOKUP(H60,'[1]JW V3'!$D$1:$F$152,2,FALSE)","v":3.8699701036800089},null,"309",10,10,9,null,8]
[11.406714832129197,16.977003003768239,14.191858917948718,"A1",{"$f":"VLOOKUP(H61,'[1]Weekly Rankings'!$A$1:$I$150,5,FALSE)","v":15},12,"312","312 Geauga P1",4,5,0,-0.66,4.32,3.66,{"$f":"VLOOKUP(H61,'[1]JW V3'!$D$1:$F$152,2,FALSE)","v":3.8634245727204362},null,"312",11,11,10,null,11]
[10.641733956651082,16.643387773551272,13.642560865101178,"A1",{"$f":"VLOOKUP(H62,'[1]Weekly Rankings'!$A$1:$I$150,5,FALSE)","v":11},13,"315","315 Lake Erie P1",1,5,0,-0.33,3.09,2.76,{"$f":"VLOOKUP(H62,'[1]JW V3'!$D$1:$F$152,2,FALSE)","v":3.8071553921221279},null,"315",12,12,12,null,14]
[10.480237994050148,16.553367315828776,13.516802654939461,"A1",{"$f":"VLOOKUP(H63,'[1]Weekly Rankings'!$A$1:$I$150,5,FALSE)","v":13},14,"310","310 Canton-Akron P1",3,6,1,-1.1000000000000001,3.67,2.57,{"$f":"VLOOKUP(H63,'[1]JW V3'!$D$1:$F$152,2,FALSE)","v":3.7919721003106748},null,"310",13,13,13,null,9]
[9.8852528686782808,16.343636520836693,13.114444694757488,"A1",{"$f":"VLOOKUP(H64,'[1]Weekly Rankings'!$A$1:$I$150,5,FALSE)","v":10},15,"316","316 Mentor P2",5,3,1,0.55000000000000004,1.32,1.87,{"$f":"VLOOKUP(H64,'[1]JW V3'!$D$1:$F$152,2,FALSE)","v":3.7565978760201313},null,"316",14,14,14,null,15]
[9.8257543561410969,16.333978881672451,13.079866618906774,"A1",{"$f":"VLOOKUP(H65,'[1]Weekly Rankings'!$A$1:$I$150,5,FALSE)","v":19},16,"318","318 Wooster P1",3,3,2,1.37,0.43,1.8,{"$f":"VLOOKUP(H65,'[1]JW V3'!$D$1:$F$152,2,FALSE)","v":3.7549689712428145},null,"318",15,15,15,null,17]
[9.800254993625158,16.242096764574999,13.021175879100078,"A1",{"$f":"VLOOKUP(H66,'[1]Weekly Rankings'!$A$1:$I$150,5,FALSE)","v":18},17,"317","317 Shaker P2",5,2,1,2,-0.23,1.77,{"$f":"VLOOKUP(H66,'[1]JW V3'!$D$1:$F$152,2,FALSE)","v":3.7394716828326033},null,"317",16,16,16,null,16]
[9.1967700807479815,15.965910658418778,12.58134036958338,"A2",{"$f":"VLOOKUP(H67,'[1]Weekly Rankings'!$A$1:$I$150,5,FALSE)","v":14},18,"325","325 Eastside P1",5,1,1,3.71,-2.65,1.06,{"$f":"VLOOKUP(H67,'[1]JW V3'!$D$1:$F$152,2,FALSE)","v":3.6928887798999619},null,"325",17,17,17,null,24]
[8.6357841053973647,15.624904411905254,12.130344258651309,"A2",{"$f":"VLOOKUP(H68,'[1]Weekly Rankings'!$A$1:$I$150,5,FALSE)","v":20},19,"313","313 Gilmour P1",1,10,0,-4.2699999999999996,4.67,0.4,{"$f":"VLOOKUP(H68,'[1]JW V3'!$D$1:$F$152,2,FALSE)","v":3.6353729942515023},null,"313",18,18,18,null,12]
[8.2957926051848698,15.431786234147109,11.86378941966599,"A2",{"$f":"VLOOKUP(H69,'[1]Weekly Rankings'!$A$1:$I$150,5,FALSE)","v":21},20,"322","322 Fremont P1",5,1,0,3.33,-3.33,0,{"$f":"VLOOKUP(H69,'[1]JW V3'!$D$1:$F$152,2,FALSE)","v":3.6028007354429881},null,"322",19,19,19,null,21]
[7.6753081172970674,15.029781329497192,11.352544723397131,"A2",{"$f":"VLOOKUP(H70,'[1]Weekly Rankings'!$A$1:$I$150,5,FALSE)","v":17},21,"321","321 Rocky River P2",3,3,1,0.42,-1.1499999999999999,-0.73,{"$f":"VLOOKUP(H70,'[1]JW V3'!$D$1:$F$152,2,FALSE)","v":3.5349966170085856},null,"321",20,20,21,null,20]
[6.8338291542711431,15.072682103438469,10.953255628854805,"A2",{"$f":"VLOOKUP(H71,'[1]Weekly Rankings'!$A$1:$I$150,5,FALSE)","v":22},22,"326","326 Elyria P2",8,1,0,4.1100000000000003,-5.83,-1.72,{"$f":"VLOOKUP(H71,'[1]JW V3'!$D$1:$F$152,2,FALSE)","v":3.5422324719038758},null,"326",21,21,20,null,25]
[5.6863578410539724,13.625320057204483,9.6558389491292278,"A3",{"$f":"VLOOKUP(H72,'[1]Weekly Rankings'!$A$1:$I$150,5,FALSE)","v":23},23,"328","328 Tri-County P2",5,3,3,1.54,-4.6100000000000003,-3.07,{"$f":"VLOOKUP(H72,'[1]JW V3'!$D$1:$F$152,2,FALSE)","v":3.2981132920999126},null,"328",22,22,22,null,27]
[4.9978750531236713,13.063941626656899,9.030908339890285,"A3",{"$f":"VLOOKUP(H73,'[1]Weekly Rankings'!$A$1:$I$150,5,FALSE)","v":34},24,"319","319 Winterhurst P2",3,6,0,-3.33,-0.55000000000000004,-3.88,{"$f":"VLOOKUP(H73,'[1]JW V3'!$D$1:$F$152,2,FALSE)","v":3.2034284533054334},null,"319",23,23,24,null,18]
[4.7683807904802373,13.155939274024997,8.9621600322526174,"A3",{"$f":"VLOOKUP(H74,'[1]Weekly Rankings'!$A$1:$I$150,5,FALSE)","v":25},25,"323","323 Parma P3",2,6,0,-2,-2.15,-4.1500000000000004,{"$f":"VLOOKUP(H74,'[1]JW V3'!$D$1:$F$152,2,FALSE)","v":3.2189452276175903},null,"323",24,24,23,null,22]
[4.1818954526136842,12.677240510538786,8.4295679815762341,"A3",{"$f":"VLOOKUP(H75,'[1]Weekly Rankings'!$A$1:$I$150,5,FALSE)","v":24},26,"324","324 Cleveland P1",2,4,0,-2.33,-2.5099999999999998,-4.84,{"$f":"VLOOKUP(H75,'[1]JW V3'!$D$1:$F$152,2,FALSE)","v":3.1382055468863643},null,"324",25,26,25,null,23]
[4.3008924776880573,12.409308996911303,8.3551007372996793,"A3",{"$f":"VLOOKUP(H76,'[1]Weekly Rankings'!$A$1:$I$150,5,FALSE)","v":26},27,"320","320 Strongsville P2",4,5,1,-0.7,-4,-4.7,{"$f":"VLOOKUP(H76,'[1]JW V3'!$D$1:$F$152,2,FALSE)","v":3.0930149040057087},null,"320",26,25,26,null,19]
[3.5699107522311939,11.53101258949496,7.5504616708630774,"A3",{"$f":"VLOOKUP(H77,'[1]Weekly Rankings'!$A$1:$I$150,5,FALSE)","v":29},28,"333","333 Rocky River P3",5,0,2,2.42,-7.98,-5.56,{"$f":"VLOOKUP(H77,'[1]JW V3'!$D$1:$F$152,2,FALSE)","v":2.9448771252369932},null,"333",27,27,27,null,32]
[3.408414789630259,11.160794981307218,7.2846048854687382,"A3",{"$f":"VLOOKUP(H78,'[1]Weekly Rankings'!$A$1:$I$150,5,FALSE)","v":27},29,"332","332 Canton-Akron P2",5,3,1,0.55000000000000004,-6.3,-5.75,{"$f":"VLOOKUP(H78,'[1]JW V3'!$D$1:$F$152,2,FALSE)","v":2.882434408091731},null,"332",28,28,28,null,31]
[3.2979175520611981,10.875129643061854,7.0865235975615262,"A3",{"$f":"VLOOKUP(H79,'[1]Weekly Rankings'!$A$1:$I$150,5,FALSE)","v":30},30,"335","335 Geauga P2",3,1,5,1,-6.88,-5.88,{"$f":"VLOOKUP(H79,'[1]JW V3'!$D$1:$F$152,2,FALSE)","v":2.8342526913938717},null,"335",29,29,30,null,34]
[2.8984275393115171,11.067116162047441,6.9827718506794785,"B",{"$f":"VLOOKUP(H80,'[1]Weekly Rankings'!$A$1:$I$150,5,FALSE)","v":28},31,"330","330 Mentor P3",4,4,0,0.5,-6.85,-6.35,{"$f":"VLOOKUP(H80,'[1]JW V3'!$D$1:$F$152,2,FALSE)","v":2.8666340790847595},null,"330",30,30,29,null,29]
[2.8559286017849548,10.495931271549194,6.6759299366670746,"B",{"$f":"VLOOKUP(H81,'[1]Weekly Rankings'!$A$1:$I$150,5,FALSE)","v":31},32,"334","334 Shaker P3",4,3,1,0,-6.4,-6.4,{"$f":"VLOOKUP(H81,'[1]JW V3'!$D$1:$F$152,2,FALSE)","v":2.7702952346693888},null,"334",31,31,31,null,33]
[2.6349341266468334,10.449892748015916,6.5424134373313745,"B",{"$f":"VLOOKUP(H82,'[1]Weekly Rankings'!$A$1:$I$150,5,FALSE)","v":33},33,"327","327 No Olmsted P Black",2,10,2,-2.92,-3.74,-6.66,{"$f":"VLOOKUP(H82,'[1]JW V3'!$D$1:$F$152,2,FALSE)","v":2.7625301515420726},null,"327",32,32,32,null,26]
[0.73948151296217524,7.5163466014121658,4.1279140571871702,"B",{"$f":"VLOOKUP(H83,'[1]Weekly Rankings'!$A$1:$I$150,5,FALSE)","v":32},34,"336","336 Eastside P2",1,6,1,-2.5,-6.39,-8.89,{"$f":"VLOOKUP(H83,'[1]JW V3'!$D$1:$F$152,2,FALSE)","v":2.267743873921102},null,"336",33,33,33,null,35]
[0.19549511262218477,4.4196872608577573,2.307591186739971,"B",{"$f":"VLOOKUP(H84,'[1]Weekly Rankings'!$A$1:$I$150,5,FALSE)","v":35},35,"331","331 Gilmour P2",2,7,0,-3.44,-6.09,-9.5299999999999994,{"$f":"VLOOKUP(H84,'[1]JW V3'!$D$1:$F$152,2,FALSE)","v":1.7454461251889133},null,"331",34,34,34,null,30]
[0,0,0,"B",{"$f":"VLOOKUP(H85,'[1]Weekly Rankings'!$A$1:$I$150,5,FALSE)","v":36},36,"329","329 Winterhurst P3",1,11,1,-3.92,-5.84,-9.76,{"$f":"VLOOKUP(H85,'[1]JW V3'!$D$1:$F$152,2,FALSE)","v":1},null,"329",35,35,35,null,28]
[]
["CSHL10U RPI V3",null,null,null,null,null,null,"35 teams"]
[null,null,null,null,null,null,null,"5 levels (AA, A1, A2, A3, B)"]
[null,null,null,null,null,null,null,"V2 - 8,7,8,6,6"]
[null,null,null,null,null,null,null,"V3 - 9,6,8,6,6"]
["Lodin Scaled","Walkush Scaled","RPI","Level","Rank Last Week","Rank",null,"TEAM","W","L","T","AGD","SCHED","Lodin Raw Score","Walkush Raw Score",null,"Team","CSHL Rank","MWYH rank","Walkush Rank","Custom","Ordinal"]
[{"$f":" ((N92 - MIN($N$92:$N$126)) / (MAX($N$92:$N$126) - MIN($N$92:$N$126))) * 20","v":20},{"$f":" ((O92 - MIN($O$92:$O$126)) / (MAX($O$92:$O$126) - MIN($O$92:$O$126))) * 20","v":20},{"$f":"(A92+B92)/2","v":20},"AA",{"$f":"VLOOKUP(H92,'[1]Weekly Rankings'!$A$1:$I$150,5,FALSE)","v":1},1,{"$f":"LEFT(H92,3)","v":"204"},"204 Rocky River S1",8,1,1,3.8,7.32,11.12,{"$f":"VLOOKUP(H92,'[1]JW V3'!$D$1:$F$152,2,FALSE)","v":4.2910580914066543},null,{"$f":"LEFT(H92,3)","v":"204"},{"$f":"F92","v":1},{"$f":"RANK(A92,$A$92:$A$128)","v":1},{"$f":"RANK(B92,$B$92:$B$128)","v":1},null,{"$f":"MOD(Q92,100)","v":4}]
[19.569399908382962,19.443912677880206,19.506656293131584,"AA",{"$f":"VLOOKUP(H93,'[1]Weekly Rankings'!$A$1:$I$150,5,FALSE)","v":2},2,"202","202 Parma S1",4,2,0,3.33,7.32,10.65,{"$f":"VLOOKUP(H93,'[1]JW V3'!$D$1:$F$152,2,FALSE)","v":4.1995523073571039},null,{"$f":"LEFT(H93,3)","v":"202"},{"$f":"F93","v":2},{"$f":"RANK(A93,$A$92:$A$128)","v":2},{"$f":"RANK(B93,$B$92:$B$128)","v":2},null,{"$f":"MOD(Q93,100)","v":2}]
[18.891433806688049,19.145849844581743,19.018641825634894,"AA",{"$f":"VLOOKUP(H94,'[1]Weekly Rankings'!$A$1:$I$150,5,FALSE)","v":3},3,"203","203 No Olmsted S Orange",9,1,0,3.4,6.51,9.91,{"$f":"VLOOKUP(H94,'[1]JW V3'!$D$1:$F$152,2,FALSE)","v":4.1505052023933793},null,"203",3,3,3,null,3]
[17.306459001374257,19.035640409091716,18.171049705232988,"AA",{"$f":"VLOOKUP(H95,'[1]Weekly Rankings'!$A$1:$I$150,5,FALSE)","v":4},4,"217","217 Geauga S1",8,0,1,5,3.18,8.18,{"$f":"VLOOKUP(H95,'[1]JW V3'!$D$1:$F$152,2,FALSE)","v":4.1323699196724384},null,"217",4,4,4,null,17]
[17.0774163994503,18.678602296043877,17.878009347747088,"AA",{"$f":"VLOOKUP(H96,'[1]Weekly Rankings'!$A$1:$I$150,5,FALSE)","v":5},5,"201","201 Strongsville S1",3,2,2,1.42,6.51,7.93,{"$f":"VLOOKUP(H96,'[1]JW V3'!$D$1:$F$152,2,FALSE)","v":4.0736182611281055},null,"201",5,5,5,null,1]
[16.243701328447095,18.476851814586194,17.360276571516643,"AA",{"$f":"VLOOKUP(H97,'[1]Weekly Rankings'!$A$1:$I$150,5,FALSE)","v":8},6,"215","215 Gilmour S1",5,2,1,2,5.0199999999999996,7.02,{"$f":"VLOOKUP(H97,'[1]JW V3'!$D$1:$F$152,2,FALSE)","v":4.0404196334057811},null,"215",6,8,6,null,15]
[16.252863032524051,18.447695031901389,17.350279032212718,"AA",{"$f":"VLOOKUP(H98,'[1]Weekly Rankings'!$A$1:$I$150,5,FALSE)","v":6},7,"213","213 Canton-Akron S1",5,2,0,1.42,5.61,7.03,{"$f":"VLOOKUP(H98,'[1]JW V3'!$D$1:$F$152,2,FALSE)","v":4.0356218001270703},null,"213",7,6,7,null,13]
[16.252863032524051,18.345438347177915,17.299150689850983,"AA",{"$f":"VLOOKUP(H99,'[1]Weekly Rankings'!$A$1:$I$150,5,FALSE)","v":9},8,"207","207 Elyria S1",5,4,1,0.8,6.23,7.03,{"$f":"VLOOKUP(H99,'[1]JW V3'!$D$1:$F$152,2,FALSE)","v":4.0187951656440895},null,"207",8,6,8,null,7]
[16.115437471369674,18.200999849784257,17.158218660576964,"AA",{"$f":"VLOOKUP(H100,'[1]Weekly Rankings'!$A$1:$I$150,5,FALSE)","v":7},9,"209","209 Shaker S1",6,2,0,2.87,4.01,6.88,{"$f":"VLOOKUP(H100,'[1]JW V3'!$D$1:$F$152,2,FALSE)","v":3.9950273913661887},null,"209",9,9,9,null,9]
[14.127347686669722,17.527491541151036,15.827419613910379,"A1",{"$f":"VLOOKUP(H101,'[1]Weekly Rankings'!$A$1:$I$150,5,FALSE)","v":12},10,"212","212 Lake Erie S1",2,7,0,-1.88,6.59,4.71,{"$f":"VLOOKUP(H101,'[1]JW V3'!$D$1:$F$152,2,FALSE)","v":3.8841996429283405},null,"212",10,10,10,null,12]
[13.870819972514889,17.273883901156786,15.572351936835837,"A1",{"$f":"VLOOKUP(H102,'[1]Weekly Rankings'!$A$1:$I$150,5,FALSE)","v":11},11,"210","210 Rocky River S2",6,4,0,0.3,4.13,4.43,{"$f":"VLOOKUP(H102,'[1]JW V3'!$D$1:$F$152,2,FALSE)","v":3.8424677691460594},null,"210",11,11,11,null,10]
[13.1653687585891,17.248845069135946,15.207106913862523,"A1",{"$f":"VLOOKUP(H103,'[1]Weekly Rankings'!$A$1:$I$150,5,FALSE)","v":14},12,"211","211 Mentor S1",2,8,0,-2.2999999999999998,5.96,3.66,{"$f":"VLOOKUP(H103,'[1]JW V3'!$D$1:$F$152,2,FALSE)","v":3.8383475566099814},null,"211",12,13,12,null,11]
[13.202015574896933,17.068455089312799,15.135235332104866,"A1",{"$f":"VLOOKUP(H104,'[1]Weekly Rankings'!$A$1:$I$150,5,FALSE)","v":10},13,"216","216 Shaker S-15",6,3,0,1.77,1.93,3.7,{"$f":"VLOOKUP(H104,'[1]JW V3'!$D$1:$F$152,2,FALSE)","v":3.8086638614746988},null,"216",13,12,14,null,16]
[12.853870819972517,17.111172343820094,14.982521581896306,"A1",{"$f":"VLOOKUP(H105,'[1]Weekly Rankings'!$A$1:$I$150,5,FALSE)","v":13},14,"206","206 Strongsville S2",3,8,0,-1.54,4.8600000000000003,3.32,{"$f":"VLOOKUP(H105,'[1]JW V3'!$D$1:$F$152,2,FALSE)","v":3.8156931097791444},null,"206",14,15,13,null,6]
[12.908841044434265,16.622876009747173,14.765858527090719,"A1",{"$f":"VLOOKUP(H106,'[1]Weekly Rankings'!$A$1:$I$150,5,FALSE)","v":15},15,"205","205 Tri-County S1",1,8,0,-3.88,7.26,3.38,{"$f":"VLOOKUP(H106,'[1]JW V3'!$D$1:$F$152,2,FALSE)","v":3.7353425297163998},null,"205",15,14,15,null,5]
[9.6930829134218968,15.411953254503565,12.552518083962731,"A2",{"$f":"VLOOKUP(H107,'[1]Weekly Rankings'!$A$1:$I$150,5,FALSE)","v":22},16,"208","208 Winterhurst S1",1,8,0,-5.22,5.09,-0.13,{"$f":"VLOOKUP(H107,'[1]JW V3'!$D$1:$F$152,2,FALSE)","v":3.5360816731307541},null,"208",16,16,16,null,8]
[9.106733852496566,15.329125261226048,12.217929556861307,"A2",{"$f":"VLOOKUP(H108,'[1]Weekly Rankings'!$A$1:$I$150,5,FALSE)","v":16},17,"220","220 Wooster S1",5,1,2,3.12,-3.89,-0.77,{"$f":"VLOOKUP(H108,'[1]JW V3'!$D$1:$F$152,2,FALSE)","v":3.5224520862572066},null,"220",17,18,17,null,20]
[9.2166743014200652,15.042472234876804,12.129573268148434,"A2",{"$f":"VLOOKUP(H109,'[1]Weekly Rankings'!$A$1:$I$150,5,FALSE)","v":21},18,"218","218 Rocky River S3",3,3,2,1,-1.65,-0.65,{"$f":"VLOOKUP(H109,'[1]JW V3'!$D$1:$F$152,2,FALSE)","v":3.4752824981675623},null,"218",18,17,19,null,18]
[8.8410444342647736,15.225319432064525,12.033181933164649,"A2",{"$f":"VLOOKUP(H110,'[1]Weekly Rankings'!$A$1:$I$150,5,FALSE)","v":17},19,"221","221 Parma S2",8,0,3,3.9,-4.96,-1.06,{"$f":"VLOOKUP(H110,'[1]JW V3'!$D$1:$F$152,2,FALSE)","v":3.5053705355573461},null,"221",19,19,18,null,21]
[8.2821804855703167,14.60173264084515,11.441956563207732,"A2",{"$f":"VLOOKUP(H111,'[1]Weekly Rankings'!$A$1:$I$150,5,FALSE)","v":18},20,"222","222 Geauga S2",5,4,0,3.11,-4.78,-1.67,{"$f":"VLOOKUP(H111,'[1]JW V3'!$D$1:$F$152,2,FALSE)","v":3.4027575178105041},null,"222",20,21,20,null,22]
[8.3921209344938159,14.248510774216083,11.320315854354948,"A2",{"$f":"VLOOKUP(H112,'[1]Weekly Rankings'!$A$1:$I$150,5,FALSE)","v":23},21,"214","214 Cleveland S1",1,7,0,-6.37,4.82,-1.55,{"$f":"VLOOKUP(H112,'[1]JW V3'!$D$1:$F$152,2,FALSE)","v":3.3446338336989365},null,"214",21,20,21,null,14]
[8.0164910673385261,14.197918523788323,11.107204795563424,"A2",{"$f":"VLOOKUP(H113,'[1]Weekly Rankings'!$A$1:$I$150,5,FALSE)","v":19},22,"223","223 Mentor S2",5,2,1,1,-2.96,-1.96,{"$f":"VLOOKUP(H113,'[1]JW V3'!$D$1:$F$152,2,FALSE)","v":3.336308731942299},null,"223",22,22,22,null,23]
[7.0453504351809446,12.835636150017082,9.9404932925990135,"A2",{"$f":"VLOOKUP(H114,'[1]Weekly Rankings'!$A$1:$I$150,5,FALSE)","v":20},23,"229","229 Gilmour S2",6,1,0,3.57,-6.59,-3.02,{"$f":"VLOOKUP(H114,'[1]JW V3'!$D$1:$F$152,2,FALSE)","v":3.1121412104932737},null,"229",23,23,23,null,29]
[5.2863032524049478,10.944876721173802,8.1155899867893755,"A3",{"$f":"VLOOKUP(H115,'[1]Weekly Rankings'!$A$1:$I$150,5,FALSE)","v":24},24,"228","228 Eastside S1",5,3,0,2.62,-7.56,-4.9400000000000004,{"$f":"VLOOKUP(H115,'[1]JW V3'!$D$1:$F$152,2,FALSE)","v":2.8010112546333685},null,"228",24,24,24,null,28]
[4.058634906092534,9.402561435036187,6.7305981705643605,"A3",{"$f":"VLOOKUP(H116,'[1]Weekly Rankings'!$A$1:$I$150,5,FALSE)","v":27},25,"225","225 Shaker S2",5,4,0,-0.22,-6.06,-6.28,{"$f":"VLOOKUP(H116,'[1]JW V3'!$D$1:$F$152,2,FALSE)","v":2.5472187945362004},null,"225",25,25,25,null,25]
[3.6830050389372433,8.8142459086293172,6.2486254737832798,"A3",{"$f":"VLOOKUP(H117,'[1]Weekly Rankings'!$A$1:$I$150,5,FALSE)","v":26},26,"232","232 Elyria S2",3,3,2,0,-6.69,-6.69,{"$f":"VLOOKUP(H117,'[1]JW V3'!$D$1:$F$152,2,FALSE)","v":2.4504097658621258},null,"232",26,26,26,null,32]
[3.5730645900137441,8.5723721654457812,6.0727183777297622,"A3",{"$f":"VLOOKUP(H118,'[1]Weekly Rankings'!$A$1:$I$150,5,FALSE)","v":25},27,"230","230 Rocky River S4",4,2,1,1.1399999999999999,-7.95,-6.81,{"$f":"VLOOKUP(H118,'[1]JW V3'!$D$1:$F$152,2,FALSE)","v":2.4106087388819759},null,"230",27,27,27,null,30]
[3.3165368758589109,8.3631210690780495,5.8398289724684798,"A3",{"$f":"VLOOKUP(H119,'[1]Weekly Rankings'!$A$1:$I$150,5,FALSE)","v":31},28,"226","226 No Olmsted S Black",4,5,0,-1.66,-5.43,-7.09,{"$f":"VLOOKUP(H119,'[1]JW V3'!$D$1:$F$152,2,FALSE)","v":2.3761758631901393},null,"226",28,28,28,null,26]
[3.1058176820888694,8.204337505626059,5.655077593857464,"A3",{"$f":"VLOOKUP(H120,'[1]Weekly Rankings'!$A$1:$I$150,5,FALSE)","v":35},29,"219","219 Strongsville S3",0,7,1,-3.87,-3.45,-7.32,{"$f":"VLOOKUP(H120,'[1]JW V3'!$D$1:$F$152,2,FALSE)","v":2.3500475666260865},null,"219",29,29,29,null,19]
[2.739349519010537,5.7136204709013665,4.2264849949559515,"B",{"$f":"VLOOKUP(H121,'[1]Weekly Rankings'!$A$1:$I$150,5,FALSE)","v":28},30,"227","227 Canton-Akron S2",3,6,1,-2.5,-5.22,-7.72,{"$f":"VLOOKUP(H121,'[1]JW V3'!$D$1:$F$152,2,FALSE)","v":1.9401928440993319},null,"227",30,30,32,null,27]
[2.3179111314704546,5.7837085008275233,4.0508098161489894,"B",{"$f":"VLOOKUP(H122,'[1]Weekly Rankings'!$A$1:$I$150,5,FALSE)","v":29},31,"234","234 Fremont S1",2,4,0,-0.66,-7.52,-8.18,{"$f":"VLOOKUP(H122,'[1]JW V3'!$D$1:$F$152,2,FALSE)","v":1.9517260329992936},null,"234",31,31,30,null,34]
[2.2354557947778302,5.716057159016918,3.9757564768973741,"B",{"$f":"VLOOKUP(H123,'[1]Weekly Rankings'!$A$1:$I$150,5,FALSE)","v":30},32,"235","235 Tri-County S2",3,5,0,-1.1200000000000001,-7.15,-8.27,{"$f":"VLOOKUP(H123,'[1]JW V3'!$D$1:$F$152,2,FALSE)","v":1.9405938082062781},null,"235",32,32,31,null,35]
[1.7956939990838305,5.3452748563780368,3.5704844277309338,"B",{"$f":"VLOOKUP(H124,'[1]Weekly Rankings'!$A$1:$I$150,5,FALSE)","v":34},33,"224","224 Winterhurst S2",0,9,1,-5.4,-3.35,-8.75,{"$f":"VLOOKUP(H124,'[1]JW V3'!$D$1:$F$152,2,FALSE)","v":1.879580503343774},null,"224",33,33,33,null,24]
[1.383417315620707,3.0666276485855128,2.2250224821031099,"B",{"$f":"VLOOKUP(H125,'[1]Weekly Rankings'!$A$1:$I$150,5,FALSE)","v":32},34,"233","233 Eastside S2",3,3,0,-2.33,-6.87,-9.1999999999999993,{"$f":"VLOOKUP(H125,'[1]JW V3'!$D$1:$F$152,2,FALSE)","v":1.5046224868104356},null,"233",34,34,34,null,33]
[0,0,0,"B",{"$f":"VLOOKUP(H126,'[1]Weekly Rankings'!$A$1:$I$150,5,FALSE)","v":33},35,"231","231 Mentor S3",0,8,2,-4.5,-6.21,-10.71,{"$f":"VLOOKUP(H126,'[1]JW V3'!$D$1:$F$152,2,FALSE)","v":1},null,"231",35,35,35,null,31]
[]
["CSHL 8U RPI V3",null,null,null,null,null,null,"48 teams"]
[null,null,null,null,null,null,null," 8 levels (Red 1, Red 2, Red 3, Red 4,White 1, White 2, White 3, White 4)"]
[null,null,null,null,null,null,null,"V2 (6,6,6,6,6,6,6,6)"]
[null,null,null,null,null,null,null,"V3 (6,6,6,6,6,6,6,6)"]
["Lodin Scaled","Walkush Scaled","RPI","Level","Rank Last Week","Rank",null,"TEAM","W","L","T","AGD","SCHED","Lodin Raw Score","Walkush Raw Score",null,"Team","CSHL Rank","MWYH rank","Walkush Rank","Custom","Ordinal"]
[{"$f":" ((N133 - MIN($N$133:$N$180)) / (MAX($N$133:$N$180) - MIN($N$133:$N$180))) * 20","v":20},{"$f":" ((O133 - MIN($O$133:$O$180)) / (MAX($O$133:$O$180) - MIN($O$133:$O$180))) * 20","v":20},{"$f":"(A133+B133)/2","v":20},"R1",{"$f":"VLOOKUP(H133,'[1]Weekly Rankings'!$A$1:$I$150,5,FALSE)","v":1},1,null,"103 Strongsville M1",6,0,0,6.33,11.08,17.41,{"$f":"VLOOKUP(H133,'[1]JW V3'!$D$1:$F$152,2,FALSE)","v":11.855996685854851},null,{"$f":"LEFT(H133,3)","v":"103"},{"$f":"F133","v":1},{"$f":"RANK(A133,$A$133:$A$180)","v":1},{"$f":"RANK(B133,$B$133:$B$180)","v":1},null,{"$f":"MOD(Q133,100)","v":3}]
[17.244219195438706,19.270745556741296,18.257482376090003,"R1",{"$f":"VLOOKUP(H134,'[1]Weekly Rankings'!$A$1:$I$150,5,FALSE)","v":2},2,null,"101 Gilmour M1",5,4,0,1.55,11.51,13.06,{"$f":"VLOOKUP(H134,'[1]JW V3'!$D$1:$F$152,2,FALSE)","v":11.46015749489678},null,{"$f":"LEFT(H134,3)","v":"101"},{"$f":"F134","v":2},{"$f":"RANK(A134,$A$133:$A$180)","v":2},{"$f":"RANK(B134,$B$133:$B$180)","v":2},null,{"$f":"MOD(Q134,100)","v":1}]
[16.990814063984796,18.82952899929046,17.91017153163763,"R1",{"$f":"VLOOKUP(H135,'[1]Weekly Rankings'!$A$1:$I$150,5,FALSE)","v":3},3,null,"104 Strongsville M2",4,2,1,2,10.66,12.66,{"$f":"VLOOKUP(H135,'[1]JW V3'!$D$1:$F$152,2,FALSE)","v":11.220665220625254},null,"104",3,3,3,null,4]
[16.160912258473232,18.313123973314735,17.237018115893981,"R1",{"$f":"VLOOKUP(H136,'[1]Weekly Rankings'!$A$1:$I$150,5,FALSE)","v":6},4,null,"106 Rocky River M1",4,3,0,0.14000000000000001,11.21,11.35,{"$f":"VLOOKUP(H136,'[1]JW V3'!$D$1:$F$152,2,FALSE)","v":10.94036065809769},null,"106",4,4,4,null,6]
[15.888501742160276,17.98571932415134,16.93711053315581,"R1",{"$f":"VLOOKUP(H137,'[1]Weekly Rankings'!$A$1:$I$150,5,FALSE)","v":4},5,null,"105 Wooster M1",4,4,1,0,10.92,10.92,{"$f":"VLOOKUP(H137,'[1]JW V3'!$D$1:$F$152,2,FALSE)","v":10.762645468785125},null,"105",5,6,6,null,5]
[15.951853025023757,17.770560876863041,16.861206950943398,"R1",{"$f":"VLOOKUP(H138,'[1]Weekly Rankings'!$A$1:$I$150,5,FALSE)","v":5},6,null,"102 Parma M1",3,5,0,-1.37,12.39,11.02,{"$f":"VLOOKUP(H138,'[1]JW V3'!$D$1:$F$152,2,FALSE)","v":10.645857499250353},null,"102",6,5,8,null,2]
[15.622426354133673,18.054537567737484,16.838481960935578,"R2",{"$f":"VLOOKUP(H139,'[1]Weekly Rankings'!$A$1:$I$150,5,FALSE)","v":7},7,null,"109 Canton-Akron M1",5,1,1,1.1399999999999999,9.36,10.5,10.8,null,"109",7,7,5,null,9]
[15.147291732657585,17.82015897620613,16.483725354431858,"R2",{"$f":"VLOOKUP(H140,'[1]Weekly Rankings'!$A$1:$I$150,5,FALSE)","v":9},8,null,"107 No Olmsted M Orange",3,4,1,-0.62,10.37,9.75,{"$f":"VLOOKUP(H140,'[1]JW V3'!$D$1:$F$152,2,FALSE)","v":10.672779339355015},null,"107",8,10,7,null,7]
[15.489388660120367,16.681917790070649,16.085653225095509,"R2",{"$f":"VLOOKUP(H141,'[1]Weekly Rankings'!$A$1:$I$150,5,FALSE)","v":8},9,null,"117 Tri-County MR-Lewis",9,1,0,6,4.29,10.29,{"$f":"VLOOKUP(H141,'[1]JW V3'!$D$1:$F$152,2,FALSE)","v":10.054942212135503},null,"117",9,8,10,null,17]
[15.229648400380107,16.75799815814209,15.993823279261099,"R2",{"$f":"VLOOKUP(H142,'[1]Weekly Rankings'!$A$1:$I$150,5,FALSE)","v":10},10,null,"110 Elyria M1",7,5,0,1.41,8.4700000000000006,9.8800000000000008,{"$f":"VLOOKUP(H142,'[1]JW V3'!$D$1:$F$152,2,FALSE)","v":10.09623862331761},null,"110",10,9,9,null,10]
[14.583465315172631,16.637162848763062,15.610314081967847,"R2",{"$f":"VLOOKUP(H143,'[1]Weekly Rankings'!$A$1:$I$150,5,FALSE)","v":12},11,null,"112 Mentor M1",5,5,0,1.5,7.36,8.86,{"$f":"VLOOKUP(H143,'[1]JW V3'!$D$1:$F$152,2,FALSE)","v":10.030649237409962},null,"112",11,11,11,null,12]
[14.368070953436806,16.581161129845839,15.474616041641323,"R2",{"$f":"VLOOKUP(H144,'[1]Weekly Rankings'!$A$1:$I$150,5,FALSE)","v":11},12,null,"108 Lake Erie M1",2,5,1,-1.75,10.27,8.52,{"$f":"VLOOKUP(H144,'[1]JW V3'!$D$1:$F$152,2,FALSE)","v":10.000251513661587},null,"108",12,12,12,null,8]
[12.872980677858727,15.133365179851113,14.003172928854919,"R3",{"$f":"VLOOKUP(H145,'[1]Weekly Rankings'!$A$1:$I$150,5,FALSE)","v":13},13,null,"111 Geauga M1",4,3,1,0.37,5.79,6.16,{"$f":"VLOOKUP(H145,'[1]JW V3'!$D$1:$F$152,2,FALSE)","v":9.2143881119147437},null,"111",13,13,13,null,11]
[12.290148875514728,13.063737906257167,12.676943390885947,"R3",{"$f":"VLOOKUP(H146,'[1]Weekly Rankings'!$A$1:$I$150,5,FALSE)","v":14},14,null,"114 Parma M2",5,4,1,1.5,3.74,5.24,{"$f":"VLOOKUP(H146,'[1]JW V3'!$D$1:$F$152,2,FALSE)","v":8.0909947707602097},null,"114",14,14,15,null,14]
[11.738992714602471,13.112587152508103,12.425789933555286,"R3",{"$f":"VLOOKUP(H147,'[1]Weekly Rankings'!$A$1:$I$150,5,FALSE)","v":15},15,null,"116 Strongsville M3",5,2,2,1.33,3.04,4.37,{"$f":"VLOOKUP(H147,'[1]JW V3'!$D$1:$F$152,2,FALSE)","v":8.1175101335305442},null,"116",15,16,14,null,16]
[12.271143490655687,12.077849580146836,12.174496535401261,"R3",{"$f":"VLOOKUP(H148,'[1]Weekly Rankings'!$A$1:$I$150,5,FALSE)","v":16},16,null,"121 Rocky River M2",7,0,0,7,-1.79,5.21,{"$f":"VLOOKUP(H148,'[1]JW V3'!$D$1:$F$152,2,FALSE)","v":7.5558547507163727},null,"121",16,15,17,null,21]
[10.833069369654735,12.610708865588061,11.721889117621398,"R3",{"$f":"VLOOKUP(H149,'[1]Weekly Rankings'!$A$1:$I$150,5,FALSE)","v":17},17,null,"113 No Olmsted M Black",3,5,0,-1.5,4.4400000000000004,2.94,{"$f":"VLOOKUP(H149,'[1]JW V3'!$D$1:$F$152,2,FALSE)","v":7.8450906825552185},null,"113",17,18,16,null,13]
[11.377890402280645,11.131104692051743,11.254497547166194,"R3",{"$f":"VLOOKUP(H150,'[1]Weekly Rankings'!$A$1:$I$150,5,FALSE)","v":18},18,null,"122 Gilmour M2",6,2,0,3.37,0.43,3.8,{"$f":"VLOOKUP(H150,'[1]JW V3'!$D$1:$F$152,2,FALSE)","v":7.0419617823408558},null,"122",18,17,19,null,22]
[9.8257839721254356,11.497568583743959,10.661676277934697,"R4",{"$f":"VLOOKUP(H151,'[1]Weekly Rankings'!$A$1:$I$150,5,FALSE)","v":19},19,null,"118 Winterhurst M1",4,4,1,-0.22,1.57,1.35,{"$f":"VLOOKUP(H151,'[1]JW V3'!$D$1:$F$152,2,FALSE)","v":7.2408783220256643},null,"118",19,20,18,null,18]
[9.5597085840988285,11.111968626218873,10.335838605158852,"R4",{"$f":"VLOOKUP(H152,'[1]Weekly Rankings'!$A$1:$I$150,5,FALSE)","v":20},20,null,"115 Shaker M1",2,8,0,-4.0999999999999996,5.03,0.93,{"$f":"VLOOKUP(H152,'[1]JW V3'!$D$1:$F$152,2,FALSE)","v":7.0315747289777581},null,"115",20,21,20,null,15]
[9.8701298701298708,8.5798603035572825,9.2249950868435775,"R4",{"$f":"VLOOKUP(H153,'[1]Weekly Rankings'!$A$1:$I$150,5,FALSE)","v":21},21,null,"120 Shaker M2",1,2,1,-1.25,2.67,1.42,{"$f":"VLOOKUP(H153,'[1]JW V3'!$D$1:$F$152,2,FALSE)","v":5.6571467510257722},null,"120",21,19,24,null,20]
[8.2990180551156154,8.9673078188060789,8.6331629369608471,"R4",{"$f":"VLOOKUP(H154,'[1]Weekly Rankings'!$A$1:$I$150,5,FALSE)","v":22},22,null,"125 Canton-Akron M2",4,3,0,0.85,-1.91,-1.06,{"$f":"VLOOKUP(H154,'[1]JW V3'!$D$1:$F$152,2,FALSE)","v":5.8674531980999545},null,"125",22,25,21,null,25]
[8.5144124168514406,8.742843773197249,8.6286280950243448,"R4",{"$f":"VLOOKUP(H155,'[1]Weekly Rankings'!$A$1:$I$150,5,FALSE)","v":25},23,null,"123 Geauga M2",4,3,1,1.37,-2.09,-0.72,{"$f":"VLOOKUP(H155,'[1]JW V3'!$D$1:$F$152,2,FALSE)","v":5.7456141513388026},null,"123",23,23,22,null,23]
[8.3687044662654415,8.7110085937151354,8.5398565299902884,"R4",{"$f":"VLOOKUP(H156,'[1]Weekly Rankings'!$A$1:$I$150,5,FALSE)","v":24},24,null,"124 Elyria M2",3,5,0,-1.87,0.92,-0.95,{"$f":"VLOOKUP(H156,'[1]JW V3'!$D$1:$F$152,2,FALSE)","v":5.7283340211912321},null,"124",24,24,23,null,24]
[8.8248337028824828,6.6268740535202806,7.7258538782013817,"W1",{"$f":"VLOOKUP(H157,'[1]Weekly Rankings'!$A$1:$I$150,5,FALSE)","v":23},25,null,"133 Rocky River M3",6,1,2,4,-4.2300000000000004,-0.23,{"$f":"VLOOKUP(H157,'[1]JW V3'!$D$1:$F$152,2,FALSE)","v":4.5970661381296836},null,"133",25,22,26,null,33]
[7.2790624010136202,7.8867762468399008,7.5829193239267605,"W1",{"$f":"VLOOKUP(H158,'[1]Weekly Rankings'!$A$1:$I$150,5,FALSE)","v":26},26,null,"119 Strongsville M4",1,10,1,-5.91,3.24,-2.67,{"$f":"VLOOKUP(H158,'[1]JW V3'!$D$1:$F$152,2,FALSE)","v":5.2809408398886362},null,"119",26,28,25,null,19]
[7.5324675324675328,5.9914057291448959,6.7619366308062148,"W1",{"$f":"VLOOKUP(H159,'[1]Weekly Rankings'!$A$1:$I$150,5,FALSE)","v":27},27,null,"130 Mentor M2",5,2,0,1.57,-3.84,-2.27,{"$f":"VLOOKUP(H159,'[1]JW V3'!$D$1:$F$152,2,FALSE)","v":4.2521340369604381},null,"130",27,26,28,null,30]
[6.7152359835286655,5.822927541646262,6.2690817625874633,"W1",{"$f":"VLOOKUP(H160,'[1]Weekly Rankings'!$A$1:$I$150,5,FALSE)","v":30},28,null,"134 Strongsville M5",6,1,1,3.75,-7.31,-3.56,{"$f":"VLOOKUP(H160,'[1]JW V3'!$D$1:$F$152,2,FALSE)","v":4.160684104704238},null,"134",28,29,29,null,34]
[6.0247070003167558,6.2963110271942906,6.1605090137555232,"W1",{"$f":"VLOOKUP(H161,'[1]Weekly Rankings'!$A$1:$I$150,5,FALSE)","v":31},29,null,"132 Parma M3",2,6,0,-1.25,-3.4,-4.6500000000000004,{"$f":"VLOOKUP(H161,'[1]JW V3'!$D$1:$F$152,2,FALSE)","v":4.4176365822166286},null,"132",29,32,27,null,32]
[7.2980677858726644,4.786792145616551,6.0424299657446081,"W1",{"$f":"VLOOKUP(H162,'[1]Weekly Rankings'!$A$1:$I$150,5,FALSE)","v":29},30,null,"143 Mentor M3",7,0,0,7.28,-9.92,-2.64,{"$f":"VLOOKUP(H162,'[1]JW V3'!$D$1:$F$152,2,FALSE)","v":3.5982699834344656},null,"143",30,27,33,null,43]
[6.3731390560658854,5.4259959653170782,5.8995675106914813,"W2",{"$f":"VLOOKUP(H163,'[1]Weekly Rankings'!$A$1:$I$150,5,FALSE)","v":28},31,null,"136 Tri-County MW-Gallagher",4,3,1,2.12,-6.22,-4.0999999999999996,{"$f":"VLOOKUP(H163,'[1]JW V3'!$D$1:$F$152,2,FALSE)","v":3.9452297108472001},null,"136",31,31,31,null,36]
[6.5251821349382331,4.9585517046557417,5.7418669197969869,"W2",{"$f":"VLOOKUP(H164,'[1]Weekly Rankings'!$A$1:$I$150,5,FALSE)","v":32},32,null,"135 Tri-County MW-Fitzwater",7,1,0,4.25,-8.11,-3.86,{"$f":"VLOOKUP(H164,'[1]JW V3'!$D$1:$F$152,2,FALSE)","v":3.6915010436191329},null,"135",32,30,32,null,35]
[5.4038644282546731,5.5863063442562364,5.4950853862554547,"W2",{"$f":"VLOOKUP(H165,'[1]Weekly Rankings'!$A$1:$I$150,5,FALSE)","v":34},33,null,"126 Elyria M3",2,4,0,-3,-2.63,-5.63,{"$f":"VLOOKUP(H165,'[1]JW V3'!$D$1:$F$152,2,FALSE)","v":4.032246157970782},null,"126",33,33,30,null,26]
[5.3911941716819767,4.303232211908937,4.8472131917954568,"W2",{"$f":"VLOOKUP(H166,'[1]Weekly Rankings'!$A$1:$I$150,5,FALSE)","v":33},34,null,"140 Rocky River M4",5,1,1,3.28,-8.93,-5.65,{"$f":"VLOOKUP(H166,'[1]JW V3'!$D$1:$F$152,2,FALSE)","v":3.3357937315473629},null,"140",34,34,34,null,40]
[4.4726005701615463,3.9861630975345252,4.229381833848036,"W2",{"$f":"VLOOKUP(H167,'[1]Weekly Rankings'!$A$1:$I$150,5,FALSE)","v":36},35,null,"127 Geauga M3",4,6,0,-2.2000000000000002,-4.9000000000000004,-7.1,{"$f":"VLOOKUP(H167,'[1]JW V3'!$D$1:$F$152,2,FALSE)","v":3.1636886688055856},null,"127",35,36,35,null,27]
[4.7196705733291102,3.4068328990131298,4.0632517361711198,"W2",{"$f":"VLOOKUP(H168,'[1]Weekly Rankings'!$A$1:$I$150,5,FALSE)","v":35},36,null,"131 No Olmsted M White",3,5,0,-2.12,-4.59,-6.71,{"$f":"VLOOKUP(H168,'[1]JW V3'!$D$1:$F$152,2,FALSE)","v":2.8492283330473906},null,"131",36,35,36,null,31]
[4.1114982578397212,2.9301417485837993,3.5208200032117603,"W3",{"$f":"VLOOKUP(H169,'[1]Weekly Rankings'!$A$1:$I$150,5,FALSE)","v":37},37,null,"148 Canton-Akron M3",5,3,0,1.5,-9.17,-7.67,{"$f":"VLOOKUP(H169,'[1]JW V3'!$D$1:$F$152,2,FALSE)","v":2.5904804555855332},null,"148",37,37,37,null,48]
[3.0345264491605963,2.7591043300183458,2.896815389589471,"W3",{"$f":"VLOOKUP(H170,'[1]Weekly Rankings'!$A$1:$I$150,5,FALSE)","v":41},38,null,"128 Gilmour M3",1,9,0,-6.1,-3.27,-9.3699999999999992,{"$f":"VLOOKUP(H170,'[1]JW V3'!$D$1:$F$152,2,FALSE)","v":2.4976413731303468},null,"128",38,40,38,null,28]
[2.70509977827051,2.3864563558225345,2.5457780670465224,"W3",{"$f":"VLOOKUP(H171,'[1]Weekly Rankings'!$A$1:$I$150,5,FALSE)","v":40},39,null,"146 Eastside M1",5,2,1,0.5,-10.39,-9.89,{"$f":"VLOOKUP(H171,'[1]JW V3'!$D$1:$F$152,2,FALSE)","v":2.2953681144873341},null,"146",39,41,39,null,46]
[3.3132720937598985,1.5023387487332309,2.4078054212465645,"W3",{"$f":"VLOOKUP(H172,'[1]Weekly Rankings'!$A$1:$I$150,5,FALSE)","v":38},40,null,"139 Shaker M3",2,2,0,0,-8.93,-8.93,{"$f":"VLOOKUP(H172,'[1]JW V3'!$D$1:$F$152,2,FALSE)","v":1.815469223863964},null,"139",40,38,43,null,39]
[2.641748495407032,1.95484840006488,2.2982984477359558,"W3",{"$f":"VLOOKUP(H173,'[1]Weekly Rankings'!$A$1:$I$150,5,FALSE)","v":42},41,null,"141 Parma M4",3,4,0,-0.42,-9.57,-9.99,{"$f":"VLOOKUP(H173,'[1]JW V3'!$D$1:$F$152,2,FALSE)","v":2.0610913876226498},null,"141",41,42,41,null,41]
[3.3006018371872035,1.0693698075205651,2.1849858223538843,"W3",{"$f":"VLOOKUP(H174,'[1]Weekly Rankings'!$A$1:$I$150,5,FALSE)","v":39},42,null,"137 Wooster M2",1,5,1,-1.42,-7.53,-8.9499999999999993,{"$f":"VLOOKUP(H174,'[1]JW V3'!$D$1:$F$152,2,FALSE)","v":1.5804537543198247},null,"137",42,39,44,null,37]
[1.8561925878999048,2.1663987338968766,2.0112956608983907,"W4",{"$f":"VLOOKUP(H175,'[1]Weekly Rankings'!$A$1:$I$150,5,FALSE)","v":44},43,null,"129 Gilmour M4",1,6,0,-4.28,-6.95,-11.23,{"$f":"VLOOKUP(H175,'[1]JW V3'!$D$1:$F$152,2,FALSE)","v":2.1759208737712319},null,"129",43,44,40,null,29]
[2.3946784922394673,1.6271343388029558,2.0109064155212115,"W4",{"$f":"VLOOKUP(H176,'[1]Weekly Rankings'!$A$1:$I$150,5,FALSE)","v":43},44,null,"145 Geauga M4",4,4,1,-1.1100000000000001,-9.27,-10.38,{"$f":"VLOOKUP(H176,'[1]JW V3'!$D$1:$F$152,2,FALSE)","v":1.8832082494742757},null,"145",44,43,42,null,45]
[0.9249287298067792,0.58803456019948108,0.7564816450031302,"W4",{"$f":"VLOOKUP(H177,'[1]Weekly Rankings'!$A$1:$I$150,5,FALSE)","v":47},45,null,"147 Cleveland M1",1,4,1,-4.5,-8.1999999999999993,-12.7,{"$f":"VLOOKUP(H177,'[1]JW V3'!$D$1:$F$152,2,FALSE)","v":1.3191850618346841},null,"147",45,45,46,null,47]
[0.72220462464364932,0.7575277661319425,0.73986619538779586,"W4",{"$f":"VLOOKUP(H178,'[1]Weekly Rankings'!$A$1:$I$150,5,FALSE)","v":45},46,null,"144 Lake Erie M2",0,6,0,-4.33,-8.69,-13.02,{"$f":"VLOOKUP(H178,'[1]JW V3'!$D$1:$F$152,2,FALSE)","v":1.4111859459285698},null,"144",46,46,45,null,44]
[0.13303769401330431,0.4981244709703358,0.31558108249182004,"W4",{"$f":"VLOOKUP(H179,'[1]Weekly Rankings'!$A$1:$I$150,5,FALSE)","v":46},47,null,"138 Winterhurst M2",0,8,0,-6.62,-7.33,-13.95,{"$f":"VLOOKUP(H179,'[1]JW V3'!$D$1:$F$152,2,FALSE)","v":1.2703818802998583},null,"138",47,47,47,null,38]
[0,0,0,"W4",{"$f":"VLOOKUP(H180,'[1]Weekly Rankings'!$A$1:$I$150,5,FALSE)","v":48},48,null,"142 No Olmsted M Gray",0,7,0,-6.42,-7.74,-14.16,{"$f":"VLOOKUP(H180,'[1]JW V3'!$D$1:$F$152,2,FALSE)","v":1},null,"142",48,48,48,null,42]

{"sheet":"Teams","index":6,"n_rows":189,"n_cols":8,"rows_kept":189,"cut":false,"hidden":true,"merged":[]}
["Club","Level","Club#","Division","Team","Head_Coach","email","Phone"]
["Strongsville","M",1,null,"#101","Bob Krosky","robert.krosky@spcorp.com","330-321-1200"]
["Parma","M",1,null,"#102","Charlie Petretti","hockeyis4me2@aol.com","330-723-9046"]
["Brooklyn","M",1,null,"#103","Adam Rich","email given is no good","216-351-8195"]
["Rocky River","M",1,null,"#104","Dave Mallett","dmallett@ameritech.net","216-214-4845"]
["Winterhurst","M",1,null,"#105","Joe Geither","joseph.geither@us.abb.com","216-534-1214"]
["Elyria","M",1,null,"#106","Theresa Reid","jtreid@adelphia.net","440-233-4776"]
["Shaker","M",1,null,"#107","Frank Ruane","fruane@olysteel.com"]
["Cleveland Hts.","M",1,null,"#108","Dan Wakefield","dan@drwconsulting.com","216-536-4243"]
["Garfield","M",1,null,"#109","Jen Orlosky","email give is no good","216-883-6355"]
["North Olmsted","M",1,null,"#110","Henry King","hking@peribit.com","440-934-2587"]
["Geauga","M",1,null,"#111","Gary Petre","gpetre@lanly.com","440-543-0333"]
["Parma","M",2,null,"#112","Dennis Blackburn","hockeydriver7840@msn.com","440-845-3646"]
["Rocky River","M",2,null,"#113","Bob Gerlack","gerlack@cox.net","440-331-5607"]
["Tri-County","M",1,null,"#114","Tom Shupe","ktshupe@aol.com","330-297-0253"]
["Strongsville","M",2,null,"#115","Bob Krosky","robert.krosky@spcorp.com","330-321-1200"]
["Columbus","M",1,null,"#116","Mike Lamping","mlamping@champaignbank.com","614-761-2701 "]
["Shaker","M",2,null,"#117","Peter Harrison","peterH@kamansart.com","216-571-6935 "]
["Canton-Akron","M",1,null,"#118","Geoff Bishop","geoff.bishop@timken.com","330-471-7021"]
["Winterhurst","M",2,null,"#119","Rick Thrasher","mi3ninos@hotmail.com","440-967-7083"]
["Cleveland Hts.","M",2,null,"#120","Jon Silver","jonbrowns1@aol.com","440-446-1755"]
["Elyria","M",2,null,"#121","to be determined"]
["Strongsville","M",3,null,"#122","William Camperchioli","william.p.camperchioli@nasa.gov","440-546-1020"]
["C. Skating Club","M",1,null,"#123","E. Macke Bentley","emb4@ebadv.com","440-349-9187"]
["Mentor","M",1,null,"#124","Mary Bruss","bruss@nls.net","440-350-9284"]
["Parma","M",3,null,"#125","Marcus Kane","agoalie27@yahoo.com","440-823-4589 "]
["Rocky River","M",3,null,"#126","Jason Novak","usmdog93@adelphia.net","216-773-0364"]
["Rocky River","M",4,null,"#127","Marc Asmar","email given is no good","440-331-1905"]
["Shaker","M",3,null,"#128","D. Todd Russell","drtanne@ameritech.net"]
["North Olmsted","M",2,null,"#129","Kelly Ligas","drtanne@ameritech.net","216-464-7226"]
["Garfield","M",2,null,"#130","Mike Cordish","mjcordish@aol.com","216-662-4312 "]
["Geauga","M",2,null,"#131","Bill Menges","mengesfam1@aol.com","440-338-3865"]
["Winterhurst","M",3,null,"#132","Annmarie Kovach","kovdanas@sbcglobal.net","216-226-4650"]
["Gilmour","M",1,null,"#133","Chris Bilyk","cbilyk6@hotmail.com","216-229-1793"]
["Strongsville","M",4,null,"#134","Bob Lindsey","wearelindseys@juno.com","330-273-8413"]
["Euclid","M",1,null,"#135","Nate Kallay","nkallay@hotmail.com","440-951-4743"]
["Wooster","M",1,null,"#199","Paul Critzer","critzer@highstream.net","330-624-6302"]
["Mentor","S",1,null,"#201","Mike Hanlon","pc_hanlon@lgca.org","440-392-5061"]
["Brooklyn","S",1,null,"#202","Jason Skufca","jska174@aol.com","216-526-6244"]
["Canton-Akron","S",1,null,"#203","Jeff Holliday","jeff.holliday @worldnet.att.net","330-518-7780"]
["Parma","S",1,null,"#204","Brian Carson","ubrain8@aol.com","216-398-6775"]
["Shaker","S",1,null,"#205","Evan McKee","evan_mckee@progressive.com","440-479-3067"]
["Strongsville","S",1,null,"#206","Dave Jester","dave.jester@permatex.com","440-655-5029 "]
["Cleveland Hts.","S",1,null,"#207","William McGrath","wamcpa@lightstream.net","440-810-0038"]
["Columbus","S",1,null,"#208","Jackie Hays","uhays@bbw.com","614-471-3610 "]
["Elyria","S",1,null,"#209","Brian Rothgery","rothergery@elyriapolice.org"]
["North Olmsted","S",1,null,"#210","Donna Hoy","immohoy@adelphia.net","440-937-6560 "]
["Rocky River","S",1,null,"#211","Dan Straka","djstraka@ameritech.net","440-716-9533"]
["Tri-County","S",1,null,"#212","Martin Maher","mcjmmaher@aol.com","330-608-2951"]
["Winterhurst","S",1,null,"#213","Chris Pulling","cpull62106@aol.com","216-276-4638 "]
["Geauga","S",1,null,"#214","Jim Haluska","jhaluska@alltel.net","216-990-5436"]
["Columbus","S",2,null,"#215","Peggy Murphy","dgoth@columbus.rr.com","614-488-3021"]
["C. Skating Club","S",1,null,"#216","Brandon Wojtowicz","bwojtowicz@sbcglobal.net","216-702-5539 "]
["Garfield","S",1,null,"#217","Tim Reid","timr@enpac.com","440-975-0070 ext. 334"]
["Shaker","S",2,null,"#218","Shannon Blackwell","sblackwell@zeislermorgan.com","216-789-5249 "]
["Strongsville","S",2,null,"#219","Tom Cole","tmc7@hotmail.com","330-772-4744"]
["Winterhurst","S",2,null,"#220","Annmarie Kovach","kovdanas@sbcglobal.net","216-226-4650 "]
["Elyria","S",2,null,"#221","Rick Verlotti","verlotti@alltel.net","440-865-1729 "]
["Tri-County","S",2,null,"#222","Tom Fisher","tfishak@sbcglobal.net","330-867-9410 "]
["Geauga","S",2,null,"#223","Raymond Thomas","dmthom@aol.com","440-255-3749"]
["Mentor","S",2,null,"#224","Gary Campbell","gary_campbell@averydennison.com","440-725-2988 "]
["North Olmsted","S",2,null,"#225"]
["Rocky River","S",2,null,"#226","Murray Drell","murray@paulcoriden.com","800-621-0190 ext. 403"]
["Columbus","S",3,null,"#227","Ed Smallwood","esmallwood@mihomes.com","614-855-0297 "]
["Parma","S",2,null,"#228","Paul Stefunek",null,"440-781-1794 "]
["Youngstown","S",1,null,"#229","Don Allen","dallen2346@msn.com","330-337-3083 "]
["C. Skating Club","S",2,null,"#230","Jim Rosenblatt","rosenrlty@aol.com","216-291-2200"]
["Shaker","S",3,null,"#231","Linda Bodner","labodner@aol.com","440-893-9388"]
["Canton-Akron","S",2,null,"#232","Mark Clendenin","mclenden@neo.rr.com","330-499-3765"]
["Cleveland Hts.","S",2,null,"#233","team folded"]
["Garfield","S",2,null,"#234","Louie Milano","lamservices@wideopenwest.com","216-598-0177"]
["Mentor","S",3,null,"#235","David Shook","dddna5@ameritech.net","440-354-6025"]
["North Olmsted","S",3,null,"#236","Tim Talpas","ttalpas@adelphia.net","440-716-0501"]
["Rocky River","S",3,null,"#237","Brent Figueira","bkfig@juno.com","440-871-1256"]
["Strongsville","S",3,null,"#238","Troy Bennett","tabenne88@yahoo.com","330-220-2341"]
["Elyria","S",3,null,"#239","Kirsten Hill","hill6400@eriecoast.com","440-233-6400 "]
["Shaker","S",4,null,"#240","Chuck Pappas","chuck@netmakers.com","216-496-8486"]
["Shaker","S",5,null,"#241","Robert Kotseos","rkotseos@adelphia.net","800-663-5886 "]
["Euclid","S",1,null,"#242","Chris Linderman","clindy16@aol.com","216-481-5052"]
["Rocky River","S",4,null,"#243","Greg Fife",null,"440-871-2291"]
["Winterhurst","S",3,null,"#244","Alexandru Popaz-Pauna","alexpopaz@ameritech.net","216-281-6548"]
["Canton-Akron","S",3,null,"#245","David Dent","dewey@neo.rr.com","330-478-5288"]
["Garfield","S",3,null,"#246","team folded"]
["Geauga","S",3,null,"#247","Larry Koester","lmkoester@yahoo.com","440-339-9065"]
["Parma","S",3,null,"#248","Kevin Wallace","toppscollector@cox.net","440-315-3814 "]
["Strongsville","S",4,null,"#249","Larry Ciborek","lpciborek@wowway.com","440-572-0826"]
["Tri-County","S",3,null,"#250","Mark Maley","mark.maley@caraustar.com","330-352-1311 "]
["Cleveland Hts.","S",3,null,"#251","Kevin Compton","kdcwindyhillflys@sbcglobal.net","216-321-5865"]
["Mentor","S",4,null,"#252","Tom Mack","tom@jemcomm.com","440-209-1144"]
["Fremont","S",1,null,"#299","David Pulaski","davepulaski@aol.com","419-499-0421"]
["Mentor","P",1,null,"#301","Mike London","mlondon@pscrfheat.com","440-255-0518"]
["North Olmsted","P",1,null,"#302","Lisa Brady","mike.brady@cox.net","440-235-2549"]
["Strongsville","P",1,null,"#303","Carl van Bolderen","cvb@powercart.com","330-722-1840"]
["Euclid","P",1,null,"#304","Charles Petraska","cdpetraska@aol.com","216-731-4818"]
["Parma","P",1,null,"#305","Brad Ashton","b.ashton@cormarkinc.com","330-528-1361"]
["Cleveland Hts.","P",1,null,"#306","Steve Bogas","hat_trick@adelphia.net","216-233-1710"]
["C. Skating Club","P",1,null,"#307","Keith Abood","abood@ameritech.net","440-796-2884"]
["Strongsville","P",2,null,"#308","Ken Larissey","coachlarissey@wideopenwest.com","440-382-4870"]
["Canton-Akron","P",1,null,"#309","Gene Marsh","marshm@anycast.net","330-701-3951"]
["Winterhurst","P",1,null,"#310","Mike Glover","mglov14@aol.com","440-570-4161"]
["Columbus","P",1,null,"#311","Bruce McClary","bmcclary@alldata.net","614-729-5400"]
["Elyria","P",1,null,"#312","Steve Yearley","syearley@comcast.net","440-365-6544"]
["Garfield","P",1,null,"#313","John O'Neil","odawg@core.com","440-590-0199"]
["North Olmsted","P",2,null,"#314","Walter McClain"]
["Rocky River","P",1,null,"#315","Mike Garibaldi","mgaribaldi@mcdinvest.com","216-689-7106"]
["Shaker","P",1,null,"#316","Bill Donoho","wdonoho1@earthlink.net","330-963-4124"]
["Canton-Akron","P",2,null,"#317","Randy Jarvis","rsjarvis@neo.rr.com","330-929-4297 "]
["Elyria","P",2,null,"#318","Dan Rothgery","rothgery23@comcast.net","440-864-3741"]
["Parma","P",2,null,"#319","Doug Carson"]
["Tri-County","P",1,null,"#320","Mark Lowther","allisonlowther@aol.com","330-689-1907"]
["Winterhurst","P",2,null,"#321","Rod Wilson","rdw44011@aol.com","216-570-2712"]
["Columbus","P",2,null,"#322","Ron Walker","walkerdmd@aol.com","614-882-8495"]
["Euclid","P",2,null,"#323","Pam Spaner","dspaner@adelphia.net","440-461-0575"]
["Garfield","P",2,null,"#324","John Bogdan","rambog@cno.us","330-554-1463"]
["Brooklyn","P",1,null,"#325","Tom Bruzek","athockey14@msn.com","216-351-9971"]
["Elyria","P",3,null,"#326","John Reid","jtreid@adelphia.net","440-233-4776"]
["Geauga","P",1,null,"#327","Mark Schwartz","marks@stratos.net","216-241-2550 ext.16"]
["Mentor","P",2,null,"#328","Dan Kral","dkral@davcor.net","440-343-5601"]
["Strongsville","P",3,null,"#329","Ron Koty","koty1171@zoominternet.net","330-725-0807"]
["Youngstown","P",1,null,"#330","Brian Styers","bs3892@aol.com","330-889-9016"]
["North Olmsted","P",3,null,"#331","Roger Galippo","loraindi@apk.net","440-245-1719"]
["Rocky River","P",2,null,"#332","Andy Eggers","andrew_eggers@hotmail.com","440-570-6121"]
["Shaker","P",2,null,"#333","David Balazs","dbalazs@envantage.com","216-403-5280"]
["Cleveland Hts.","P",1,null,"#334","Chris Kendel","hockeyfans5@att.net","216-691-7347"]
["C. Skating Club","P",2,null,"#335","Terry Friguglietti","frigute@yahoo.com","216-561-0706"]
["Strongsville","P",4,null,"#336","Dave Jester","dave.jester@permatex.com","440-655-5029"]
["Winterhurst","P",3,null,"#337","Ron McCann","integritex@ameritech.net","216-221-8240"]
["Youngstown","P",2,null,"#338","Gerald Emery","eme2112@neo.rr.com","330-550-9421"]
["Columbus","P",3,null,"#339","Steve Perry","spseri@aol.com","614-205-7473"]
["Geauga","P",2,null,"#340","Howard Wolsky","howo@adelphia.net","440-349-3383"]
["Parma","P",3,null,"#341","Lisa Durst","lisadurst@adelphia.net","216-351-4280"]
["Rocky River","P",3,null,"#342","Scott Sherman","wssherman@hotmail.com","440-263-8924"]
["Tri-County","P",2,null,"#343","Paul Angus","angusp@ferro.com","330-562-9712"]
["Canton-Akron","P",3,null,"#344","Sue Krienen","sgkriene@hotmail.com","330-830-0783"]
["Mentor","P",3,null,"#345","Jim Widmar","jimw@rsvt.cc","216-701-5849"]
["Rocky River","P",4,null,"#346","Chris Gilbert","cgilbertosu@yahoo.com","216-688-1504"]
["Winterhurst","P",4,null,"#347","team folded"]
["Strongsville","P",5,null,"#348","Matt Dobriansky","coachdobriansky@juno.com","216-749-3968"]
["CYHO","P",1,null,"#399"]
["Columbus","B",1,null,"#401","Bruce Noskowiak","ban@amp.osu.edu","614-327-4128"]
["Parma","B",1,null,"#402","John Coyle","killnitz@yahoo.com","216-355-4205"]
["Strongsville","B",1,null,"#403","Terry Branigan","terryb037@aol.com","440-243-7139"]
["Winterhurst","B",1,null,"#404","Terri O'Neil","mrtponeill1@ameritech.net","216-228-8225"]
["North Olmsted","B",1,null,"#405"]
["C. Skating Club","B",1,null,"#406","Rich Stovsky","richard.p.stovsky@us.pwc.com","216-875-3111"]
["Mentor","B",1,null,"#407","Jeff Smith","jeffsmith@neohockey.com","440-336-2983"]
["Gilmour","B",1,null,"#408","Adam Zangerle","adam_zangerle@steris.com","440-392-7103"]
["Columbus","B",2,null,"#409","Tony Presas","tpresas@insight.rr.com","614-419-1609"]
["Garfield","B",1,null,"#410","Mike Cordish","mjcordish@aol.com","216-662-4312"]
["Youngstown","B",1,null,"#411","Del Sinchak","delbsin@prodigy.net","330-758-8289"]
["Geauga","B",1,null,"#412","Jim Revak","jbrevak@prodigy.net","440-668-3278"]
["Columbus","B",3,null,"#413","Steve Kremer","kremer.2@osu.edu","614-436-0651"]
["Elyria","B",1,null,"#414","Mark Petroff","mpetroff@alltel.net","440-315-3681"]
["Euclid","B",1,null,"#415","Bob Sidak","osu85bucks@aol.com","216-481-8821"]
["Gilmour","B",2,null,"#416","Dick Warren","rwarren@wcof.net","216-391-3337"]
["Rocky River","B",1,null,"#417","Tim Hansen","tim@hansenmachinery.com","440-871-7842"]
["Winterhurst","B",2,null,"#418","Jim Borsuk","jborsuk@nordson.com","440-773-7911"]
["Brooklyn","B",1,null,"#419","Steve Brown","wrasb@sbcglobal.net","216-276-0339"]
["Cleveland Hts.","B",1,null,"#420","Edward Babcox","eddiebabcox@yahoo.com","216-246-7474"]
["North Olmsted","B",2,null,"#421","Les Wilson","sandw816@hotmail.com","440-734-7406"]
["Shaker","B",1,null,"#422","Doug Cross","dcross@woio.com","216-561-1807"]
["Strongsville","B",2,null,"#423","Perry Braun","perry.braun@mmoh.com","440-846-9959"]
["Canton-Akron","B",1,null,"#424","Matthew Brown","mrbrown@jrvmanagement.com","330-324-2497"]
["Garfield","B",2,null,"#425"]
["Tri-County","B",1,null,"#426","Neil Casey","bantamcoach@aol.com","330-958-3441"]
["Mentor","B",2,null,"#427","Cheryl Noviski","vcnoviski@netzero.com","440-974-8671"]
["Columbus","B",4,null,"#428","Bob Shepherd","rshephe1@columbus.rr.com","614-875-2036"]
["Elyria","B",2,null,"#429","Steve Morris","arcsports@eriecoast.com"]
["Rocky River","B",2,null,"#430","Pete Brabenec","brabrnec@comcast.net","440-854-3387"]
["Geauga","B",2,null,"#431","Bill Jarrell","bjarrell@alltel.net","440-552-3559"]
["Parma","B",2,null,"#432","Vicki Iwaszkiw","iwaszkiw@adelphia.net","440-570-7687"]
["C. Skating Club","B",2,null,"#433","Ken Francis-Sable","kjfs@gappelcpa.com","216-410-8402"]
["Euclid","B",2,null,"#434","Tony Verch Jr.","verch@hotmail.com","216-481-6352"]
["Shaker","B",2,null,"#435","Brian Merrill","Bmerrill@nesucleveland.uscg.mil","216-921-4130"]
["Canton-Akron","B",2,null,"#436","Tammie Madden","cntryygirl@aol.com","330-673-6569"]
["Garfield","B",3,null,"#437"]
["Winterhurst","B",3,null,"#438","Rick Sudetic","sudeticr@aetna.com","216-409-4869"]
["Tri-County","B",2,null,"#439","Lynn Buckley","lmbuckley@hotmail.com","330-655-9731"]
["Rocky River","B",3,null,"#440","Pete Wilson","piaw@aol.com","440-333-5821"]
["Mentor","B",3,null,"#441","Jeff Smith","jeffsmith@neohockey.com","440-336-2983"]
["Erie","B",null,null,"#499","Nels White","naw1955@netscape.com","814-899-1159"]
["Wooster","B",null,null,"#498","Paul Frederick","fredyhom@gright.net","419-281-5858"]
["Elyria","H",null,null,"#501","Dave Matson","sherry.matson@oberlin.edu","440-647-3260"]
["Winterhurst","H",null,null,"#502","Kathy Kaltenbach","momstaxi313@aol.com","216-267-2464"]
["Gilmour","H",null,null,"#503","Kevin Anglin","kdrd4@aol.com","216-554-7534"]
["Tri-County","H",null,null,"#504","Jim Reynolds","reynolds@sssnet.com","330-833-0112"]
["Youngstown","H",null,null,"#505","Kristen Hines","khines3@mccus.jnj.com","330-757-7720"]
["Erie Harborcreek","H",null,null,"#506","Bob Bross","rbross@eriepower.com","814-440-3607"]
["Wooster","H",null,null,"#599","Mark Jones","norjones@sssnet.com","330-262-8976"]